BEGIN:VCALENDAR
VERSION:2.0
PRODID:-//The Sensory Village - ECPv6.15.11//NONSGML v1.0//EN
CALSCALE:GREGORIAN
METHOD:PUBLISH
X-WR-CALNAME:The Sensory Village
X-ORIGINAL-URL:https://thesensoryvillage.com
X-WR-CALDESC:Events for The Sensory Village
REFRESH-INTERVAL;VALUE=DURATION:PT1H
X-Robots-Tag:noindex
X-PUBLISHED-TTL:PT1H
BEGIN:VTIMEZONE
TZID:UTC
BEGIN:STANDARD
TZOFFSETFROM:+0000
TZOFFSETTO:+0000
TZNAME:UTC
DTSTART:20240101T000000
END:STANDARD
END:VTIMEZONE
BEGIN:VEVENT
DTSTART;TZID=UTC:20251002T100000
DTEND;TZID=UTC:20251002T110000
DTSTAMP:20260425T145359
CREATED:20250903T145159Z
LAST-MODIFIED:20250903T171759Z
UID:836-1759399200-1759402800@thesensoryvillage.com
SUMMARY:Therapy Dog Visit 10:00 - 11:00 am
DESCRIPTION:We’ll be joined this morning at our 10:00 play session by members of the Alliance of Therapy Dogs. Don’t miss out—pick up your tickets now and enjoy some furry\, friendly fun!
URL:https://thesensoryvillage.com/event/therapy-dog-visit/
END:VEVENT
BEGIN:VEVENT
DTSTART;TZID=UTC:20251006T180000
DTEND;TZID=UTC:20251006T190000
DTSTAMP:20260425T145359
CREATED:20250911T165722Z
LAST-MODIFIED:20250912T181311Z
UID:1082-1759773600-1759777200@thesensoryvillage.com
SUMMARY:Art with Julianne 6:00 - 7:00 pm
DESCRIPTION:Make your own Air-Dry Clay Ghosts! A fun\, hands-on activity that’s full of sensory play—squish\, shape\, and create your spooky masterpiece to take home! Tickets: $25  Material Fee: $5
URL:https://thesensoryvillage.com/event/art-with-julianne-600-700-pm-2/
END:VEVENT
BEGIN:VEVENT
DTSTART;TZID=UTC:20251006T190000
DTEND;TZID=UTC:20251006T200000
DTSTAMP:20260425T145359
CREATED:20250911T165939Z
LAST-MODIFIED:20250927T174930Z
UID:1084-1759777200-1759780800@thesensoryvillage.com
SUMMARY:Sensory for school age (K - 5) 7:00 - 8:00 pm
DESCRIPTION:A special session just for school-age kids! Hands-on activities that spark creativity\, build problem-solving skills\, and engage the senses in a fun\, age-appropriate way.  Tickets: $25
URL:https://thesensoryvillage.com/event/sensory-for-school-age-k-5-700-800-pm/
END:VEVENT
BEGIN:VEVENT
DTSTART;TZID=UTC:20251011T153000
DTEND;TZID=UTC:20251011T170000
DTSTAMP:20260425T145359
CREATED:20250915T155921Z
LAST-MODIFIED:20250917T175955Z
UID:1191-1760196600-1760202000@thesensoryvillage.com
SUMMARY:Eleanor's Birthday 3:30 - 5:00 pm
DESCRIPTION:Happy 4th Birthday Eleanor! Please note the play area will be closed during this time for Eleanor and her group to celebrate!
URL:https://thesensoryvillage.com/event/eleanors-birthday-130-300-pm/
END:VEVENT
BEGIN:VEVENT
DTSTART;TZID=UTC:20251015T180000
DTEND;TZID=UTC:20251015T190000
DTSTAMP:20260425T145359
CREATED:20250911T170143Z
LAST-MODIFIED:20250912T181438Z
UID:1086-1760551200-1760554800@thesensoryvillage.com
SUMMARY:Family Yoga with Karen (Ages 2 - 8) 6:00 - 7:00 pm
DESCRIPTION:Stretch\, breathe\, and play together! A fun way for kids and parents to connect through simple\, mindful movement. Tickets: $25 per pair
URL:https://thesensoryvillage.com/event/family-yoga-with-karen-ages-2-8-600-700-pm/
END:VEVENT
BEGIN:VEVENT
DTSTART;TZID=UTC:20251015T190000
DTEND;TZID=UTC:20251015T200000
DTSTAMP:20260425T145359
CREATED:20250911T170301Z
LAST-MODIFIED:20250912T181735Z
UID:1088-1760554800-1760558400@thesensoryvillage.com
SUMMARY:Teen Time at the Village - 7:00 - 8:00 pm
DESCRIPTION:Hands-on\, sensory fun designed just for middle and high schoolers! Tickets: $25
URL:https://thesensoryvillage.com/event/teen-time-at-the-village-700-800-pm/
END:VEVENT
BEGIN:VEVENT
DTSTART;TZID=UTC:20251015T200000
DTEND;TZID=UTC:20251015T210000
DTSTAMP:20260425T145359
CREATED:20250911T170431Z
LAST-MODIFIED:20250913T183040Z
UID:1090-1760558400-1760562000@thesensoryvillage.com
SUMMARY:Parent Class:  Schedules That Support 8:00 - 9:00 pm
DESCRIPTION:Learn how to create simple routines that reduce stress\, build independence\, and support your child’s success at home and school. Tickets $25
URL:https://thesensoryvillage.com/event/parent-class-schedules-that-support-800-900-pm/
END:VEVENT
BEGIN:VEVENT
DTSTART;TZID=UTC:20251017T170000
DTEND;TZID=UTC:20251017T200000
DTSTAMP:20260425T145359
CREATED:20250927T180234Z
LAST-MODIFIED:20250927T180402Z
UID:1215-1760720400-1760731200@thesensoryvillage.com
SUMMARY:Trunk or Treat
DESCRIPTION:Come join us for Upper Macungie’s Trunk or Treat at Grange Park for a spooky and sensory-filled good time!
URL:https://thesensoryvillage.com/event/trunk-or-treat/
END:VEVENT
BEGIN:VEVENT
DTSTART;TZID=UTC:20251018T120000
DTEND;TZID=UTC:20251018T140000
DTSTAMP:20260425T145359
CREATED:20250927T180730Z
LAST-MODIFIED:20250927T180730Z
UID:1220-1760788800-1760796000@thesensoryvillage.com
SUMMARY:Trunk or Treat
DESCRIPTION:Stop by at Lower Macungie’s Trunk or Treat at Quarry Park for a spooky\, sensory-packed experience the whole family will enjoy!
URL:https://thesensoryvillage.com/event/trunk-or-treat-2/
END:VEVENT
BEGIN:VEVENT
DTSTART;TZID=UTC:20251018T150000
DTEND;TZID=UTC:20251018T170000
DTSTAMP:20260425T145359
CREATED:20250903T144550Z
LAST-MODIFIED:20250912T181831Z
UID:834-1760799600-1760806800@thesensoryvillage.com
SUMMARY:Adaleigh & Graylin's Birthday 3:00 - 5:00 pm
DESCRIPTION:Happy 5th Birthday! Please note the play area will be closed during this time for their group to celebrate!
URL:https://thesensoryvillage.com/event/adaleigh-graylins-birthday/
END:VEVENT
BEGIN:VEVENT
DTSTART;TZID=UTC:20251021T090000
DTEND;TZID=UTC:20251021T200000
DTSTAMP:20260425T145359
CREATED:20251021T131145Z
LAST-MODIFIED:20251021T131250Z
UID:1288-1761037200-1761076800@thesensoryvillage.com
SUMMARY:Open Play
DESCRIPTION:
URL:https://thesensoryvillage.com/event/open-play-900-am-800-pm/
END:VEVENT
BEGIN:VEVENT
DTSTART;TZID=UTC:20251021T120000
DTEND;TZID=UTC:20251021T170000
DTSTAMP:20260425T145359
CREATED:20251021T202052Z
LAST-MODIFIED:20251021T202052Z
UID:1314-1761048000-1761066000@thesensoryvillage.com
SUMMARY:Open Play
DESCRIPTION:
URL:https://thesensoryvillage.com/event/open-play-12/
END:VEVENT
BEGIN:VEVENT
DTSTART;VALUE=DATE:20251022
DTEND;VALUE=DATE:20251023
DTSTAMP:20260425T145359
CREATED:20251021T130501Z
LAST-MODIFIED:20251021T130501Z
UID:1281-1761091200-1761177599@thesensoryvillage.com
SUMMARY:Mothers get in FREE
DESCRIPTION:
URL:https://thesensoryvillage.com/event/mothers-get-in-free/
END:VEVENT
BEGIN:VEVENT
DTSTART;TZID=UTC:20251022T090000
DTEND;TZID=UTC:20251022T160000
DTSTAMP:20260425T145359
CREATED:20251021T200847Z
LAST-MODIFIED:20251021T200847Z
UID:1291-1761123600-1761148800@thesensoryvillage.com
SUMMARY:Open Play
DESCRIPTION:
URL:https://thesensoryvillage.com/event/open-play/
END:VEVENT
BEGIN:VEVENT
DTSTART;TZID=UTC:20251023T090000
DTEND;TZID=UTC:20251023T200000
DTSTAMP:20260425T145359
CREATED:20251021T200941Z
LAST-MODIFIED:20251021T200941Z
UID:1293-1761210000-1761249600@thesensoryvillage.com
SUMMARY:Open Play
DESCRIPTION:
URL:https://thesensoryvillage.com/event/open-play-2/
END:VEVENT
BEGIN:VEVENT
DTSTART;TZID=UTC:20251023T180000
DTEND;TZID=UTC:20251023T190000
DTSTAMP:20260425T145359
CREATED:20250911T170801Z
LAST-MODIFIED:20251021T230654Z
UID:1092-1761242400-1761246000@thesensoryvillage.com
SUMMARY:Art with Julianne 6:00 - 7:00 pm
DESCRIPTION:Make your own Air-Dry Clay Ghosts! A fun\, hands-on activity that’s full of sensory play—squish\, shape\, and create your spooky masterpiece to take home! Tickets $25 + $5 material fee
URL:https://thesensoryvillage.com/event/art-with-julianne-600-700-pm-3/
END:VEVENT
BEGIN:VEVENT
DTSTART;TZID=UTC:20251023T200000
DTEND;TZID=UTC:20251023T210000
DTSTAMP:20260425T145359
CREATED:20250911T171308Z
LAST-MODIFIED:20251021T230800Z
UID:1097-1761249600-1761253200@thesensoryvillage.com
SUMMARY:Sensory and Sip - Adult Night 8:00 - 9:00 pm
DESCRIPTION:A playful night just for grown-ups! Explore our sensory spaces\, relax\, and enjoy some hands-on fun. BYOB and bring a friend!  Tickets $25
URL:https://thesensoryvillage.com/event/sensory-and-sip-adult-night-800-900-pm/
END:VEVENT
BEGIN:VEVENT
DTSTART;TZID=UTC:20251024T090000
DTEND;TZID=UTC:20251024T160000
DTSTAMP:20260425T145359
CREATED:20251021T201223Z
LAST-MODIFIED:20251021T201223Z
UID:1296-1761296400-1761321600@thesensoryvillage.com
SUMMARY:Open Play
DESCRIPTION:
URL:https://thesensoryvillage.com/event/open-play-3/
END:VEVENT
BEGIN:VEVENT
DTSTART;TZID=UTC:20251025T100000
DTEND;TZID=UTC:20251025T170000
DTSTAMP:20260425T145359
CREATED:20251021T201256Z
LAST-MODIFIED:20251021T201256Z
UID:1298-1761386400-1761411600@thesensoryvillage.com
SUMMARY:Open Play
DESCRIPTION:
URL:https://thesensoryvillage.com/event/open-play-4/
END:VEVENT
BEGIN:VEVENT
DTSTART;TZID=UTC:20251026T120000
DTEND;TZID=UTC:20251026T170000
DTSTAMP:20260425T145359
CREATED:20251021T201403Z
LAST-MODIFIED:20251021T201403Z
UID:1300-1761480000-1761498000@thesensoryvillage.com
SUMMARY:Open Play
DESCRIPTION:
URL:https://thesensoryvillage.com/event/open-play-5/
END:VEVENT
BEGIN:VEVENT
DTSTART;TZID=UTC:20251027T090000
DTEND;TZID=UTC:20251027T170000
DTSTAMP:20260425T145359
CREATED:20251021T201505Z
LAST-MODIFIED:20251026T173158Z
UID:1302-1761555600-1761584400@thesensoryvillage.com
SUMMARY:Open Play 9:00 am - 5:00 pm
DESCRIPTION:All ticket sales are handled on-site. Stop by The Sensory Village to purchase your play session passes and join in the fun!
URL:https://thesensoryvillage.com/event/open-play-6/
END:VEVENT
BEGIN:VEVENT
DTSTART;TZID=UTC:20251027T170000
DTEND;TZID=UTC:20251027T180000
DTSTAMP:20260425T145359
CREATED:20250911T171512Z
LAST-MODIFIED:20251021T230515Z
UID:1099-1761584400-1761588000@thesensoryvillage.com
SUMMARY:Equestrian Therapy 5:00 - 6:00 pm
DESCRIPTION:Blu Flame Horsemanship is a horse riding program in Bangor\, PA that offers lessons to students of all ages and abilities. We specialize in therapeutic riding and equine assisted activities\, and foster an environment for growth. In this class\, we will have some of the items you would see\, feel\, hear\, and smell when you come to the barn for a lesson. This is a unique opportunity to interact with some of our equipment and experience the barn in a class setting.  Tickets $25
URL:https://thesensoryvillage.com/event/equestrian-therapy-500-600-pm/
END:VEVENT
BEGIN:VEVENT
DTSTART;TZID=UTC:20251028T090000
DTEND;TZID=UTC:20251028T200000
DTSTAMP:20260425T145359
CREATED:20251021T201533Z
LAST-MODIFIED:20251026T173229Z
UID:1304-1761642000-1761681600@thesensoryvillage.com
SUMMARY:Open Play 9:00 am - 8:00 pm
DESCRIPTION:All ticket sales are handled on-site. Stop by The Sensory Village to purchase your play session passes and join in the fun!
URL:https://thesensoryvillage.com/event/open-play-7/
END:VEVENT
BEGIN:VEVENT
DTSTART;TZID=UTC:20251029T090000
DTEND;TZID=UTC:20251029T160000
DTSTAMP:20260425T145359
CREATED:20251021T201603Z
LAST-MODIFIED:20251026T173306Z
UID:1306-1761728400-1761753600@thesensoryvillage.com
SUMMARY:Open Play 9:00 am - 4:00 pm
DESCRIPTION:All ticket sales are handled on-site. Stop by The Sensory Village to purchase your play session passes and join in the fun!
URL:https://thesensoryvillage.com/event/open-play-8/
END:VEVENT
BEGIN:VEVENT
DTSTART;TZID=UTC:20251029T110000
DTEND;TZID=UTC:20251029T120000
DTSTAMP:20260425T145359
CREATED:20251026T183123Z
LAST-MODIFIED:20251026T183123Z
UID:1428-1761735600-1761739200@thesensoryvillage.com
SUMMARY:Therapy Dog visit 11:00 am - 12:00 pm
DESCRIPTION:Spend an hour with our friendly furry friend\, Ravi — a gentle companion who loves making new friends and brightening everyone’s day!
URL:https://thesensoryvillage.com/event/therapy-dog-visit-1100-am-1200-pm/
END:VEVENT
BEGIN:VEVENT
DTSTART;VALUE=DATE:20251030
DTEND;VALUE=DATE:20251031
DTSTAMP:20260425T145359
CREATED:20251021T130816Z
LAST-MODIFIED:20251026T173519Z
UID:1285-1761782400-1761868799@thesensoryvillage.com
SUMMARY:Disney Day
DESCRIPTION:Wear your favorite Disney apparel and receive $5 off a play session today!
URL:https://thesensoryvillage.com/event/disney-day/
END:VEVENT
BEGIN:VEVENT
DTSTART;TZID=UTC:20251030T090000
DTEND;TZID=UTC:20251030T160000
DTSTAMP:20260425T145359
CREATED:20251021T201636Z
LAST-MODIFIED:20251026T173556Z
UID:1308-1761814800-1761840000@thesensoryvillage.com
SUMMARY:Open Play 9:00 am - 4:00 pm
DESCRIPTION:All ticket sales are handled on-site. Stop by The Sensory Village to purchase your play session passes and join in the fun!
URL:https://thesensoryvillage.com/event/open-play-9/
END:VEVENT
BEGIN:VEVENT
DTSTART;TZID=UTC:20251031T090000
DTEND;TZID=UTC:20251031T160000
DTSTAMP:20260425T145359
CREATED:20251021T201707Z
LAST-MODIFIED:20251026T173750Z
UID:1310-1761901200-1761926400@thesensoryvillage.com
SUMMARY:Open Play 9:00 am - 4:00 pm
DESCRIPTION:All ticket sales are handled on-site. Stop by The Sensory Village to purchase your play session passes and join in the fun!
URL:https://thesensoryvillage.com/event/open-play-10/
END:VEVENT
END:VCALENDAR