BEGIN:VCALENDAR
VERSION:2.0
PRODID:-//The Sensory Village - ECPv6.15.11//NONSGML v1.0//EN
CALSCALE:GREGORIAN
METHOD:PUBLISH
X-ORIGINAL-URL:https://thesensoryvillage.com
X-WR-CALDESC:Events for The Sensory Village
REFRESH-INTERVAL;VALUE=DURATION:PT1H
X-Robots-Tag:noindex
X-PUBLISHED-TTL:PT1H
BEGIN:VTIMEZONE
TZID:UTC
BEGIN:STANDARD
TZOFFSETFROM:+0000
TZOFFSETTO:+0000
TZNAME:UTC
DTSTART:20250101T000000
END:STANDARD
END:VTIMEZONE
BEGIN:VEVENT
DTSTART;TZID=UTC:20260526T110000
DTEND;TZID=UTC:20260526T120000
DTSTAMP:20260425T131341
CREATED:20260422T151536Z
LAST-MODIFIED:20260422T151726Z
UID:2987-1779793200-1779796800@thesensoryvillage.com
SUMMARY:Therapy Dog Visit - 11 AM to 12 PM
DESCRIPTION:Spend an hour with one of our furry friends who loves to cuddle!
URL:https://thesensoryvillage.com/event/therapy-dog-visit-11-am-to-12-pm-21/
END:VEVENT
BEGIN:VEVENT
DTSTART;TZID=UTC:20260527T090000
DTEND;TZID=UTC:20260527T150000
DTSTAMP:20260425T131341
CREATED:20260422T142308Z
LAST-MODIFIED:20260422T142308Z
UID:2955-1779872400-1779894000@thesensoryvillage.com
SUMMARY:Open Play - 9 AM to 3 PM
DESCRIPTION:All ticket sales are handled on-site. Stop by The Sensory Village to purchase your play session passes and join in the fun!
URL:https://thesensoryvillage.com/event/open-play-9-am-to-3-pm-32/
END:VEVENT
BEGIN:VEVENT
DTSTART;TZID=UTC:20260527T110000
DTEND;TZID=UTC:20260527T120000
DTSTAMP:20260425T131341
CREATED:20260422T151844Z
LAST-MODIFIED:20260422T151844Z
UID:2989-1779879600-1779883200@thesensoryvillage.com
SUMMARY:Therapy Dog Visit - 11 AM to 12 PM
DESCRIPTION:Spend an hour with one of our furry friends who loves to cuddle!
URL:https://thesensoryvillage.com/event/therapy-dog-visit-11-am-to-12-pm-22/
END:VEVENT
BEGIN:VEVENT
DTSTART;TZID=UTC:20260528T090000
DTEND;TZID=UTC:20260528T120000
DTSTAMP:20260425T131341
CREATED:20260422T142403Z
LAST-MODIFIED:20260422T153934Z
UID:2957-1779958800-1779969600@thesensoryvillage.com
SUMMARY:Open Play - 9 AM to 12 PM
DESCRIPTION:All ticket sales are handled on-site. Stop by The Sensory Village to purchase your play session passes and join in the fun!
URL:https://thesensoryvillage.com/event/open-play-9-am-to-8-pm-9/
END:VEVENT
BEGIN:VEVENT
DTSTART;TZID=UTC:20260528T100000
DTEND;TZID=UTC:20260528T120000
DTSTAMP:20260425T131341
CREATED:20260422T153051Z
LAST-MODIFIED:20260422T153051Z
UID:2997-1779962400-1779969600@thesensoryvillage.com
SUMMARY:Glow Party - 10 AM to 12 PM
DESCRIPTION:Enjoy two hours of glow party sensory play—with the main lights off\, special glow lighting on\, and upbeat music—all included with your regular sensory play pass!
URL:https://thesensoryvillage.com/event/glow-party-10-am-to-12-pm-9/
END:VEVENT
BEGIN:VEVENT
DTSTART;TZID=UTC:20260528T120000
DTEND;TZID=UTC:20260528T140000
DTSTAMP:20260425T131341
CREATED:20260123T150353Z
LAST-MODIFIED:20260422T154009Z
UID:2254-1779969600-1779976800@thesensoryvillage.com
SUMMARY:Field Trip 12:00 - 2:00 pm
DESCRIPTION:Field Trip Scheduled: The building will be reserved exclusively for this group during their visit.
URL:https://thesensoryvillage.com/event/field-trip-1200-200-pm/
END:VEVENT
BEGIN:VEVENT
DTSTART;TZID=UTC:20260528T140000
DTEND;TZID=UTC:20260528T200000
DTSTAMP:20260425T131341
CREATED:20260422T154115Z
LAST-MODIFIED:20260422T154115Z
UID:3000-1779976800-1779998400@thesensoryvillage.com
SUMMARY:Open Play - 2 PM to 8 PM
DESCRIPTION:All ticket sales are handled on-site. Stop by The Sensory Village to purchase your play session passes and join in the fun!
URL:https://thesensoryvillage.com/event/open-play-2-pm-to-8-pm/
END:VEVENT
BEGIN:VEVENT
DTSTART;TZID=UTC:20260528T180000
DTEND;TZID=UTC:20260528T190000
DTSTAMP:20260425T131341
CREATED:20260422T175023Z
LAST-MODIFIED:20260422T175023Z
UID:3005-1779991200-1779994800@thesensoryvillage.com
SUMMARY:Best Mates Event - 6 PM to 7 PM
DESCRIPTION:Members of the Best Mates club at Emmaus High School will be joining us for a special sensory play event! Our play space will remain open to the public during this time\, and we look forward to everyone enjoying the fun together.
URL:https://thesensoryvillage.com/event/best-mates-event-6-pm-to-7-pm/
END:VEVENT
BEGIN:VEVENT
DTSTART;TZID=UTC:20260529T090000
DTEND;TZID=UTC:20260529T130000
DTSTAMP:20260425T131341
CREATED:20260422T142458Z
LAST-MODIFIED:20260422T142543Z
UID:2959-1780045200-1780059600@thesensoryvillage.com
SUMMARY:Open Play - 9 AM to 1 PM
DESCRIPTION:All ticket sales are handled on-site. Stop by The Sensory Village to purchase your play session passes and join in the fun!
URL:https://thesensoryvillage.com/event/open-play-9-am-to-1-pm-4/
END:VEVENT
BEGIN:VEVENT
DTSTART;TZID=UTC:20260530T090000
DTEND;TZID=UTC:20260530T170000
DTSTAMP:20260425T131341
CREATED:20260422T142618Z
LAST-MODIFIED:20260422T142618Z
UID:2961-1780131600-1780160400@thesensoryvillage.com
SUMMARY:Open Play - 9 AM to 5 PM
DESCRIPTION:All ticket sales are handled on-site. Stop by The Sensory Village to purchase your play session passes and join in the fun!
URL:https://thesensoryvillage.com/event/open-play-9-am-to-5-pm-5/
END:VEVENT
BEGIN:VEVENT
DTSTART;TZID=UTC:20260531T100000
DTEND;TZID=UTC:20260531T113000
DTSTAMP:20260425T131341
CREATED:20260414T211731Z
LAST-MODIFIED:20260414T211731Z
UID:2877-1780221600-1780227000@thesensoryvillage.com
SUMMARY:Birthday Party 10:00 - 11:30 AM
DESCRIPTION:Happy Birthday! Please note the play area will be closed during this time for the group to celebrate!
URL:https://thesensoryvillage.com/event/birthday-party-1000-1130-am-3/
END:VEVENT
BEGIN:VEVENT
DTSTART;TZID=UTC:20260531T120000
DTEND;TZID=UTC:20260531T170000
DTSTAMP:20260425T131341
CREATED:20260422T142659Z
LAST-MODIFIED:20260422T142659Z
UID:2963-1780228800-1780246800@thesensoryvillage.com
SUMMARY:Open Play - 12 PM to 5 PM
DESCRIPTION:All ticket sales are handled on-site. Stop by The Sensory Village to purchase your play session passes and join in the fun!
URL:https://thesensoryvillage.com/event/open-play-12-pm-to-5-pm-5/
END:VEVENT
BEGIN:VEVENT
DTSTART;TZID=UTC:20260604T180000
DTEND;TZID=UTC:20260604T190000
DTSTAMP:20260425T131341
CREATED:20260401T131853Z
LAST-MODIFIED:20260401T131853Z
UID:2772-1780596000-1780599600@thesensoryvillage.com
SUMMARY:Understanding & Uplifting: Empowering Parents of Neurodiverse Children - 6 PM to 7 PM
DESCRIPTION:We’re excited to announce our new support group for parents of neurodivergent children\, led by Colleen Mest—a LCSW and parent of a child with autism. This group offers a welcoming and understanding space to share experiences\, exchange resources\, and find encouragement from others who truly understand the journey. While parents participate in the support group\, their children can enjoy supervised sensory play in the Village\, giving everyone the opportunity for support\, connection\, and fun. With Colleen’s professional expertise and personal insight\, parents can feel supported\, empowered\, and connected as they navigate the joys and challenges of raising neurodivergent kids. \nReserve your spot today by emailing us at thesensoryvillage@gmail.com or visiting https://thesensoryvillage.com/class-booking-form/
URL:https://thesensoryvillage.com/event/understanding-uplifting-empowering-parents-of-neurodiverse-children-6-pm-to-7-pm-3/
END:VEVENT
BEGIN:VEVENT
DTSTART;TZID=UTC:20260606T130000
DTEND;TZID=UTC:20260606T150000
DTSTAMP:20260425T131341
CREATED:20260327T162445Z
LAST-MODIFIED:20260327T162445Z
UID:2732-1780750800-1780758000@thesensoryvillage.com
SUMMARY:Birthday Party 1:00 - 3:00 PM
DESCRIPTION:Happy Birthday! Please note the play area will be closed during this time for the group to celebrate!
URL:https://thesensoryvillage.com/event/birthday-party-100-300-pm-4/
END:VEVENT
BEGIN:VEVENT
DTSTART;TZID=UTC:20260606T153000
DTEND;TZID=UTC:20260606T173000
DTSTAMP:20260425T131341
CREATED:20260414T213649Z
LAST-MODIFIED:20260414T213649Z
UID:2879-1780759800-1780767000@thesensoryvillage.com
SUMMARY:Birthday Party 3:30 - 5:30 PM
DESCRIPTION:Happy Birthday! Please note the play area will be closed during this time for the group to celebrate!
URL:https://thesensoryvillage.com/event/birthday-party-330-530-pm/
END:VEVENT
BEGIN:VEVENT
DTSTART;TZID=UTC:20260618T180000
DTEND;TZID=UTC:20260618T190000
DTSTAMP:20260425T131341
CREATED:20260401T140238Z
LAST-MODIFIED:20260401T140238Z
UID:2832-1781805600-1781809200@thesensoryvillage.com
SUMMARY:Table Talk: Feeding Support Group
DESCRIPTION:Join us for Table Talk: Support for Feeding Challenges\, a parent support group led by the founder of Play to Plate. This welcoming group provides a space for parents to share experiences\, gain expert advice\, and connect with others facing similar challenges around feeding. While parents participate in the group\, children can enjoy supervised sensory play in the Village\, giving everyone the chance to learn\, connect\, and grow together. \nReserve your spot today by emailing us at thesensoryvillage@gmail.com or visiting https://thesensoryvillage.com/class-booking-form/
URL:https://thesensoryvillage.com/event/table-talk-feeding-support-group/
END:VEVENT
BEGIN:VEVENT
DTSTART;VALUE=DATE:20260704
DTEND;VALUE=DATE:20260705
DTSTAMP:20260425T131341
CREATED:20260316T135038Z
LAST-MODIFIED:20260316T135038Z
UID:2670-1783123200-1783209599@thesensoryvillage.com
SUMMARY:CLOSED
DESCRIPTION:The Sensory Village will be closed Saturday\, July 4th. Happy Independence Day!!!
URL:https://thesensoryvillage.com/event/closed-7/
END:VEVENT
BEGIN:VEVENT
DTSTART;TZID=UTC:20260714T100000
DTEND;TZID=UTC:20260714T113000
DTSTAMP:20260425T131341
CREATED:20260328T175435Z
LAST-MODIFIED:20260328T175435Z
UID:2738-1784023200-1784028600@thesensoryvillage.com
SUMMARY:Field Trip 10:00 - 11:30 AM
DESCRIPTION:Field Trip Scheduled: The building will be reserved exclusively for this group during their visit.
URL:https://thesensoryvillage.com/event/field-trip-1000-1130-am/
END:VEVENT
END:VCALENDAR