BEGIN:VCALENDAR
VERSION:2.0
PRODID:-//The Sensory Village - ECPv6.15.11//NONSGML v1.0//EN
CALSCALE:GREGORIAN
METHOD:PUBLISH
X-WR-CALNAME:The Sensory Village
X-ORIGINAL-URL:https://thesensoryvillage.com
X-WR-CALDESC:Events for The Sensory Village
REFRESH-INTERVAL;VALUE=DURATION:PT1H
X-Robots-Tag:noindex
X-PUBLISHED-TTL:PT1H
BEGIN:VTIMEZONE
TZID:UTC
BEGIN:STANDARD
TZOFFSETFROM:+0000
TZOFFSETTO:+0000
TZNAME:UTC
DTSTART:20250101T000000
END:STANDARD
END:VTIMEZONE
BEGIN:VEVENT
DTSTART;TZID=UTC:20260312T130000
DTEND;TZID=UTC:20260312T140000
DTSTAMP:20260425T131048
CREATED:20260203T183509Z
LAST-MODIFIED:20260204T033043Z
UID:2311-1773320400-1773324000@thesensoryvillage.com
SUMMARY:Movement Class with Wildflowers Wellness 1:00 - 2:00 pm
DESCRIPTION:This nature-inspired class invites children to play\, learn\, and grow together in a wild and free environment. Held in a supportive sensory setting\, each session includes stories\, music\, crafts\, and group activities\, along with time to explore The Sensory Village’s immersive environments. Designed to encourage imaginative play and discovery\, the class is led by an experienced occupational therapist who meets children where they are and supports individual needs. \n$30 per session or $250 for the 2-month series (March 5th – April 30th). \nPre-registration is required: https://thesensoryvillage.com/spring-class-booking-form/ \n 
URL:https://thesensoryvillage.com/event/movement-class-with-wildflowers-wellness-2/
END:VEVENT
BEGIN:VEVENT
DTSTART;TZID=UTC:20260312T140000
DTEND;TZID=UTC:20260312T200000
DTSTAMP:20260425T131048
CREATED:20260212T161042Z
LAST-MODIFIED:20260212T161042Z
UID:2489-1773324000-1773345600@thesensoryvillage.com
SUMMARY:Open Play - 2:00 PM to 8:00 PM
DESCRIPTION:All ticket sales are handled on-site. Stop by The Sensory Village to purchase your play session passes and join in the fun!
URL:https://thesensoryvillage.com/event/open-play-200-pm-to-800-pm-2/
END:VEVENT
BEGIN:VEVENT
DTSTART;TZID=UTC:20260312T180000
DTEND;TZID=UTC:20260312T190000
DTSTAMP:20260425T131048
CREATED:20260225T183510Z
LAST-MODIFIED:20260225T183510Z
UID:2603-1773338400-1773342000@thesensoryvillage.com
SUMMARY:FREE Parent Round Table Presented by Mentor Behavioral Health - 6 PM to 7 PM
DESCRIPTION:Join us for this FREE event where childcare will be provided as parents engage in an open and supportive discussion about understanding children’s behaviors\, where we’ll explore common challenges families face\, share practical strategies\, and talk about how to understand and respond to your child’s unique needs—all in a welcoming environment. \nFamilies will also have the opportunity to learn about valuable resources and supports available in our community\, so you never have to navigate these challenges alone. Connect\, share\, and grow with others who understand the journey!
URL:https://thesensoryvillage.com/event/free-parent-round-table-presented-by-mentor-behavioral-health-6-pm-to-7-pm/
END:VEVENT
BEGIN:VEVENT
DTSTART;TZID=UTC:20260313T090000
DTEND;TZID=UTC:20260313T150000
DTSTAMP:20260425T131048
CREATED:20260212T144542Z
LAST-MODIFIED:20260212T144542Z
UID:2447-1773392400-1773414000@thesensoryvillage.com
SUMMARY:Open Play - 9:00 AM to 3:00 PM
DESCRIPTION:All ticket sales are handled on-site. Stop by The Sensory Village to purchase your play session passes and join in the fun!
URL:https://thesensoryvillage.com/event/open-play-900-am-to-300-pm-2/
END:VEVENT
BEGIN:VEVENT
DTSTART;TZID=UTC:20260314T090000
DTEND;TZID=UTC:20260314T170000
DTSTAMP:20260425T131048
CREATED:20260212T144623Z
LAST-MODIFIED:20260212T144623Z
UID:2449-1773478800-1773507600@thesensoryvillage.com
SUMMARY:Open Play - 9:00 AM to 5:00 PM
DESCRIPTION:All ticket sales are handled on-site. Stop by The Sensory Village to purchase your play session passes and join in the fun!
URL:https://thesensoryvillage.com/event/open-play-900-am-to-500-pm/
END:VEVENT
BEGIN:VEVENT
DTSTART;TZID=UTC:20260315T120000
DTEND;TZID=UTC:20260315T170000
DTSTAMP:20260425T131048
CREATED:20260212T144705Z
LAST-MODIFIED:20260212T144705Z
UID:2451-1773576000-1773594000@thesensoryvillage.com
SUMMARY:Open Play - 12:00 PM to 5:00 PM
DESCRIPTION:All ticket sales are handled on-site. Stop by The Sensory Village to purchase your play session passes and join in the fun!
URL:https://thesensoryvillage.com/event/open-play-1200-pm-to-500-pm-3/
END:VEVENT
BEGIN:VEVENT
DTSTART;TZID=UTC:20260316T090000
DTEND;TZID=UTC:20260316T150000
DTSTAMP:20260425T131048
CREATED:20260212T144747Z
LAST-MODIFIED:20260315T173915Z
UID:2453-1773651600-1773673200@thesensoryvillage.com
SUMMARY:Open Play - 9:00 AM to 3:00 PM
DESCRIPTION:All ticket sales are handled on-site. Stop by The Sensory Village to purchase your play session passes and join in the fun!
URL:https://thesensoryvillage.com/event/open-play-900-am-to-100-pm-8/
END:VEVENT
BEGIN:VEVENT
DTSTART;TZID=UTC:20260317T090000
DTEND;TZID=UTC:20260317T150000
DTSTAMP:20260425T131048
CREATED:20260212T144829Z
LAST-MODIFIED:20260315T173949Z
UID:2455-1773738000-1773759600@thesensoryvillage.com
SUMMARY:Open Play - 9:00 AM to 3:00 PM
DESCRIPTION:All ticket sales are handled on-site. Stop by The Sensory Village to purchase your play session passes and join in the fun!
URL:https://thesensoryvillage.com/event/open-play-900-am-to-100-pm-9/
END:VEVENT
BEGIN:VEVENT
DTSTART;TZID=UTC:20260317T090000
DTEND;TZID=UTC:20260317T150000
DTSTAMP:20260425T131048
CREATED:20260212T172744Z
LAST-MODIFIED:20260316T133545Z
UID:2515-1773738000-1773759600@thesensoryvillage.com
SUMMARY:Clover Quest - 9 AM to 3 PM
DESCRIPTION:The first 10 guests to find a hidden four-leaf clover in our play space will get to pick a special prize and receive a $1 off coupon for their next visit. Join the search and see if luck is on your side!
URL:https://thesensoryvillage.com/event/clover-quest-9-am-to-1-pm/
END:VEVENT
BEGIN:VEVENT
DTSTART;TZID=UTC:20260317T110000
DTEND;TZID=UTC:20260317T120000
DTSTAMP:20260425T131048
CREATED:20260212T172327Z
LAST-MODIFIED:20260212T172327Z
UID:2513-1773745200-1773748800@thesensoryvillage.com
SUMMARY:Therapy Dog Visit - 11:00 AM to 12:00 PM
DESCRIPTION:Spend an hour with one of our furry friends who loves to cuddle!
URL:https://thesensoryvillage.com/event/therapy-dog-visit-1100-am-to-1200-pm/
END:VEVENT
BEGIN:VEVENT
DTSTART;TZID=UTC:20260318T090000
DTEND;TZID=UTC:20260318T150000
DTSTAMP:20260425T131048
CREATED:20260212T144910Z
LAST-MODIFIED:20260315T174425Z
UID:2457-1773824400-1773846000@thesensoryvillage.com
SUMMARY:Open Play - 9:00 AM to 3:00 PM
DESCRIPTION:All ticket sales are handled on-site. Stop by The Sensory Village to purchase your play session passes and join in the fun!
URL:https://thesensoryvillage.com/event/open-play-900-am-to-100-pm-10/
END:VEVENT
BEGIN:VEVENT
DTSTART;TZID=UTC:20260318T110000
DTEND;TZID=UTC:20260318T120000
DTSTAMP:20260425T131048
CREATED:20260225T173134Z
LAST-MODIFIED:20260225T173134Z
UID:2591-1773831600-1773835200@thesensoryvillage.com
SUMMARY:Therapy Dog Visit - 11 AM to 12 PM
DESCRIPTION:Spend an hour with one of our furry friends who loves to cuddle!
URL:https://thesensoryvillage.com/event/therapy-dog-visit-11-am-to-12-pm-3/
END:VEVENT
BEGIN:VEVENT
DTSTART;TZID=UTC:20260319T090000
DTEND;TZID=UTC:20260319T200000
DTSTAMP:20260425T131048
CREATED:20260212T145845Z
LAST-MODIFIED:20260315T174722Z
UID:2459-1773910800-1773950400@thesensoryvillage.com
SUMMARY:Open Play - 9:00 AM to 8:00 PM
DESCRIPTION:All ticket sales are handled on-site. Stop by The Sensory Village to purchase your play session passes and join in the fun!
URL:https://thesensoryvillage.com/event/open-play-900-am-to-800-pm-3/
END:VEVENT
BEGIN:VEVENT
DTSTART;TZID=UTC:20260319T180000
DTEND;TZID=UTC:20260319T190000
DTSTAMP:20260425T131048
CREATED:20260212T171644Z
LAST-MODIFIED:20260212T171644Z
UID:2511-1773943200-1773946800@thesensoryvillage.com
SUMMARY:Table Talk: Feeding Support Group - 6:00 PM to 7:00 PM
DESCRIPTION:Join us for Table Talk: Support for Feeding Challenges\, a parent support group led by the founder of Play to Plate. This welcoming group provides a space for parents to share experiences\, gain expert advice\, and connect with others facing similar challenges around feeding. While parents participate in the group\, children can enjoy supervised sensory play in the Village\, giving everyone the chance to learn\, connect\, and grow together. \nReserve your spot today by emailing us at thesensoryvillage@gmail.com or visiting https://thesensoryvillage.com/class-booking-form/
URL:https://thesensoryvillage.com/event/table-talk-feeding-support-group-600-pm-to-700-pm/
END:VEVENT
BEGIN:VEVENT
DTSTART;TZID=UTC:20260320T090000
DTEND;TZID=UTC:20260320T110000
DTSTAMP:20260425T131048
CREATED:20260212T151531Z
LAST-MODIFIED:20260212T151531Z
UID:2461-1773997200-1774004400@thesensoryvillage.com
SUMMARY:Open Play - 9:00 AM to 11:00 AM
DESCRIPTION:All ticket sales are handled on-site. Stop by The Sensory Village to purchase your play session passes and join in the fun!
URL:https://thesensoryvillage.com/event/open-play-900-am-to-1100-am/
END:VEVENT
BEGIN:VEVENT
DTSTART;TZID=UTC:20260320T110000
DTEND;TZID=UTC:20260320T140000
DTSTAMP:20260425T131048
CREATED:20260212T171016Z
LAST-MODIFIED:20260212T171127Z
UID:2508-1774004400-1774015200@thesensoryvillage.com
SUMMARY:Field Trip - 11:00 AM to 2:00 PM
DESCRIPTION:Field Trip Scheduled: The building will be reserved exclusively for this group during their visit.
URL:https://thesensoryvillage.com/event/reading-school-district-field-trip-1100-am-to-200-pm/
END:VEVENT
BEGIN:VEVENT
DTSTART;TZID=UTC:20260321T090000
DTEND;TZID=UTC:20260321T130000
DTSTAMP:20260425T131048
CREATED:20260212T151644Z
LAST-MODIFIED:20260224T185511Z
UID:2463-1774083600-1774098000@thesensoryvillage.com
SUMMARY:Open Play - 9:00 AM to 1:00 PM
DESCRIPTION:All ticket sales are handled on-site. Stop by The Sensory Village to purchase your play session passes and join in the fun!
URL:https://thesensoryvillage.com/event/open-play-900-am-to-500-pm-2/
END:VEVENT
BEGIN:VEVENT
DTSTART;TZID=UTC:20260321T130000
DTEND;TZID=UTC:20260321T150000
DTSTAMP:20260425T131048
CREATED:20260224T185124Z
LAST-MODIFIED:20260224T185124Z
UID:2578-1774098000-1774105200@thesensoryvillage.com
SUMMARY:Birthday Party 1:00 – 3:00 pm
DESCRIPTION:Happy Birthday! Please note the play area will be closed during this time for the group to celebrate!
URL:https://thesensoryvillage.com/event/birthday-party-100-300-pm-3/
END:VEVENT
BEGIN:VEVENT
DTSTART;TZID=UTC:20260321T153000
DTEND;TZID=UTC:20260321T170000
DTSTAMP:20260425T131048
CREATED:20260224T184836Z
LAST-MODIFIED:20260224T185438Z
UID:2575-1774107000-1774112400@thesensoryvillage.com
SUMMARY:Arie's Birthday Party 3:30 - 5:00 pm
DESCRIPTION:Happy Birthday Arie! Please note the play area will be closed during this time for Arie and her group to celebrate!
URL:https://thesensoryvillage.com/event/happy-birthday-arie/
END:VEVENT
BEGIN:VEVENT
DTSTART;TZID=UTC:20260322T100000
DTEND;TZID=UTC:20260322T120000
DTSTAMP:20260425T131048
CREATED:20260225T182828Z
LAST-MODIFIED:20260319T203321Z
UID:2600-1774173600-1774180800@thesensoryvillage.com
SUMMARY:Abby Care Play Date - 10 AM to 12 PM
DESCRIPTION:In partnership with Abby Care\, we are excited to host a special morning of support and sensory play for families with children navigating a variety of developmental challenges. \nRegistration is required. Please sign up here: The Sensory Village | Class Booking Form
URL:https://thesensoryvillage.com/event/abby-care-play-date-10-am-to-12-pm/
END:VEVENT
BEGIN:VEVENT
DTSTART;TZID=UTC:20260322T120000
DTEND;TZID=UTC:20260322T153000
DTSTAMP:20260425T131048
CREATED:20260212T151730Z
LAST-MODIFIED:20260224T185623Z
UID:2465-1774180800-1774193400@thesensoryvillage.com
SUMMARY:Open Play - 12:00 PM to 3:30 PM
DESCRIPTION:All ticket sales are handled on-site. Stop by The Sensory Village to purchase your play session passes and join in the fun!
URL:https://thesensoryvillage.com/event/open-play-1200-pm-to-500-pm-4/
END:VEVENT
BEGIN:VEVENT
DTSTART;TZID=UTC:20260322T153000
DTEND;TZID=UTC:20260322T170000
DTSTAMP:20260425T131048
CREATED:20260224T185330Z
LAST-MODIFIED:20260224T185330Z
UID:2580-1774193400-1774198800@thesensoryvillage.com
SUMMARY:Birthday Party 3:30 – 5:00 pm
DESCRIPTION:Happy Birthday! Please note the play area will be closed during this time for the group to celebrate!
URL:https://thesensoryvillage.com/event/birthday-party-330-500-pm-2/
END:VEVENT
BEGIN:VEVENT
DTSTART;TZID=UTC:20260323T090000
DTEND;TZID=UTC:20260323T150000
DTSTAMP:20260425T131048
CREATED:20260212T151838Z
LAST-MODIFIED:20260315T174935Z
UID:2467-1774256400-1774278000@thesensoryvillage.com
SUMMARY:Open Play - 9:00 AM to 3:00 PM
DESCRIPTION:All ticket sales are handled on-site. Stop by The Sensory Village to purchase your play session passes and join in the fun!
URL:https://thesensoryvillage.com/event/open-play-900-am-to-100-pm-11/
END:VEVENT
BEGIN:VEVENT
DTSTART;TZID=UTC:20260324T090000
DTEND;TZID=UTC:20260324T150000
DTSTAMP:20260425T131048
CREATED:20260212T151925Z
LAST-MODIFIED:20260315T175009Z
UID:2469-1774342800-1774364400@thesensoryvillage.com
SUMMARY:Open Play - 9:00 AM to 3:00 PM
DESCRIPTION:All ticket sales are handled on-site. Stop by The Sensory Village to purchase your play session passes and join in the fun!
URL:https://thesensoryvillage.com/event/open-play-900-am-to-100-pm-12/
END:VEVENT
BEGIN:VEVENT
DTSTART;TZID=UTC:20260324T110000
DTEND;TZID=UTC:20260324T120000
DTSTAMP:20260425T131048
CREATED:20260225T181452Z
LAST-MODIFIED:20260225T181452Z
UID:2598-1774350000-1774353600@thesensoryvillage.com
SUMMARY:Therapy Dog Visit - 11 AM to 12 PM
DESCRIPTION:Spend an hour with one of our furry friends who loves to cuddle!
URL:https://thesensoryvillage.com/event/therapy-dog-visit-11-am-to-12-pm-6/
END:VEVENT
BEGIN:VEVENT
DTSTART;TZID=UTC:20260325T090000
DTEND;TZID=UTC:20260325T150000
DTSTAMP:20260425T131048
CREATED:20260212T152007Z
LAST-MODIFIED:20260315T175515Z
UID:2471-1774429200-1774450800@thesensoryvillage.com
SUMMARY:Open Play - 9:00 AM to 3:00 PM
DESCRIPTION:All ticket sales are handled on-site. Stop by The Sensory Village to purchase your play session passes and join in the fun!
URL:https://thesensoryvillage.com/event/open-play-900-am-to-100-pm-13/
END:VEVENT
BEGIN:VEVENT
DTSTART;TZID=UTC:20260325T090000
DTEND;TZID=UTC:20260325T150000
DTSTAMP:20260425T131048
CREATED:20260212T170701Z
LAST-MODIFIED:20260316T133353Z
UID:2505-1774429200-1774450800@thesensoryvillage.com
SUMMARY:Pajama Day - 9 AM to 3 PM
DESCRIPTION:Visit The Sensory Village today in your pajamas and receive $5 off your admission—limit one discount per group. Cozy up and play in comfort while you save!
URL:https://thesensoryvillage.com/event/pajama-day-9-am-to-1-pm/
END:VEVENT
BEGIN:VEVENT
DTSTART;TZID=UTC:20260325T110000
DTEND;TZID=UTC:20260325T120000
DTSTAMP:20260425T131048
CREATED:20260225T173218Z
LAST-MODIFIED:20260225T173218Z
UID:2593-1774436400-1774440000@thesensoryvillage.com
SUMMARY:Therapy Dog Visit - 11 AM to 12 PM
DESCRIPTION:Spend an hour with one of our furry friends who loves to cuddle!
URL:https://thesensoryvillage.com/event/therapy-dog-visit-11-am-to-12-pm-4/
END:VEVENT
BEGIN:VEVENT
DTSTART;TZID=UTC:20260326T090000
DTEND;TZID=UTC:20260326T180000
DTSTAMP:20260425T131048
CREATED:20260212T153620Z
LAST-MODIFIED:20260315T180505Z
UID:2473-1774515600-1774548000@thesensoryvillage.com
SUMMARY:Open Play - 9:00 AM to 6:00 PM
DESCRIPTION:All ticket sales are handled on-site. Stop by The Sensory Village to purchase your play session passes and join in the fun!
URL:https://thesensoryvillage.com/event/open-play-900-am-to-800-pm-4/
END:VEVENT
BEGIN:VEVENT
DTSTART;TZID=UTC:20260327T090000
DTEND;TZID=UTC:20260327T150000
DTSTAMP:20260425T131048
CREATED:20260212T153733Z
LAST-MODIFIED:20260317T143024Z
UID:2475-1774602000-1774623600@thesensoryvillage.com
SUMMARY:Open Play - 9:00 AM to 3:00 PM
DESCRIPTION:All ticket sales are handled on-site. Stop by The Sensory Village to purchase your play session passes and join in the fun!
URL:https://thesensoryvillage.com/event/open-play-900-am-to-400-pm/
END:VEVENT
END:VCALENDAR