BEGIN:VCALENDAR
VERSION:2.0
PRODID:-//The Sensory Village - ECPv6.15.11//NONSGML v1.0//EN
CALSCALE:GREGORIAN
METHOD:PUBLISH
X-WR-CALNAME:The Sensory Village
X-ORIGINAL-URL:https://thesensoryvillage.com
X-WR-CALDESC:Events for The Sensory Village
REFRESH-INTERVAL;VALUE=DURATION:PT1H
X-Robots-Tag:noindex
X-PUBLISHED-TTL:PT1H
BEGIN:VTIMEZONE
TZID:UTC
BEGIN:STANDARD
TZOFFSETFROM:+0000
TZOFFSETTO:+0000
TZNAME:UTC
DTSTART:20250101T000000
END:STANDARD
END:VTIMEZONE
BEGIN:VEVENT
DTSTART;TZID=UTC:20260501T090000
DTEND;TZID=UTC:20260501T150000
DTSTAMP:20260425T150944
CREATED:20260422T135619Z
LAST-MODIFIED:20260422T135619Z
UID:2905-1777626000-1777647600@thesensoryvillage.com
SUMMARY:Open Play - 9 AM to 3 PM
DESCRIPTION:All ticket sales are handled on-site. Stop by The Sensory Village to purchase your play session passes and join in the fun!
URL:https://thesensoryvillage.com/event/open-play-9-am-to-3-pm-17/
END:VEVENT
BEGIN:VEVENT
DTSTART;TZID=UTC:20260430T180000
DTEND;TZID=UTC:20260430T210000
DTSTAMP:20260425T150944
CREATED:20260401T142641Z
LAST-MODIFIED:20260401T142641Z
UID:2840-1777572000-1777582800@thesensoryvillage.com
SUMMARY:The Kindness Project's 4th Annual Pairing & Caring Event at Domaine Pterion - 6 PM to 9 PM
DESCRIPTION:We will be closing early to participate in The Kindness Project’s 4th Annual Pairing & Caring event at Domaine Pterion! Join us or consider making a donation to support this wonderful cause and help make a difference for families in need.
URL:https://thesensoryvillage.com/event/the-kindness-projects-4th-annual-pairing-caring-event-at-domaine-pterion-6-pm-to-9-pm/
END:VEVENT
BEGIN:VEVENT
DTSTART;TZID=UTC:20260430T100000
DTEND;TZID=UTC:20260430T120000
DTSTAMP:20260425T150944
CREATED:20260316T183157Z
LAST-MODIFIED:20260316T183157Z
UID:2693-1777543200-1777550400@thesensoryvillage.com
SUMMARY:Glow Party - 10 AM to 12 PM
DESCRIPTION:Enjoy two hours of glow party sensory play—with the main lights off\, special glow lighting on\, and upbeat music—all included with your regular sensory play pass!
URL:https://thesensoryvillage.com/event/glow-party-10-am-to-12-pm-5/
END:VEVENT
BEGIN:VEVENT
DTSTART;TZID=UTC:20260430T090000
DTEND;TZID=UTC:20260430T200000
DTSTAMP:20260425T150944
CREATED:20260401T135656Z
LAST-MODIFIED:20260422T135008Z
UID:2826-1777539600-1777579200@thesensoryvillage.com
SUMMARY:Open Play - 9 AM to 8 PM
DESCRIPTION:All ticket sales are handled on-site. Stop by The Sensory Village to purchase your play session passes and join in the fun!
URL:https://thesensoryvillage.com/event/open-play-9-am-to-6-pm/
END:VEVENT
BEGIN:VEVENT
DTSTART;TZID=UTC:20260429T140000
DTEND;TZID=UTC:20260429T150000
DTSTAMP:20260425T150944
CREATED:20260422T134834Z
LAST-MODIFIED:20260422T134834Z
UID:2899-1777471200-1777474800@thesensoryvillage.com
SUMMARY:Open Play - 2 PM to 3 PM
DESCRIPTION:All ticket sales are handled on-site. Stop by The Sensory Village to purchase your play session passes and join in the fun!
URL:https://thesensoryvillage.com/event/open-play-2-pm-to-3-pm/
END:VEVENT
BEGIN:VEVENT
DTSTART;TZID=UTC:20260429T100000
DTEND;TZID=UTC:20260429T140000
DTSTAMP:20260425T150944
CREATED:20260422T134937Z
LAST-MODIFIED:20260422T134937Z
UID:2901-1777456800-1777471200@thesensoryvillage.com
SUMMARY:Field Trip - 10 AM to 2 PM
DESCRIPTION:Field Trip Scheduled: The building will be reserved exclusively for this group during their visit.
URL:https://thesensoryvillage.com/event/field-trip-10-am-to-2-pm/
END:VEVENT
BEGIN:VEVENT
DTSTART;TZID=UTC:20260429T090000
DTEND;TZID=UTC:20260429T100000
DTSTAMP:20260425T150944
CREATED:20260401T135607Z
LAST-MODIFIED:20260422T134738Z
UID:2824-1777453200-1777456800@thesensoryvillage.com
SUMMARY:Open Play - 9 AM to 10 AM
DESCRIPTION:All ticket sales are handled on-site. Stop by The Sensory Village to purchase your play session passes and join in the fun!
URL:https://thesensoryvillage.com/event/open-play-9-am-to-3-pm-16/
END:VEVENT
BEGIN:VEVENT
DTSTART;TZID=UTC:20260428T110000
DTEND;TZID=UTC:20260428T120000
DTSTAMP:20260425T150944
CREATED:20260401T132636Z
LAST-MODIFIED:20260401T132636Z
UID:2786-1777374000-1777377600@thesensoryvillage.com
SUMMARY:Therapy Dog Visit - 11 AM to 12 PM
DESCRIPTION:Spend an hour with one of our furry friends who loves to cuddle!
URL:https://thesensoryvillage.com/event/therapy-dog-visit-11-am-to-12-pm-14/
END:VEVENT
BEGIN:VEVENT
DTSTART;TZID=UTC:20260428T090000
DTEND;TZID=UTC:20260428T150000
DTSTAMP:20260425T150944
CREATED:20260401T135518Z
LAST-MODIFIED:20260401T135518Z
UID:2822-1777366800-1777388400@thesensoryvillage.com
SUMMARY:Open Play - 9 AM to 3 PM
DESCRIPTION:All ticket sales are handled on-site. Stop by The Sensory Village to purchase your play session passes and join in the fun!
URL:https://thesensoryvillage.com/event/open-play-9-am-to-3-pm-15/
END:VEVENT
BEGIN:VEVENT
DTSTART;TZID=UTC:20260427T100000
DTEND;TZID=UTC:20260427T110000
DTSTAMP:20260425T150944
CREATED:20260316T180927Z
LAST-MODIFIED:20260316T181051Z
UID:2679-1777284000-1777287600@thesensoryvillage.com
SUMMARY:Ms Rachel's Sensory Hour - 10 AM to 11 AM
DESCRIPTION:Experience bubbles\, giggles\, sensory play\, and endless fun during Sensory Hour with Ms. Rachel at The Sensory Village—all included with your sensory play purchase!
URL:https://thesensoryvillage.com/event/ms-raches-sensory-hour-10-am-to-11-am/
END:VEVENT
BEGIN:VEVENT
DTSTART;TZID=UTC:20260427T090000
DTEND;TZID=UTC:20260427T150000
DTSTAMP:20260425T150944
CREATED:20260401T135354Z
LAST-MODIFIED:20260401T135354Z
UID:2820-1777280400-1777302000@thesensoryvillage.com
SUMMARY:Open Play - 9 AM to 3 PM
DESCRIPTION:All ticket sales are handled on-site. Stop by The Sensory Village to purchase your play session passes and join in the fun!
URL:https://thesensoryvillage.com/event/open-play-9-am-to-3-pm-14/
END:VEVENT
BEGIN:VEVENT
DTSTART;TZID=UTC:20260426T153000
DTEND;TZID=UTC:20260426T170000
DTSTAMP:20260425T150944
CREATED:20260226T222214Z
LAST-MODIFIED:20260226T222214Z
UID:2607-1777217400-1777222800@thesensoryvillage.com
SUMMARY:Birthday Party 3:30 - 5:00 pm
DESCRIPTION:Happy Birthday! Please note the play area will be closed during this time for the group to celebrate!
URL:https://thesensoryvillage.com/event/birthday-party-330-500-pm-3/
END:VEVENT
BEGIN:VEVENT
DTSTART;TZID=UTC:20260426T120000
DTEND;TZID=UTC:20260426T153000
DTSTAMP:20260425T150944
CREATED:20260401T135313Z
LAST-MODIFIED:20260401T135313Z
UID:2818-1777204800-1777217400@thesensoryvillage.com
SUMMARY:Open Play - 12 PM to 3:30 PM
DESCRIPTION:All ticket sales are handled on-site. Stop by The Sensory Village to purchase your play session passes and join in the fun!
URL:https://thesensoryvillage.com/event/open-play-12-pm-to-330-pm-2/
END:VEVENT
BEGIN:VEVENT
DTSTART;TZID=UTC:20260425T150000
DTEND;TZID=UTC:20260425T170000
DTSTAMP:20260425T150944
CREATED:20260307T162936Z
LAST-MODIFIED:20260401T142800Z
UID:2633-1777129200-1777136400@thesensoryvillage.com
SUMMARY:Carley's Birthday Party - 3 PM to 5 PM
DESCRIPTION:Happy 6th Birthday Carley! Please note the play area will be closed during this time for Carley and her group to celebrate!
URL:https://thesensoryvillage.com/event/carleys-birthday-party/
END:VEVENT
BEGIN:VEVENT
DTSTART;TZID=UTC:20260425T090000
DTEND;TZID=UTC:20260425T150000
DTSTAMP:20260425T150944
CREATED:20260401T135224Z
LAST-MODIFIED:20260401T135224Z
UID:2816-1777107600-1777129200@thesensoryvillage.com
SUMMARY:Open Play - 9 AM to 3 PM
DESCRIPTION:All ticket sales are handled on-site. Stop by The Sensory Village to purchase your play session passes and join in the fun!
URL:https://thesensoryvillage.com/event/open-play-9-am-to-3-pm-13/
END:VEVENT
BEGIN:VEVENT
DTSTART;TZID=UTC:20260424T090000
DTEND;TZID=UTC:20260424T150000
DTSTAMP:20260425T150944
CREATED:20260401T135142Z
LAST-MODIFIED:20260401T135142Z
UID:2814-1777021200-1777042800@thesensoryvillage.com
SUMMARY:Open Play - 9 AM to 3 PM
DESCRIPTION:All ticket sales are handled on-site. Stop by The Sensory Village to purchase your play session passes and join in the fun!
URL:https://thesensoryvillage.com/event/open-play-9-am-to-3-pm-12/
END:VEVENT
BEGIN:VEVENT
DTSTART;TZID=UTC:20260423T100000
DTEND;TZID=UTC:20260423T120000
DTSTAMP:20260425T150944
CREATED:20260316T183118Z
LAST-MODIFIED:20260316T183118Z
UID:2691-1776938400-1776945600@thesensoryvillage.com
SUMMARY:Glow Party - 10 AM to 12 PM
DESCRIPTION:Enjoy two hours of glow party sensory play—with the main lights off\, special glow lighting on\, and upbeat music—all included with your regular sensory play pass!
URL:https://thesensoryvillage.com/event/glow-party-10-am-to-12-pm-4/
END:VEVENT
BEGIN:VEVENT
DTSTART;TZID=UTC:20260423T090000
DTEND;TZID=UTC:20260423T200000
DTSTAMP:20260425T150944
CREATED:20260401T135045Z
LAST-MODIFIED:20260401T135102Z
UID:2812-1776934800-1776974400@thesensoryvillage.com
SUMMARY:Open Play - 9 AM to 8 PM
DESCRIPTION:All ticket sales are handled on-site. Stop by The Sensory Village to purchase your play session passes and join in the fun!
URL:https://thesensoryvillage.com/event/open-play-9-am-to-8-pm-5/
END:VEVENT
BEGIN:VEVENT
DTSTART;TZID=UTC:20260422T110000
DTEND;TZID=UTC:20260422T120000
DTSTAMP:20260425T150944
CREATED:20260422T151247Z
LAST-MODIFIED:20260422T151247Z
UID:2983-1776855600-1776859200@thesensoryvillage.com
SUMMARY:Therapy Dog Visit - 11 AM to 12 PM
DESCRIPTION:Spend an hour with one of our furry friends who loves to cuddle!
URL:https://thesensoryvillage.com/event/therapy-dog-visit-11-am-to-12-pm-19/
END:VEVENT
BEGIN:VEVENT
DTSTART;TZID=UTC:20260422T110000
DTEND;TZID=UTC:20260422T120000
DTSTAMP:20260425T150944
CREATED:20260401T132549Z
LAST-MODIFIED:20260401T132549Z
UID:2784-1776855600-1776859200@thesensoryvillage.com
SUMMARY:Therapy Dog Visit - 11 AM to 12 PM
DESCRIPTION:Spend an hour with one of our furry friends who loves to cuddle!
URL:https://thesensoryvillage.com/event/therapy-dog-visit-11-am-to-12-pm-13/
END:VEVENT
BEGIN:VEVENT
DTSTART;TZID=UTC:20260422T090000
DTEND;TZID=UTC:20260422T150000
DTSTAMP:20260425T150944
CREATED:20260401T134955Z
LAST-MODIFIED:20260401T134955Z
UID:2810-1776848400-1776870000@thesensoryvillage.com
SUMMARY:Open Play - 9 AM to 3 PM
DESCRIPTION:All ticket sales are handled on-site. Stop by The Sensory Village to purchase your play session passes and join in the fun!
URL:https://thesensoryvillage.com/event/open-play-9-am-to-3-pm-11/
END:VEVENT
BEGIN:VEVENT
DTSTART;TZID=UTC:20260421T110000
DTEND;TZID=UTC:20260421T120000
DTSTAMP:20260425T150944
CREATED:20260401T132449Z
LAST-MODIFIED:20260401T132449Z
UID:2782-1776769200-1776772800@thesensoryvillage.com
SUMMARY:Therapy Dog Visit - 11 AM to 12 PM
DESCRIPTION:Spend an hour with one of our furry friends who loves to cuddle!
URL:https://thesensoryvillage.com/event/therapy-dog-visit-11-am-to-12-pm-12/
END:VEVENT
BEGIN:VEVENT
DTSTART;TZID=UTC:20260421T090000
DTEND;TZID=UTC:20260421T150000
DTSTAMP:20260425T150944
CREATED:20260401T134915Z
LAST-MODIFIED:20260401T134915Z
UID:2808-1776762000-1776783600@thesensoryvillage.com
SUMMARY:Open Play - 9 AM to 3 PM
DESCRIPTION:All ticket sales are handled on-site. Stop by The Sensory Village to purchase your play session passes and join in the fun!
URL:https://thesensoryvillage.com/event/open-play-9-am-to-3-pm-10/
END:VEVENT
BEGIN:VEVENT
DTSTART;TZID=UTC:20260420T100000
DTEND;TZID=UTC:20260420T110000
DTSTAMP:20260425T150944
CREATED:20260316T180842Z
LAST-MODIFIED:20260316T180842Z
UID:2677-1776679200-1776682800@thesensoryvillage.com
SUMMARY:Ms Rachel's Sensory Hour - 10 AM to 11 AM
DESCRIPTION:Experience bubbles\, giggles\, sensory play\, and endless fun during Sensory Hour with Ms. Rachel at The Sensory Village—all included with your sensory play purchase!
URL:https://thesensoryvillage.com/event/ms-rachels-sensory-hour-10-am-to-11-am-3/
END:VEVENT
BEGIN:VEVENT
DTSTART;TZID=UTC:20260420T090000
DTEND;TZID=UTC:20260420T150000
DTSTAMP:20260425T150944
CREATED:20260401T134833Z
LAST-MODIFIED:20260401T134833Z
UID:2806-1776675600-1776697200@thesensoryvillage.com
SUMMARY:Open Play - 9 AM to 3 PM
DESCRIPTION:All ticket sales are handled on-site. Stop by The Sensory Village to purchase your play session passes and join in the fun!
URL:https://thesensoryvillage.com/event/open-play-9-am-to-3-pm-9/
END:VEVENT
BEGIN:VEVENT
DTSTART;TZID=UTC:20260419T120000
DTEND;TZID=UTC:20260419T170000
DTSTAMP:20260425T150944
CREATED:20260401T134751Z
LAST-MODIFIED:20260401T134751Z
UID:2804-1776600000-1776618000@thesensoryvillage.com
SUMMARY:Open Play - 12 PM to 5 PM
DESCRIPTION:All ticket sales are handled on-site. Stop by The Sensory Village to purchase your play session passes and join in the fun!
URL:https://thesensoryvillage.com/event/open-play-12-pm-to-5-pm/
END:VEVENT
BEGIN:VEVENT
DTSTART;TZID=UTC:20260418T090000
DTEND;TZID=UTC:20260418T170000
DTSTAMP:20260425T150944
CREATED:20260401T134641Z
LAST-MODIFIED:20260401T134641Z
UID:2802-1776502800-1776531600@thesensoryvillage.com
SUMMARY:Open Play - 9 AM to 5 PM
DESCRIPTION:All ticket sales are handled on-site. Stop by The Sensory Village to purchase your play session passes and join in the fun!
URL:https://thesensoryvillage.com/event/open-play-9-am-to-5-pm-2/
END:VEVENT
BEGIN:VEVENT
DTSTART;TZID=UTC:20260417T123000
DTEND;TZID=UTC:20260417T140000
DTSTAMP:20260425T150944
CREATED:20251212T203608Z
LAST-MODIFIED:20260401T142919Z
UID:1986-1776429000-1776434400@thesensoryvillage.com
SUMMARY:Field Trip 12:30 PM to 2 PM
DESCRIPTION:Field Trip Scheduled: The building will be reserved exclusively for this group during their visit.
URL:https://thesensoryvillage.com/event/field-trip-1230-130-pm/
END:VEVENT
BEGIN:VEVENT
DTSTART;TZID=UTC:20260417T090000
DTEND;TZID=UTC:20260417T123000
DTSTAMP:20260425T150944
CREATED:20260401T134557Z
LAST-MODIFIED:20260401T134557Z
UID:2800-1776416400-1776429000@thesensoryvillage.com
SUMMARY:Open Play - 9 AM to 12:30 PM
DESCRIPTION:All ticket sales are handled on-site. Stop by The Sensory Village to purchase your play session passes and join in the fun!
URL:https://thesensoryvillage.com/event/open-play-9-am-to-1230-pm/
END:VEVENT
BEGIN:VEVENT
DTSTART;TZID=UTC:20260416T180000
DTEND;TZID=UTC:20260416T190000
DTSTAMP:20260425T150944
CREATED:20260401T140101Z
LAST-MODIFIED:20260401T140101Z
UID:2828-1776362400-1776366000@thesensoryvillage.com
SUMMARY:Table Talk: Feeding Support Group - 6 PM to 7 PM
DESCRIPTION:Join us for Table Talk: Support for Feeding Challenges\, a parent support group led by the founder of Play to Plate. This welcoming group provides a space for parents to share experiences\, gain expert advice\, and connect with others facing similar challenges around feeding. While parents participate in the group\, children can enjoy supervised sensory play in the Village\, giving everyone the chance to learn\, connect\, and grow together. \nReserve your spot today by emailing us at thesensoryvillage@gmail.com or visiting https://thesensoryvillage.com/class-booking-form/
URL:https://thesensoryvillage.com/event/table-talk-feeding-support-group-6-pm-to-7-pm/
END:VEVENT
END:VCALENDAR