BEGIN:VCALENDAR
VERSION:2.0
PRODID:-//The Sensory Village - ECPv6.15.11//NONSGML v1.0//EN
CALSCALE:GREGORIAN
METHOD:PUBLISH
X-ORIGINAL-URL:https://thesensoryvillage.com
X-WR-CALDESC:Events for The Sensory Village
REFRESH-INTERVAL;VALUE=DURATION:PT1H
X-Robots-Tag:noindex
X-PUBLISHED-TTL:PT1H
BEGIN:VTIMEZONE
TZID:UTC
BEGIN:STANDARD
TZOFFSETFROM:+0000
TZOFFSETTO:+0000
TZNAME:UTC
DTSTART:20250101T000000
END:STANDARD
END:VTIMEZONE
BEGIN:VEVENT
DTSTART;TZID=UTC:20260216T090000
DTEND;TZID=UTC:20260216T160000
DTSTAMP:20260425T131220
CREATED:20260118T181502Z
LAST-MODIFIED:20260118T181502Z
UID:2195-1771232400-1771257600@thesensoryvillage.com
SUMMARY:Open Play 9:00 am - 4:00 pm
DESCRIPTION:All ticket sales are handled on-site. Stop by The Sensory Village to purchase your play session passes and join in the fun!
URL:https://thesensoryvillage.com/event/open-play-900-am-400-pm-23/
END:VEVENT
BEGIN:VEVENT
DTSTART;TZID=UTC:20260216T170000
DTEND;TZID=UTC:20260216T180000
DTSTAMP:20260425T131220
CREATED:20260205T194247Z
LAST-MODIFIED:20260205T194247Z
UID:2400-1771261200-1771264800@thesensoryvillage.com
SUMMARY:Pilates 5:00 - 6:00 PM
DESCRIPTION:Christine Betances is a comprehensively trained classical Pilates instructor and the founder of CMB Pilates. She specializes in helping caregivers reconnect with their bodies\, regulate their nervous systems\, and cultivate pockets of calm through mindful\, breath-led Pilates. \nDriven by the belief that caregivers deserve the same care they give others\, Christine creates grounding movement experiences that restore connection\, strength\, and self-trust. As a neurodivergent mom herself\, she deeply understands the physical and emotional load caregivers carry. \nHer warm\, supportive teaching style blends classical precision\, functional strength\, and compassionate guidance — helping caregivers feel grounded\, empowered\, and more at home in their bodies. \n\nThe class is $25 with limited spots available. \nReserve yours today by emailing us at thesensoryvillage@gmail.com or visiting https://thesensoryvillage.com/class-booking-form/ \nThe instructor also asks that you fill out an intake form at cmbpilates.com/svclass so that the experience can be customized to meet your needs. \nPlease note: The reservation window closes at 8:00 AM on January 19th. Be sure to secure your spot early to guarantee availability!
URL:https://thesensoryvillage.com/event/pilates-500-600-pm-2/
END:VEVENT
BEGIN:VEVENT
DTSTART;TZID=UTC:20260216T183000
DTEND;TZID=UTC:20260216T193000
DTSTAMP:20260425T131220
CREATED:20260205T194516Z
LAST-MODIFIED:20260205T194516Z
UID:2402-1771266600-1771270200@thesensoryvillage.com
SUMMARY:Sound Bath 6:30 - 7:30 PM
DESCRIPTION:Experience deep restoration and energetic balance in this 1 hour Sound Bath as layers of soothing sounds from crystal quartz singing bowls\, chimes and other healing instruments gently wash over you. The vibrations help quiet the mind\, release tension\, and invite the body into a state of profound relaxation. \nThe experience begins with centering\, diaphragmatic breathing and concludes with grounding frequencies and a quiet integration time. \nThe class is $30 with limited spots available. \nReserve yours today by emailing us at thesensoryvillage@gmail.com or visiting https://thesensoryvillage.com/class-booking-form/ \nPlease note: The reservation window closes at 8:00 AM on January 19th. Be sure to secure your spot early to guarantee availability!
URL:https://thesensoryvillage.com/event/sound-bath-630-730-pm/
END:VEVENT
BEGIN:VEVENT
DTSTART;TZID=UTC:20260217T090000
DTEND;TZID=UTC:20260217T160000
DTSTAMP:20260425T131220
CREATED:20260118T181628Z
LAST-MODIFIED:20260118T181628Z
UID:2197-1771318800-1771344000@thesensoryvillage.com
SUMMARY:Open Play 9:00 am - 4:00 pm
DESCRIPTION:All ticket sales are handled on-site. Stop by The Sensory Village to purchase your play session passes and join in the fun!
URL:https://thesensoryvillage.com/event/open-play-900-am-400-pm-24/
END:VEVENT
BEGIN:VEVENT
DTSTART;TZID=UTC:20260217T110000
DTEND;TZID=UTC:20260217T120000
DTSTAMP:20260425T131220
CREATED:20260205T194001Z
LAST-MODIFIED:20260205T194001Z
UID:2398-1771326000-1771329600@thesensoryvillage.com
SUMMARY:Therapy Dog Visit 11:00 AM - 12:00 PM
DESCRIPTION:Spend an hour with one of our furry friends who loves to cuddle!
URL:https://thesensoryvillage.com/event/therapy-dog-visit-1100-am-1200-pm-11/
END:VEVENT
BEGIN:VEVENT
DTSTART;TZID=UTC:20260218T090000
DTEND;TZID=UTC:20260218T160000
DTSTAMP:20260425T131220
CREATED:20260118T181717Z
LAST-MODIFIED:20260128T234322Z
UID:2199-1771405200-1771430400@thesensoryvillage.com
SUMMARY:Open Play 9:00 am - 4:00 pm
DESCRIPTION:All ticket sales are handled on-site. Stop by The Sensory Village to purchase your play session passes and join in the fun!
URL:https://thesensoryvillage.com/event/open-play-900-am-800-pm-17/
END:VEVENT
BEGIN:VEVENT
DTSTART;TZID=UTC:20260218T180000
DTEND;TZID=UTC:20260218T193000
DTSTAMP:20260425T131220
CREATED:20260123T145347Z
LAST-MODIFIED:20260123T145347Z
UID:2250-1771437600-1771443000@thesensoryvillage.com
SUMMARY:Pediatric Cancer Foundation of the Lehigh Valley Play Date 6:00 - 7:30 pm
DESCRIPTION:Please note the facility will be closed while PCFLV hosts a playdate.
URL:https://thesensoryvillage.com/event/pediatric-cancer-foundation-of-the-lehigh-valley-play-date-600-730-pm/
END:VEVENT
BEGIN:VEVENT
DTSTART;TZID=UTC:20260219T090000
DTEND;TZID=UTC:20260219T200000
DTSTAMP:20260425T131220
CREATED:20260118T181807Z
LAST-MODIFIED:20260118T181807Z
UID:2201-1771491600-1771531200@thesensoryvillage.com
SUMMARY:Open Play 9:00 am - 8:00 pm
DESCRIPTION:All ticket sales are handled on-site. Stop by The Sensory Village to purchase your play session passes and join in the fun!
URL:https://thesensoryvillage.com/event/open-play-900-am-800-pm-18/
END:VEVENT
BEGIN:VEVENT
DTSTART;TZID=UTC:20260219T180000
DTEND;TZID=UTC:20260219T190000
DTSTAMP:20260425T131220
CREATED:20260119T181306Z
LAST-MODIFIED:20260121T145836Z
UID:2237-1771524000-1771527600@thesensoryvillage.com
SUMMARY:Table Talk: Support for Feeding Challenges 6:00 – 7:00 PM
DESCRIPTION:Join us for Table Talk: Support for Feeding Challenges\, a parent support group led by the founder of Play to Plate. This welcoming group provides a space for parents to share experiences\, gain expert advice\, and connect with others facing similar challenges around feeding. While parents participate in the group\, children can enjoy supervised sensory play in the Village\, giving everyone the chance to learn\, connect\, and grow together. \nReserve your spot today by emailing us at thesensoryvillage@gmail.com or visiting https://thesensoryvillage.com/class-booking-form/
URL:https://thesensoryvillage.com/event/table-talk-support-for-feeding-challenges-600-700-pm-2/
END:VEVENT
BEGIN:VEVENT
DTSTART;TZID=UTC:20260220T090000
DTEND;TZID=UTC:20260220T140000
DTSTAMP:20260425T131220
CREATED:20260118T181848Z
LAST-MODIFIED:20260220T143404Z
UID:2203-1771578000-1771596000@thesensoryvillage.com
SUMMARY:Open Play 9:00 am - 2:00 pm
DESCRIPTION:All ticket sales are handled on-site. Stop by The Sensory Village to purchase your play session passes and join in the fun!
URL:https://thesensoryvillage.com/event/open-play-900-am-400-pm-25/
END:VEVENT
BEGIN:VEVENT
DTSTART;TZID=UTC:20260220T180000
DTEND;TZID=UTC:20260220T213000
DTSTAMP:20260425T131220
CREATED:20260205T195748Z
LAST-MODIFIED:20260205T195748Z
UID:2407-1771610400-1771623000@thesensoryvillage.com
SUMMARY:Lehigh Valley Night to Shine 6:00 - 9:30 PM
DESCRIPTION:We are thrilled for The Sensory Village to participate in this year’s Lehigh Valley Night to Shine! As proud sponsors of the sensory room\, we’re excited to create a welcoming space where prom goers can relax\, regulate\, and recharge—ensuring everyone can fully enjoy their special evening. It’s an honor to help make this night truly magical for everyone!
URL:https://thesensoryvillage.com/event/lehigh-valley-night-to-shine-600-930-pm/
END:VEVENT
BEGIN:VEVENT
DTSTART;TZID=UTC:20260221T100000
DTEND;TZID=UTC:20260221T130000
DTSTAMP:20260425T131220
CREATED:20260118T182012Z
LAST-MODIFIED:20260118T182012Z
UID:2206-1771668000-1771678800@thesensoryvillage.com
SUMMARY:Open Play 10:00 am - 1:00 pm
DESCRIPTION:All ticket sales are handled on-site. Stop by The Sensory Village to purchase your play session passes and join in the fun!
URL:https://thesensoryvillage.com/event/open-play-1000-am-100-pm/
END:VEVENT
BEGIN:VEVENT
DTSTART;TZID=UTC:20260221T130000
DTEND;TZID=UTC:20260221T150000
DTSTAMP:20260425T131220
CREATED:20260104T184539Z
LAST-MODIFIED:20260118T181927Z
UID:2085-1771678800-1771686000@thesensoryvillage.com
SUMMARY:Wyatt's Birthday Party 1:00 - 3:00 pm
DESCRIPTION:Happy 5th Birthday Wyatt! Please note the play area will be closed during this time for Wyatt and his group to celebrate!
URL:https://thesensoryvillage.com/event/wyatts-birthday-party/
END:VEVENT
BEGIN:VEVENT
DTSTART;TZID=UTC:20260221T150000
DTEND;TZID=UTC:20260221T170000
DTSTAMP:20260425T131220
CREATED:20260118T182051Z
LAST-MODIFIED:20260118T182051Z
UID:2208-1771686000-1771693200@thesensoryvillage.com
SUMMARY:Open Play 3:00 - 5:00 pm
DESCRIPTION:All ticket sales are handled on-site. Stop by The Sensory Village to purchase your play session passes and join in the fun!
URL:https://thesensoryvillage.com/event/open-play-300-500-pm/
END:VEVENT
BEGIN:VEVENT
DTSTART;TZID=UTC:20260222T120000
DTEND;TZID=UTC:20260222T170000
DTSTAMP:20260425T131220
CREATED:20260118T182129Z
LAST-MODIFIED:20260118T182129Z
UID:2210-1771761600-1771779600@thesensoryvillage.com
SUMMARY:Open Play 12:00 - 5:00 pm
DESCRIPTION:All ticket sales are handled on-site. Stop by The Sensory Village to purchase your play session passes and join in the fun!
URL:https://thesensoryvillage.com/event/open-play-1200-500-pm-2/
END:VEVENT
BEGIN:VEVENT
DTSTART;TZID=UTC:20260223T090000
DTEND;TZID=UTC:20260223T160000
DTSTAMP:20260425T131220
CREATED:20260118T182224Z
LAST-MODIFIED:20260118T182224Z
UID:2212-1771837200-1771862400@thesensoryvillage.com
SUMMARY:Open Play 9:00 am - 4:00 pm
DESCRIPTION:All ticket sales are handled on-site. Stop by The Sensory Village to purchase your play session passes and join in the fun!
URL:https://thesensoryvillage.com/event/open-play-900-am-400-pm-26/
END:VEVENT
BEGIN:VEVENT
DTSTART;TZID=UTC:20260224T090000
DTEND;TZID=UTC:20260224T103000
DTSTAMP:20260425T131220
CREATED:20260118T182314Z
LAST-MODIFIED:20260118T182314Z
UID:2214-1771923600-1771929000@thesensoryvillage.com
SUMMARY:Open Play 9:00 - 10:30 am
DESCRIPTION:All ticket sales are handled on-site. Stop by The Sensory Village to purchase your play session passes and join in the fun!
URL:https://thesensoryvillage.com/event/open-play-900-1030-am/
END:VEVENT
BEGIN:VEVENT
DTSTART;TZID=UTC:20260224T103000
DTEND;TZID=UTC:20260224T130000
DTSTAMP:20260425T131220
CREATED:20260118T192038Z
LAST-MODIFIED:20260118T192038Z
UID:2227-1771929000-1771938000@thesensoryvillage.com
SUMMARY:Field Trip 10:30 am - 1:00 pm
DESCRIPTION:Field Trip Scheduled: The building will be reserved exclusively for this group during their visit.
URL:https://thesensoryvillage.com/event/field-trip-1030-am-100-pm/
END:VEVENT
BEGIN:VEVENT
DTSTART;TZID=UTC:20260224T130000
DTEND;TZID=UTC:20260224T160000
DTSTAMP:20260425T131220
CREATED:20260118T182355Z
LAST-MODIFIED:20260118T182355Z
UID:2216-1771938000-1771948800@thesensoryvillage.com
SUMMARY:Open Play 1:00 - 4:00 pm
DESCRIPTION:All ticket sales are handled on-site. Stop by The Sensory Village to purchase your play session passes and join in the fun!
URL:https://thesensoryvillage.com/event/open-play-100-400-pm/
END:VEVENT
BEGIN:VEVENT
DTSTART;TZID=UTC:20260225T090000
DTEND;TZID=UTC:20260225T160000
DTSTAMP:20260425T131220
CREATED:20260118T182444Z
LAST-MODIFIED:20260128T234407Z
UID:2218-1772010000-1772035200@thesensoryvillage.com
SUMMARY:Open Play 9:00 am - 4:00 pm
DESCRIPTION:All ticket sales are handled on-site. Stop by The Sensory Village to purchase your play session passes and join in the fun!
URL:https://thesensoryvillage.com/event/open-play-900-am-800-pm-19/
END:VEVENT
BEGIN:VEVENT
DTSTART;TZID=UTC:20260226T090000
DTEND;TZID=UTC:20260226T200000
DTSTAMP:20260425T131220
CREATED:20260118T182530Z
LAST-MODIFIED:20260118T182530Z
UID:2220-1772096400-1772136000@thesensoryvillage.com
SUMMARY:Open Play 9:00 am - 8:00 pm
DESCRIPTION:All ticket sales are handled on-site. Stop by The Sensory Village to purchase your play session passes and join in the fun!
URL:https://thesensoryvillage.com/event/open-play-900-am-800-pm-20/
END:VEVENT
BEGIN:VEVENT
DTSTART;TZID=UTC:20260226T180000
DTEND;TZID=UTC:20260226T190000
DTSTAMP:20260425T131220
CREATED:20260119T181506Z
LAST-MODIFIED:20260119T181516Z
UID:2239-1772128800-1772132400@thesensoryvillage.com
SUMMARY:Prepared and Protected: Family Emergency Planning 6:00 – 7:00 pm
DESCRIPTION:Join us for Prepared and Protected: Family Emergency Planning\, an interactive event designed to help families learn practical steps for handling emergencies such as fires\, medical situations\, natural disasters\, choking\, and more. While parents learn in the classroom\, children can enjoy supervised sensory play in the Village\, making it a valuable and enjoyable experience for everyone. Gain knowledge\, resources\, and confidence to keep your family safe—all in a welcoming\, supportive environment. Cost is $30 per family—empower your family and enjoy peace of mind! \nReserve your spot today by emailing us at thesensoryvillage@gmail.com or visiting https://thesensoryvillage.com/class-booking-form/
URL:https://thesensoryvillage.com/event/prepared-and-protected-family-emergency-planning-600-700-pm-2/
END:VEVENT
BEGIN:VEVENT
DTSTART;TZID=UTC:20260227T090000
DTEND;TZID=UTC:20260227T160000
DTSTAMP:20260425T131220
CREATED:20260118T182609Z
LAST-MODIFIED:20260118T182609Z
UID:2222-1772182800-1772208000@thesensoryvillage.com
SUMMARY:Open Play 9:00 am - 4:00 pm
DESCRIPTION:All ticket sales are handled on-site. Stop by The Sensory Village to purchase your play session passes and join in the fun!
URL:https://thesensoryvillage.com/event/open-play-900-am-400-pm-27/
END:VEVENT
BEGIN:VEVENT
DTSTART;TZID=UTC:20260228T100000
DTEND;TZID=UTC:20260228T133000
DTSTAMP:20260425T131220
CREATED:20260118T182650Z
LAST-MODIFIED:20260118T182820Z
UID:2224-1772272800-1772285400@thesensoryvillage.com
SUMMARY:Open Play 10:00 am - 1:30 pm
DESCRIPTION:All ticket sales are handled on-site. Stop by The Sensory Village to purchase your play session passes and join in the fun!
URL:https://thesensoryvillage.com/event/open-play-1000-am-500-pm-5/
END:VEVENT
BEGIN:VEVENT
DTSTART;TZID=UTC:20260228T133000
DTEND;TZID=UTC:20260228T150000
DTSTAMP:20260425T131220
CREATED:20260104T190354Z
LAST-MODIFIED:20260205T193507Z
UID:2089-1772285400-1772290800@thesensoryvillage.com
SUMMARY:Lena's Birthday Party 1:30-3:00
DESCRIPTION:Happy Birthday Lena! Please note the play area will be closed during this time for Lena and her group to celebrate!
URL:https://thesensoryvillage.com/event/lenas-birthday-party/
END:VEVENT
BEGIN:VEVENT
DTSTART;TZID=UTC:20260228T153000
DTEND;TZID=UTC:20260228T170000
DTSTAMP:20260425T131220
CREATED:20251008T152758Z
LAST-MODIFIED:20251129T160530Z
UID:1266-1772292600-1772298000@thesensoryvillage.com
SUMMARY:Renna's 6th Birthday 3:30 - 5:00 pm
DESCRIPTION:Happy 6th Birthday Renna! Please note the play area will be closed during this time for Renna and her group to celebrate!
URL:https://thesensoryvillage.com/event/rennas-6th-birthday-330-500-pm/
END:VEVENT
BEGIN:VEVENT
DTSTART;TZID=UTC:20260301T120000
DTEND;TZID=UTC:20260301T170000
DTSTAMP:20260425T131220
CREATED:20260212T143321Z
LAST-MODIFIED:20260212T143424Z
UID:2422-1772366400-1772384400@thesensoryvillage.com
SUMMARY:Open Play - 12:00 PM to 5:00 PM
DESCRIPTION:All ticket sales are handled on-site. Stop by The Sensory Village to purchase your play session passes and join in the fun!
URL:https://thesensoryvillage.com/event/open-play-1200-pm-to-500-pm/
END:VEVENT
BEGIN:VEVENT
DTSTART;TZID=UTC:20260302T090000
DTEND;TZID=UTC:20260302T130000
DTSTAMP:20260425T131220
CREATED:20260212T143538Z
LAST-MODIFIED:20260212T143538Z
UID:2425-1772442000-1772456400@thesensoryvillage.com
SUMMARY:Open Play - 9:00 AM to 1:00 PM
DESCRIPTION:All ticket sales are handled on-site. Stop by The Sensory Village to purchase your play session passes and join in the fun!
URL:https://thesensoryvillage.com/event/open-play-900-am-to-100-pm/
END:VEVENT
BEGIN:VEVENT
DTSTART;TZID=UTC:20260302T090000
DTEND;TZID=UTC:20260302T130000
DTSTAMP:20260425T131220
CREATED:20260212T175251Z
LAST-MODIFIED:20260214T180456Z
UID:2533-1772442000-1772456400@thesensoryvillage.com
SUMMARY:Membership Monday - 9:00 AM to 1:00 PM
DESCRIPTION:On Membership Monday\, members can bring a friend for half off admission—limit one friend per member. Share the fun and enjoy extra savings together at The Sensory Village!
URL:https://thesensoryvillage.com/event/membership-monday-900-am-to-100-pm/
END:VEVENT
BEGIN:VEVENT
DTSTART;TZID=UTC:20260302T130000
DTEND;TZID=UTC:20260302T140000
DTSTAMP:20260425T131220
CREATED:20260203T175600Z
LAST-MODIFIED:20260212T174726Z
UID:2288-1772456400-1772460000@thesensoryvillage.com
SUMMARY:Storytime with Ms. Rachel - 1:00 PM to 2:00 PM
DESCRIPTION:Join us for Sensory Story Time with Ms. Rachel by Hi Friends of LV! Enjoy 30 minutes of structured activities—including stories and songs—in both English and Spanish\, followed by 30 minutes of interactive sensory play with Ms Rachel. These bilingual sessions make learning fun and inclusive for all! \n  \n$30 per session or $250 for the 2-month series (March 2nd – April 27th). \nPre-registration is required: https://thesensoryvillage.com/spring-class-booking-form/ \n 
URL:https://thesensoryvillage.com/event/storytime-with-ms-rachel/
END:VEVENT
END:VCALENDAR