BEGIN:VCALENDAR
VERSION:2.0
PRODID:-//The Sensory Village - ECPv6.15.11//NONSGML v1.0//EN
CALSCALE:GREGORIAN
METHOD:PUBLISH
X-WR-CALNAME:The Sensory Village
X-ORIGINAL-URL:https://thesensoryvillage.com
X-WR-CALDESC:Events for The Sensory Village
REFRESH-INTERVAL;VALUE=DURATION:PT1H
X-Robots-Tag:noindex
X-PUBLISHED-TTL:PT1H
BEGIN:VTIMEZONE
TZID:UTC
BEGIN:STANDARD
TZOFFSETFROM:+0000
TZOFFSETTO:+0000
TZNAME:UTC
DTSTART:20250101T000000
END:STANDARD
END:VTIMEZONE
BEGIN:VEVENT
DTSTART;TZID=UTC:20260606T130000
DTEND;TZID=UTC:20260606T150000
DTSTAMP:20260425T112455
CREATED:20260327T162445Z
LAST-MODIFIED:20260327T162445Z
UID:2732-1780750800-1780758000@thesensoryvillage.com
SUMMARY:Birthday Party 1:00 - 3:00 PM
DESCRIPTION:Happy Birthday! Please note the play area will be closed during this time for the group to celebrate!
URL:https://thesensoryvillage.com/event/birthday-party-100-300-pm-4/
END:VEVENT
BEGIN:VEVENT
DTSTART;TZID=UTC:20260606T153000
DTEND;TZID=UTC:20260606T173000
DTSTAMP:20260425T112455
CREATED:20260414T213649Z
LAST-MODIFIED:20260414T213649Z
UID:2879-1780759800-1780767000@thesensoryvillage.com
SUMMARY:Birthday Party 3:30 - 5:30 PM
DESCRIPTION:Happy Birthday! Please note the play area will be closed during this time for the group to celebrate!
URL:https://thesensoryvillage.com/event/birthday-party-330-530-pm/
END:VEVENT
BEGIN:VEVENT
DTSTART;TZID=UTC:20260618T180000
DTEND;TZID=UTC:20260618T190000
DTSTAMP:20260425T112455
CREATED:20260401T140238Z
LAST-MODIFIED:20260401T140238Z
UID:2832-1781805600-1781809200@thesensoryvillage.com
SUMMARY:Table Talk: Feeding Support Group
DESCRIPTION:Join us for Table Talk: Support for Feeding Challenges\, a parent support group led by the founder of Play to Plate. This welcoming group provides a space for parents to share experiences\, gain expert advice\, and connect with others facing similar challenges around feeding. While parents participate in the group\, children can enjoy supervised sensory play in the Village\, giving everyone the chance to learn\, connect\, and grow together. \nReserve your spot today by emailing us at thesensoryvillage@gmail.com or visiting https://thesensoryvillage.com/class-booking-form/
URL:https://thesensoryvillage.com/event/table-talk-feeding-support-group/
END:VEVENT
BEGIN:VEVENT
DTSTART;VALUE=DATE:20260704
DTEND;VALUE=DATE:20260705
DTSTAMP:20260425T112455
CREATED:20260316T135038Z
LAST-MODIFIED:20260316T135038Z
UID:2670-1783123200-1783209599@thesensoryvillage.com
SUMMARY:CLOSED
DESCRIPTION:The Sensory Village will be closed Saturday\, July 4th. Happy Independence Day!!!
URL:https://thesensoryvillage.com/event/closed-7/
END:VEVENT
BEGIN:VEVENT
DTSTART;TZID=UTC:20260714T100000
DTEND;TZID=UTC:20260714T113000
DTSTAMP:20260425T112455
CREATED:20260328T175435Z
LAST-MODIFIED:20260328T175435Z
UID:2738-1784023200-1784028600@thesensoryvillage.com
SUMMARY:Field Trip 10:00 - 11:30 AM
DESCRIPTION:Field Trip Scheduled: The building will be reserved exclusively for this group during their visit.
URL:https://thesensoryvillage.com/event/field-trip-1000-1130-am/
END:VEVENT
END:VCALENDAR