BEGIN:VCALENDAR
VERSION:2.0
PRODID:-//The Sensory Village - ECPv6.15.11//NONSGML v1.0//EN
CALSCALE:GREGORIAN
METHOD:PUBLISH
X-WR-CALNAME:The Sensory Village
X-ORIGINAL-URL:https://thesensoryvillage.com
X-WR-CALDESC:Events for The Sensory Village
REFRESH-INTERVAL;VALUE=DURATION:PT1H
X-Robots-Tag:noindex
X-PUBLISHED-TTL:PT1H
BEGIN:VTIMEZONE
TZID:UTC
BEGIN:STANDARD
TZOFFSETFROM:+0000
TZOFFSETTO:+0000
TZNAME:UTC
DTSTART:20250101T000000
END:STANDARD
END:VTIMEZONE
BEGIN:VEVENT
DTSTART;TZID=UTC:20260521T090000
DTEND;TZID=UTC:20260521T200000
DTSTAMP:20260425T150944
CREATED:20260422T141920Z
LAST-MODIFIED:20260422T141920Z
UID:2943-1779354000-1779393600@thesensoryvillage.com
SUMMARY:Open Play - 9 AM to 8 PM
DESCRIPTION:All ticket sales are handled on-site. Stop by The Sensory Village to purchase your play session passes and join in the fun!
URL:https://thesensoryvillage.com/event/open-play-9-am-to-8-pm-8/
END:VEVENT
BEGIN:VEVENT
DTSTART;TZID=UTC:20260520T110000
DTEND;TZID=UTC:20260520T120000
DTSTAMP:20260425T150944
CREATED:20260422T151327Z
LAST-MODIFIED:20260422T151659Z
UID:2985-1779274800-1779278400@thesensoryvillage.com
SUMMARY:Therapy Dog Visit - 11 AM to 12 PM
DESCRIPTION:Spend an hour with one of our furry friends who loves to cuddle!
URL:https://thesensoryvillage.com/event/therapy-dog-visit-11-am-to-12-pm-20/
END:VEVENT
BEGIN:VEVENT
DTSTART;TZID=UTC:20260520T090000
DTEND;TZID=UTC:20260520T150000
DTSTAMP:20260425T150944
CREATED:20260422T141837Z
LAST-MODIFIED:20260422T141837Z
UID:2941-1779267600-1779289200@thesensoryvillage.com
SUMMARY:Open Play - 9 AM to 3 PM
DESCRIPTION:All ticket sales are handled on-site. Stop by The Sensory Village to purchase your play session passes and join in the fun!
URL:https://thesensoryvillage.com/event/open-play-9-am-to-3-pm-28/
END:VEVENT
BEGIN:VEVENT
DTSTART;TZID=UTC:20260519T110000
DTEND;TZID=UTC:20260519T120000
DTSTAMP:20260425T150944
CREATED:20260422T145333Z
LAST-MODIFIED:20260422T145333Z
UID:2981-1779188400-1779192000@thesensoryvillage.com
SUMMARY:Therapy Dog Visit - 11 AM to 12 PM
DESCRIPTION:Spend an hour with one of our furry friends who loves to cuddle!
URL:https://thesensoryvillage.com/event/therapy-dog-visit-11-am-to-12-pm-18/
END:VEVENT
BEGIN:VEVENT
DTSTART;TZID=UTC:20260519T090000
DTEND;TZID=UTC:20260519T150000
DTSTAMP:20260425T150944
CREATED:20260422T141759Z
LAST-MODIFIED:20260422T141759Z
UID:2939-1779181200-1779202800@thesensoryvillage.com
SUMMARY:Open Play - 9 AM to 3 PM
DESCRIPTION:All ticket sales are handled on-site. Stop by The Sensory Village to purchase your play session passes and join in the fun!
URL:https://thesensoryvillage.com/event/open-play-9-am-to-3-pm-27/
END:VEVENT
BEGIN:VEVENT
DTSTART;TZID=UTC:20260518T100000
DTEND;TZID=UTC:20260518T110000
DTSTAMP:20260425T150944
CREATED:20260422T143649Z
LAST-MODIFIED:20260422T143649Z
UID:2969-1779098400-1779102000@thesensoryvillage.com
SUMMARY:Ms Rachel's Sensory Hour - 10 AM to 11 AM
DESCRIPTION:Experience bubbles\, giggles\, sensory play\, and endless fun during Sensory Hour with Ms. Rachel at The Sensory Village—all included with your sensory play purchase!
URL:https://thesensoryvillage.com/event/ms-rachels-sensory-hour-10-am-to-11-am-7/
END:VEVENT
BEGIN:VEVENT
DTSTART;TZID=UTC:20260518T090000
DTEND;TZID=UTC:20260518T150000
DTSTAMP:20260425T150944
CREATED:20260422T140942Z
LAST-MODIFIED:20260422T140942Z
UID:2937-1779094800-1779116400@thesensoryvillage.com
SUMMARY:Open Play - 9 AM to 3 PM
DESCRIPTION:All ticket sales are handled on-site. Stop by The Sensory Village to purchase your play session passes and join in the fun!
URL:https://thesensoryvillage.com/event/open-play-9-am-to-3-pm-26/
END:VEVENT
BEGIN:VEVENT
DTSTART;TZID=UTC:20260517T120000
DTEND;TZID=UTC:20260517T170000
DTSTAMP:20260425T150944
CREATED:20260422T140903Z
LAST-MODIFIED:20260422T140903Z
UID:2935-1779019200-1779037200@thesensoryvillage.com
SUMMARY:Open Play - 12 PM to 5 PM
DESCRIPTION:All ticket sales are handled on-site. Stop by The Sensory Village to purchase your play session passes and join in the fun!
URL:https://thesensoryvillage.com/event/open-play-12-pm-to-5-pm-3/
END:VEVENT
BEGIN:VEVENT
DTSTART;TZID=UTC:20260517T100000
DTEND;TZID=UTC:20260517T113000
DTSTAMP:20260425T150944
CREATED:20260402T212312Z
LAST-MODIFIED:20260402T212312Z
UID:2847-1779012000-1779017400@thesensoryvillage.com
SUMMARY:Birthday Party 10:00 - 11:30 AM
DESCRIPTION:Happy Birthday! Please note the play area will be closed during this time for the group to celebrate!
URL:https://thesensoryvillage.com/event/birthday-party-1000-1130-am-2/
END:VEVENT
BEGIN:VEVENT
DTSTART;TZID=UTC:20260516T090000
DTEND;TZID=UTC:20260516T170000
DTSTAMP:20260425T150944
CREATED:20260422T140750Z
LAST-MODIFIED:20260422T153708Z
UID:2933-1778922000-1778950800@thesensoryvillage.com
SUMMARY:Open Play - 9 AM to 5 PM
DESCRIPTION:All ticket sales are handled on-site. Stop by The Sensory Village to purchase your play session passes and join in the fun!
URL:https://thesensoryvillage.com/event/open-play-9-am-to-5-pm-3/
END:VEVENT
BEGIN:VEVENT
DTSTART;TZID=UTC:20260515T090000
DTEND;TZID=UTC:20260515T150000
DTSTAMP:20260425T150944
CREATED:20260422T140712Z
LAST-MODIFIED:20260422T140712Z
UID:2931-1778835600-1778857200@thesensoryvillage.com
SUMMARY:Open Play - 9 AM to 3 PM
DESCRIPTION:All ticket sales are handled on-site. Stop by The Sensory Village to purchase your play session passes and join in the fun!
URL:https://thesensoryvillage.com/event/open-play-9-am-to-3-pm-25/
END:VEVENT
BEGIN:VEVENT
DTSTART;TZID=UTC:20260514T100000
DTEND;TZID=UTC:20260514T120000
DTSTAMP:20260425T150944
CREATED:20260422T152938Z
LAST-MODIFIED:20260422T152938Z
UID:2993-1778752800-1778760000@thesensoryvillage.com
SUMMARY:Glow Party - 10 AM to 12 PM
DESCRIPTION:Enjoy two hours of glow party sensory play—with the main lights off\, special glow lighting on\, and upbeat music—all included with your regular sensory play pass!
URL:https://thesensoryvillage.com/event/glow-party-10-am-to-12-pm-7/
END:VEVENT
BEGIN:VEVENT
DTSTART;TZID=UTC:20260514T090000
DTEND;TZID=UTC:20260514T200000
DTSTAMP:20260425T150944
CREATED:20260422T140610Z
LAST-MODIFIED:20260422T140610Z
UID:2929-1778749200-1778788800@thesensoryvillage.com
SUMMARY:Open Play - 9 AM to 8 PM
DESCRIPTION:All ticket sales are handled on-site. Stop by The Sensory Village to purchase your play session passes and join in the fun!
URL:https://thesensoryvillage.com/event/open-play-9-am-to-8-pm-7/
END:VEVENT
BEGIN:VEVENT
DTSTART;TZID=UTC:20260513T110000
DTEND;TZID=UTC:20260513T120000
DTSTAMP:20260425T150944
CREATED:20260422T145254Z
LAST-MODIFIED:20260422T145254Z
UID:2979-1778670000-1778673600@thesensoryvillage.com
SUMMARY:Therapy Dog Visit - 11 AM to 12 PM
DESCRIPTION:Spend an hour with one of our furry friends who loves to cuddle!
URL:https://thesensoryvillage.com/event/therapy-dog-visit-11-am-to-12-pm-17/
END:VEVENT
BEGIN:VEVENT
DTSTART;TZID=UTC:20260513T090000
DTEND;TZID=UTC:20260513T150000
DTSTAMP:20260425T150944
CREATED:20260422T140524Z
LAST-MODIFIED:20260422T140524Z
UID:2927-1778662800-1778684400@thesensoryvillage.com
SUMMARY:Open Play - 9 AM to 3 PM
DESCRIPTION:All ticket sales are handled on-site. Stop by The Sensory Village to purchase your play session passes and join in the fun!
URL:https://thesensoryvillage.com/event/open-play-9-am-to-3-pm-24/
END:VEVENT
BEGIN:VEVENT
DTSTART;TZID=UTC:20260512T110000
DTEND;TZID=UTC:20260512T120000
DTSTAMP:20260425T150944
CREATED:20260422T145211Z
LAST-MODIFIED:20260422T145211Z
UID:2977-1778583600-1778587200@thesensoryvillage.com
SUMMARY:Therapy Dog Visit - 11 AM to 12 PM
DESCRIPTION:Spend an hour with one of our furry friends who loves to cuddle!
URL:https://thesensoryvillage.com/event/therapy-dog-visit-11-am-to-12-pm-16/
END:VEVENT
BEGIN:VEVENT
DTSTART;TZID=UTC:20260512T090000
DTEND;TZID=UTC:20260512T150000
DTSTAMP:20260425T150944
CREATED:20260422T140445Z
LAST-MODIFIED:20260422T140445Z
UID:2925-1778576400-1778598000@thesensoryvillage.com
SUMMARY:Open Play - 9 AM to 3 PM
DESCRIPTION:All ticket sales are handled on-site. Stop by The Sensory Village to purchase your play session passes and join in the fun!
URL:https://thesensoryvillage.com/event/open-play-9-am-to-3-pm-23/
END:VEVENT
BEGIN:VEVENT
DTSTART;TZID=UTC:20260511T100000
DTEND;TZID=UTC:20260511T110000
DTSTAMP:20260425T150944
CREATED:20260422T143612Z
LAST-MODIFIED:20260422T143612Z
UID:2967-1778493600-1778497200@thesensoryvillage.com
SUMMARY:Ms Rachel's Sensory Hour - 10 AM to 11 AM
DESCRIPTION:Experience bubbles\, giggles\, sensory play\, and endless fun during Sensory Hour with Ms. Rachel at The Sensory Village—all included with your sensory play purchase!
URL:https://thesensoryvillage.com/event/ms-rachels-sensory-hour-10-am-to-11-am-6/
END:VEVENT
BEGIN:VEVENT
DTSTART;TZID=UTC:20260511T090000
DTEND;TZID=UTC:20260511T150000
DTSTAMP:20260425T150944
CREATED:20260422T140409Z
LAST-MODIFIED:20260422T140409Z
UID:2923-1778490000-1778511600@thesensoryvillage.com
SUMMARY:Open Play - 9 AM to 3 PM
DESCRIPTION:All ticket sales are handled on-site. Stop by The Sensory Village to purchase your play session passes and join in the fun!
URL:https://thesensoryvillage.com/event/open-play-9-am-to-3-pm-22/
END:VEVENT
BEGIN:VEVENT
DTSTART;VALUE=DATE:20260510
DTEND;VALUE=DATE:20260511
DTSTAMP:20260425T150944
CREATED:20260316T134903Z
LAST-MODIFIED:20260316T134921Z
UID:2668-1778371200-1778457599@thesensoryvillage.com
SUMMARY:CLOSED
DESCRIPTION:The Sensory Village will be closed Sunday\, May 10th. Happy Mother’s Day!!!
URL:https://thesensoryvillage.com/event/closed-5/
END:VEVENT
BEGIN:VEVENT
DTSTART;TZID=UTC:20260509T130000
DTEND;TZID=UTC:20260509T150000
DTSTAMP:20260425T150944
CREATED:20260414T144255Z
LAST-MODIFIED:20260414T144330Z
UID:2875-1778331600-1778338800@thesensoryvillage.com
SUMMARY:Cade's Birthday Party 1:00 - 3:00 pm
DESCRIPTION:Happy Birthday! Please note the play area will be closed during this time for the group to celebrate!
URL:https://thesensoryvillage.com/event/cades-birthday-party-100-300-pm/
END:VEVENT
BEGIN:VEVENT
DTSTART;TZID=UTC:20260509T090000
DTEND;TZID=UTC:20260509T130000
DTSTAMP:20260425T150944
CREATED:20260422T140313Z
LAST-MODIFIED:20260422T140313Z
UID:2921-1778317200-1778331600@thesensoryvillage.com
SUMMARY:Open Play - 9 AM to 1 PM
DESCRIPTION:All ticket sales are handled on-site. Stop by The Sensory Village to purchase your play session passes and join in the fun!
URL:https://thesensoryvillage.com/event/open-play-9-am-to-1-pm-3/
END:VEVENT
BEGIN:VEVENT
DTSTART;TZID=UTC:20260508T090000
DTEND;TZID=UTC:20260508T150000
DTSTAMP:20260425T150944
CREATED:20260422T140115Z
LAST-MODIFIED:20260422T140115Z
UID:2919-1778230800-1778252400@thesensoryvillage.com
SUMMARY:Open Play - 9 AM to 3 PM
DESCRIPTION:All ticket sales are handled on-site. Stop by The Sensory Village to purchase your play session passes and join in the fun!
URL:https://thesensoryvillage.com/event/open-play-9-am-to-3-pm-21/
END:VEVENT
BEGIN:VEVENT
DTSTART;TZID=UTC:20260507T180000
DTEND;TZID=UTC:20260507T190000
DTSTAMP:20260425T150944
CREATED:20260401T131745Z
LAST-MODIFIED:20260401T131745Z
UID:2770-1778176800-1778180400@thesensoryvillage.com
SUMMARY:Understanding & Uplifting: Empowering Parents of Neurodiverse Children - 6 PM to 7 PM
DESCRIPTION:We’re excited to announce our new support group for parents of neurodivergent children\, led by Colleen Mest—a LCSW and parent of a child with autism. This group offers a welcoming and understanding space to share experiences\, exchange resources\, and find encouragement from others who truly understand the journey. While parents participate in the support group\, their children can enjoy supervised sensory play in the Village\, giving everyone the opportunity for support\, connection\, and fun. With Colleen’s professional expertise and personal insight\, parents can feel supported\, empowered\, and connected as they navigate the joys and challenges of raising neurodivergent kids. \nReserve your spot today by emailing us at thesensoryvillage@gmail.com or visiting https://thesensoryvillage.com/class-booking-form/
URL:https://thesensoryvillage.com/event/understanding-uplifting-empowering-parents-of-neurodiverse-children-6-pm-to-7-pm-2/
END:VEVENT
BEGIN:VEVENT
DTSTART;TZID=UTC:20260507T100000
DTEND;TZID=UTC:20260507T120000
DTSTAMP:20260425T150944
CREATED:20260422T152902Z
LAST-MODIFIED:20260422T152902Z
UID:2991-1778148000-1778155200@thesensoryvillage.com
SUMMARY:Glow Party - 10 AM to 12 PM
DESCRIPTION:Enjoy two hours of glow party sensory play—with the main lights off\, special glow lighting on\, and upbeat music—all included with your regular sensory play pass!
URL:https://thesensoryvillage.com/event/glow-party-10-am-to-12-pm-6/
END:VEVENT
BEGIN:VEVENT
DTSTART;TZID=UTC:20260507T090000
DTEND;TZID=UTC:20260507T200000
DTSTAMP:20260425T150944
CREATED:20260422T140035Z
LAST-MODIFIED:20260422T140035Z
UID:2917-1778144400-1778184000@thesensoryvillage.com
SUMMARY:Open Play - 9 AM to 8 PM
DESCRIPTION:All ticket sales are handled on-site. Stop by The Sensory Village to purchase your play session passes and join in the fun!
URL:https://thesensoryvillage.com/event/open-play-9-am-to-8-pm-6/
END:VEVENT
BEGIN:VEVENT
DTSTART;TZID=UTC:20260506T110000
DTEND;TZID=UTC:20260506T120000
DTSTAMP:20260425T150944
CREATED:20260422T145131Z
LAST-MODIFIED:20260422T145131Z
UID:2975-1778065200-1778068800@thesensoryvillage.com
SUMMARY:Therapy Dog Visit - 11 AM to 12 PM
DESCRIPTION:Spend an hour with one of our furry friends who loves to cuddle!
URL:https://thesensoryvillage.com/event/therapy-dog-visit-11-am-to-12-pm-15/
END:VEVENT
BEGIN:VEVENT
DTSTART;TZID=UTC:20260506T090000
DTEND;TZID=UTC:20260506T150000
DTSTAMP:20260425T150944
CREATED:20260422T135953Z
LAST-MODIFIED:20260422T135953Z
UID:2915-1778058000-1778079600@thesensoryvillage.com
SUMMARY:Open Play - 9 AM to 3 PM
DESCRIPTION:All ticket sales are handled on-site. Stop by The Sensory Village to purchase your play session passes and join in the fun!
URL:https://thesensoryvillage.com/event/open-play-9-am-to-3-pm-20/
END:VEVENT
BEGIN:VEVENT
DTSTART;TZID=UTC:20260505T110000
DTEND;TZID=UTC:20260505T120000
DTSTAMP:20260425T150944
CREATED:20260422T145043Z
LAST-MODIFIED:20260422T145043Z
UID:2973-1777978800-1777982400@thesensoryvillage.com
SUMMARY:Therapy Dog Visit - 11 AM to 12 PM
DESCRIPTION:Spend an hour with one of our furry friends who loves to cuddle!
URL:https://thesensoryvillage.com/event/therapy-dog-visit-11-am-to-12-pm-9/
END:VEVENT
BEGIN:VEVENT
DTSTART;TZID=UTC:20260505T090000
DTEND;TZID=UTC:20260505T150000
DTSTAMP:20260425T150944
CREATED:20260422T135916Z
LAST-MODIFIED:20260422T135916Z
UID:2913-1777971600-1777993200@thesensoryvillage.com
SUMMARY:Open Play - 9 AM to 3 PM
DESCRIPTION:All ticket sales are handled on-site. Stop by The Sensory Village to purchase your play session passes and join in the fun!
URL:https://thesensoryvillage.com/event/open-play-9-am-to-3-pm-19/
END:VEVENT
END:VCALENDAR