BEGIN:VCALENDAR
VERSION:2.0
PRODID:-//The Sensory Village - ECPv6.15.11//NONSGML v1.0//EN
CALSCALE:GREGORIAN
METHOD:PUBLISH
X-WR-CALNAME:The Sensory Village
X-ORIGINAL-URL:https://thesensoryvillage.com
X-WR-CALDESC:Events for The Sensory Village
REFRESH-INTERVAL;VALUE=DURATION:PT1H
X-Robots-Tag:noindex
X-PUBLISHED-TTL:PT1H
BEGIN:VTIMEZONE
TZID:UTC
BEGIN:STANDARD
TZOFFSETFROM:+0000
TZOFFSETTO:+0000
TZNAME:UTC
DTSTART:20250101T000000
END:STANDARD
END:VTIMEZONE
BEGIN:VEVENT
DTSTART;VALUE=DATE:20260510
DTEND;VALUE=DATE:20260511
DTSTAMP:20260425T132100
CREATED:20260316T134903Z
LAST-MODIFIED:20260316T134921Z
UID:2668-1778371200-1778457599@thesensoryvillage.com
SUMMARY:CLOSED
DESCRIPTION:The Sensory Village will be closed Sunday\, May 10th. Happy Mother’s Day!!!
URL:https://thesensoryvillage.com/event/closed-5/
END:VEVENT
BEGIN:VEVENT
DTSTART;TZID=UTC:20260509T130000
DTEND;TZID=UTC:20260509T150000
DTSTAMP:20260425T132100
CREATED:20260414T144255Z
LAST-MODIFIED:20260414T144330Z
UID:2875-1778331600-1778338800@thesensoryvillage.com
SUMMARY:Cade's Birthday Party 1:00 - 3:00 pm
DESCRIPTION:Happy Birthday! Please note the play area will be closed during this time for the group to celebrate!
URL:https://thesensoryvillage.com/event/cades-birthday-party-100-300-pm/
END:VEVENT
BEGIN:VEVENT
DTSTART;TZID=UTC:20260509T090000
DTEND;TZID=UTC:20260509T130000
DTSTAMP:20260425T132100
CREATED:20260422T140313Z
LAST-MODIFIED:20260422T140313Z
UID:2921-1778317200-1778331600@thesensoryvillage.com
SUMMARY:Open Play - 9 AM to 1 PM
DESCRIPTION:All ticket sales are handled on-site. Stop by The Sensory Village to purchase your play session passes and join in the fun!
URL:https://thesensoryvillage.com/event/open-play-9-am-to-1-pm-3/
END:VEVENT
BEGIN:VEVENT
DTSTART;TZID=UTC:20260508T090000
DTEND;TZID=UTC:20260508T150000
DTSTAMP:20260425T132100
CREATED:20260422T140115Z
LAST-MODIFIED:20260422T140115Z
UID:2919-1778230800-1778252400@thesensoryvillage.com
SUMMARY:Open Play - 9 AM to 3 PM
DESCRIPTION:All ticket sales are handled on-site. Stop by The Sensory Village to purchase your play session passes and join in the fun!
URL:https://thesensoryvillage.com/event/open-play-9-am-to-3-pm-21/
END:VEVENT
BEGIN:VEVENT
DTSTART;TZID=UTC:20260507T180000
DTEND;TZID=UTC:20260507T190000
DTSTAMP:20260425T132100
CREATED:20260401T131745Z
LAST-MODIFIED:20260401T131745Z
UID:2770-1778176800-1778180400@thesensoryvillage.com
SUMMARY:Understanding & Uplifting: Empowering Parents of Neurodiverse Children - 6 PM to 7 PM
DESCRIPTION:We’re excited to announce our new support group for parents of neurodivergent children\, led by Colleen Mest—a LCSW and parent of a child with autism. This group offers a welcoming and understanding space to share experiences\, exchange resources\, and find encouragement from others who truly understand the journey. While parents participate in the support group\, their children can enjoy supervised sensory play in the Village\, giving everyone the opportunity for support\, connection\, and fun. With Colleen’s professional expertise and personal insight\, parents can feel supported\, empowered\, and connected as they navigate the joys and challenges of raising neurodivergent kids. \nReserve your spot today by emailing us at thesensoryvillage@gmail.com or visiting https://thesensoryvillage.com/class-booking-form/
URL:https://thesensoryvillage.com/event/understanding-uplifting-empowering-parents-of-neurodiverse-children-6-pm-to-7-pm-2/
END:VEVENT
BEGIN:VEVENT
DTSTART;TZID=UTC:20260507T100000
DTEND;TZID=UTC:20260507T120000
DTSTAMP:20260425T132100
CREATED:20260422T152902Z
LAST-MODIFIED:20260422T152902Z
UID:2991-1778148000-1778155200@thesensoryvillage.com
SUMMARY:Glow Party - 10 AM to 12 PM
DESCRIPTION:Enjoy two hours of glow party sensory play—with the main lights off\, special glow lighting on\, and upbeat music—all included with your regular sensory play pass!
URL:https://thesensoryvillage.com/event/glow-party-10-am-to-12-pm-6/
END:VEVENT
BEGIN:VEVENT
DTSTART;TZID=UTC:20260507T090000
DTEND;TZID=UTC:20260507T200000
DTSTAMP:20260425T132100
CREATED:20260422T140035Z
LAST-MODIFIED:20260422T140035Z
UID:2917-1778144400-1778184000@thesensoryvillage.com
SUMMARY:Open Play - 9 AM to 8 PM
DESCRIPTION:All ticket sales are handled on-site. Stop by The Sensory Village to purchase your play session passes and join in the fun!
URL:https://thesensoryvillage.com/event/open-play-9-am-to-8-pm-6/
END:VEVENT
BEGIN:VEVENT
DTSTART;TZID=UTC:20260506T110000
DTEND;TZID=UTC:20260506T120000
DTSTAMP:20260425T132100
CREATED:20260422T145131Z
LAST-MODIFIED:20260422T145131Z
UID:2975-1778065200-1778068800@thesensoryvillage.com
SUMMARY:Therapy Dog Visit - 11 AM to 12 PM
DESCRIPTION:Spend an hour with one of our furry friends who loves to cuddle!
URL:https://thesensoryvillage.com/event/therapy-dog-visit-11-am-to-12-pm-15/
END:VEVENT
BEGIN:VEVENT
DTSTART;TZID=UTC:20260506T090000
DTEND;TZID=UTC:20260506T150000
DTSTAMP:20260425T132100
CREATED:20260422T135953Z
LAST-MODIFIED:20260422T135953Z
UID:2915-1778058000-1778079600@thesensoryvillage.com
SUMMARY:Open Play - 9 AM to 3 PM
DESCRIPTION:All ticket sales are handled on-site. Stop by The Sensory Village to purchase your play session passes and join in the fun!
URL:https://thesensoryvillage.com/event/open-play-9-am-to-3-pm-20/
END:VEVENT
BEGIN:VEVENT
DTSTART;TZID=UTC:20260505T110000
DTEND;TZID=UTC:20260505T120000
DTSTAMP:20260425T132100
CREATED:20260422T145043Z
LAST-MODIFIED:20260422T145043Z
UID:2973-1777978800-1777982400@thesensoryvillage.com
SUMMARY:Therapy Dog Visit - 11 AM to 12 PM
DESCRIPTION:Spend an hour with one of our furry friends who loves to cuddle!
URL:https://thesensoryvillage.com/event/therapy-dog-visit-11-am-to-12-pm-9/
END:VEVENT
BEGIN:VEVENT
DTSTART;TZID=UTC:20260505T090000
DTEND;TZID=UTC:20260505T150000
DTSTAMP:20260425T132100
CREATED:20260422T135916Z
LAST-MODIFIED:20260422T135916Z
UID:2913-1777971600-1777993200@thesensoryvillage.com
SUMMARY:Open Play - 9 AM to 3 PM
DESCRIPTION:All ticket sales are handled on-site. Stop by The Sensory Village to purchase your play session passes and join in the fun!
URL:https://thesensoryvillage.com/event/open-play-9-am-to-3-pm-19/
END:VEVENT
BEGIN:VEVENT
DTSTART;TZID=UTC:20260504T100000
DTEND;TZID=UTC:20260504T110000
DTSTAMP:20260425T132100
CREATED:20260422T142908Z
LAST-MODIFIED:20260422T142908Z
UID:2965-1777888800-1777892400@thesensoryvillage.com
SUMMARY:Ms Rachel's Sensory Hour - 10 AM to 11 AM
DESCRIPTION:Experience bubbles\, giggles\, sensory play\, and endless fun during Sensory Hour with Ms. Rachel at The Sensory Village—all included with your sensory play purchase!
URL:https://thesensoryvillage.com/event/ms-rachels-sensory-hour-10-am-to-11-am-5/
END:VEVENT
BEGIN:VEVENT
DTSTART;TZID=UTC:20260504T090000
DTEND;TZID=UTC:20260504T150000
DTSTAMP:20260425T132100
CREATED:20260422T135833Z
LAST-MODIFIED:20260422T135833Z
UID:2911-1777885200-1777906800@thesensoryvillage.com
SUMMARY:Open Play - 9 AM to 3 PM
DESCRIPTION:All ticket sales are handled on-site. Stop by The Sensory Village to purchase your play session passes and join in the fun!
URL:https://thesensoryvillage.com/event/open-play-9-am-to-3-pm-18/
END:VEVENT
BEGIN:VEVENT
DTSTART;TZID=UTC:20260503T120000
DTEND;TZID=UTC:20260503T170000
DTSTAMP:20260425T132100
CREATED:20260422T135754Z
LAST-MODIFIED:20260422T135754Z
UID:2909-1777809600-1777827600@thesensoryvillage.com
SUMMARY:Open Play - 12 PM to 5 PM
DESCRIPTION:All ticket sales are handled on-site. Stop by The Sensory Village to purchase your play session passes and join in the fun!
URL:https://thesensoryvillage.com/event/open-play-12-pm-to-5-pm-2/
END:VEVENT
BEGIN:VEVENT
DTSTART;TZID=UTC:20260502T153000
DTEND;TZID=UTC:20260502T170000
DTSTAMP:20260425T132100
CREATED:20260414T143951Z
LAST-MODIFIED:20260414T143951Z
UID:2873-1777735800-1777741200@thesensoryvillage.com
SUMMARY:Birthday Party 3:30 - 5:00 pm
DESCRIPTION:Happy Birthday! Please note the play area will be closed during this time for the group to celebrate!
URL:https://thesensoryvillage.com/event/birthday-party-330-500-pm-5/
END:VEVENT
BEGIN:VEVENT
DTSTART;TZID=UTC:20260502T130000
DTEND;TZID=UTC:20260502T150000
DTSTAMP:20260425T132100
CREATED:20260321T131642Z
LAST-MODIFIED:20260422T135236Z
UID:2708-1777726800-1777734000@thesensoryvillage.com
SUMMARY:Birthday Party 1:00 - 3:00 pm
DESCRIPTION:Happy Birthday! Please note the play area will be closed during this time for the group to celebrate!
URL:https://thesensoryvillage.com/event/birthday-party-100-230-pm-3/
END:VEVENT
BEGIN:VEVENT
DTSTART;TZID=UTC:20260502T090000
DTEND;TZID=UTC:20260502T130000
DTSTAMP:20260425T132100
CREATED:20260422T135713Z
LAST-MODIFIED:20260422T135713Z
UID:2907-1777712400-1777726800@thesensoryvillage.com
SUMMARY:Open Play - 9 AM to 1 PM
DESCRIPTION:All ticket sales are handled on-site. Stop by The Sensory Village to purchase your play session passes and join in the fun!
URL:https://thesensoryvillage.com/event/open-play-9-am-to-1-pm-2/
END:VEVENT
BEGIN:VEVENT
DTSTART;TZID=UTC:20260501T160000
DTEND;TZID=UTC:20260501T203000
DTSTAMP:20260425T132100
CREATED:20260422T172906Z
LAST-MODIFIED:20260422T172906Z
UID:3002-1777651200-1777667400@thesensoryvillage.com
SUMMARY:Lower Macungie Township Community Day - 4 PM to 8:30 PM
DESCRIPTION:We’re excited to participate in Lower Macungie Township Community Day\, where we’ll be offering fun sensory activities for all attendees. Stop by our area and join in the hands-on fun for the whole family!
URL:https://thesensoryvillage.com/event/lower-macungie-township-community-day-4-pm-to-830-pm/
END:VEVENT
BEGIN:VEVENT
DTSTART;TZID=UTC:20260501T090000
DTEND;TZID=UTC:20260501T150000
DTSTAMP:20260425T132100
CREATED:20260422T135619Z
LAST-MODIFIED:20260422T135619Z
UID:2905-1777626000-1777647600@thesensoryvillage.com
SUMMARY:Open Play - 9 AM to 3 PM
DESCRIPTION:All ticket sales are handled on-site. Stop by The Sensory Village to purchase your play session passes and join in the fun!
URL:https://thesensoryvillage.com/event/open-play-9-am-to-3-pm-17/
END:VEVENT
BEGIN:VEVENT
DTSTART;TZID=UTC:20260430T180000
DTEND;TZID=UTC:20260430T210000
DTSTAMP:20260425T132100
CREATED:20260401T142641Z
LAST-MODIFIED:20260401T142641Z
UID:2840-1777572000-1777582800@thesensoryvillage.com
SUMMARY:The Kindness Project's 4th Annual Pairing & Caring Event at Domaine Pterion - 6 PM to 9 PM
DESCRIPTION:We will be closing early to participate in The Kindness Project’s 4th Annual Pairing & Caring event at Domaine Pterion! Join us or consider making a donation to support this wonderful cause and help make a difference for families in need.
URL:https://thesensoryvillage.com/event/the-kindness-projects-4th-annual-pairing-caring-event-at-domaine-pterion-6-pm-to-9-pm/
END:VEVENT
BEGIN:VEVENT
DTSTART;TZID=UTC:20260430T100000
DTEND;TZID=UTC:20260430T120000
DTSTAMP:20260425T132100
CREATED:20260316T183157Z
LAST-MODIFIED:20260316T183157Z
UID:2693-1777543200-1777550400@thesensoryvillage.com
SUMMARY:Glow Party - 10 AM to 12 PM
DESCRIPTION:Enjoy two hours of glow party sensory play—with the main lights off\, special glow lighting on\, and upbeat music—all included with your regular sensory play pass!
URL:https://thesensoryvillage.com/event/glow-party-10-am-to-12-pm-5/
END:VEVENT
BEGIN:VEVENT
DTSTART;TZID=UTC:20260430T090000
DTEND;TZID=UTC:20260430T200000
DTSTAMP:20260425T132100
CREATED:20260401T135656Z
LAST-MODIFIED:20260422T135008Z
UID:2826-1777539600-1777579200@thesensoryvillage.com
SUMMARY:Open Play - 9 AM to 8 PM
DESCRIPTION:All ticket sales are handled on-site. Stop by The Sensory Village to purchase your play session passes and join in the fun!
URL:https://thesensoryvillage.com/event/open-play-9-am-to-6-pm/
END:VEVENT
BEGIN:VEVENT
DTSTART;TZID=UTC:20260429T140000
DTEND;TZID=UTC:20260429T150000
DTSTAMP:20260425T132100
CREATED:20260422T134834Z
LAST-MODIFIED:20260422T134834Z
UID:2899-1777471200-1777474800@thesensoryvillage.com
SUMMARY:Open Play - 2 PM to 3 PM
DESCRIPTION:All ticket sales are handled on-site. Stop by The Sensory Village to purchase your play session passes and join in the fun!
URL:https://thesensoryvillage.com/event/open-play-2-pm-to-3-pm/
END:VEVENT
BEGIN:VEVENT
DTSTART;TZID=UTC:20260429T100000
DTEND;TZID=UTC:20260429T140000
DTSTAMP:20260425T132100
CREATED:20260422T134937Z
LAST-MODIFIED:20260422T134937Z
UID:2901-1777456800-1777471200@thesensoryvillage.com
SUMMARY:Field Trip - 10 AM to 2 PM
DESCRIPTION:Field Trip Scheduled: The building will be reserved exclusively for this group during their visit.
URL:https://thesensoryvillage.com/event/field-trip-10-am-to-2-pm/
END:VEVENT
BEGIN:VEVENT
DTSTART;TZID=UTC:20260429T090000
DTEND;TZID=UTC:20260429T100000
DTSTAMP:20260425T132100
CREATED:20260401T135607Z
LAST-MODIFIED:20260422T134738Z
UID:2824-1777453200-1777456800@thesensoryvillage.com
SUMMARY:Open Play - 9 AM to 10 AM
DESCRIPTION:All ticket sales are handled on-site. Stop by The Sensory Village to purchase your play session passes and join in the fun!
URL:https://thesensoryvillage.com/event/open-play-9-am-to-3-pm-16/
END:VEVENT
BEGIN:VEVENT
DTSTART;TZID=UTC:20260428T110000
DTEND;TZID=UTC:20260428T120000
DTSTAMP:20260425T132100
CREATED:20260401T132636Z
LAST-MODIFIED:20260401T132636Z
UID:2786-1777374000-1777377600@thesensoryvillage.com
SUMMARY:Therapy Dog Visit - 11 AM to 12 PM
DESCRIPTION:Spend an hour with one of our furry friends who loves to cuddle!
URL:https://thesensoryvillage.com/event/therapy-dog-visit-11-am-to-12-pm-14/
END:VEVENT
BEGIN:VEVENT
DTSTART;TZID=UTC:20260428T090000
DTEND;TZID=UTC:20260428T150000
DTSTAMP:20260425T132100
CREATED:20260401T135518Z
LAST-MODIFIED:20260401T135518Z
UID:2822-1777366800-1777388400@thesensoryvillage.com
SUMMARY:Open Play - 9 AM to 3 PM
DESCRIPTION:All ticket sales are handled on-site. Stop by The Sensory Village to purchase your play session passes and join in the fun!
URL:https://thesensoryvillage.com/event/open-play-9-am-to-3-pm-15/
END:VEVENT
BEGIN:VEVENT
DTSTART;TZID=UTC:20260427T100000
DTEND;TZID=UTC:20260427T110000
DTSTAMP:20260425T132100
CREATED:20260316T180927Z
LAST-MODIFIED:20260316T181051Z
UID:2679-1777284000-1777287600@thesensoryvillage.com
SUMMARY:Ms Rachel's Sensory Hour - 10 AM to 11 AM
DESCRIPTION:Experience bubbles\, giggles\, sensory play\, and endless fun during Sensory Hour with Ms. Rachel at The Sensory Village—all included with your sensory play purchase!
URL:https://thesensoryvillage.com/event/ms-raches-sensory-hour-10-am-to-11-am/
END:VEVENT
BEGIN:VEVENT
DTSTART;TZID=UTC:20260427T090000
DTEND;TZID=UTC:20260427T150000
DTSTAMP:20260425T132100
CREATED:20260401T135354Z
LAST-MODIFIED:20260401T135354Z
UID:2820-1777280400-1777302000@thesensoryvillage.com
SUMMARY:Open Play - 9 AM to 3 PM
DESCRIPTION:All ticket sales are handled on-site. Stop by The Sensory Village to purchase your play session passes and join in the fun!
URL:https://thesensoryvillage.com/event/open-play-9-am-to-3-pm-14/
END:VEVENT
BEGIN:VEVENT
DTSTART;TZID=UTC:20260426T153000
DTEND;TZID=UTC:20260426T170000
DTSTAMP:20260425T132100
CREATED:20260226T222214Z
LAST-MODIFIED:20260226T222214Z
UID:2607-1777217400-1777222800@thesensoryvillage.com
SUMMARY:Birthday Party 3:30 - 5:00 pm
DESCRIPTION:Happy Birthday! Please note the play area will be closed during this time for the group to celebrate!
URL:https://thesensoryvillage.com/event/birthday-party-330-500-pm-3/
END:VEVENT
END:VCALENDAR