BEGIN:VCALENDAR
VERSION:2.0
PRODID:-//The Sensory Village - ECPv6.15.11//NONSGML v1.0//EN
CALSCALE:GREGORIAN
METHOD:PUBLISH
X-WR-CALNAME:The Sensory Village
X-ORIGINAL-URL:https://thesensoryvillage.com
X-WR-CALDESC:Events for The Sensory Village
REFRESH-INTERVAL;VALUE=DURATION:PT1H
X-Robots-Tag:noindex
X-PUBLISHED-TTL:PT1H
BEGIN:VTIMEZONE
TZID:UTC
BEGIN:STANDARD
TZOFFSETFROM:+0000
TZOFFSETTO:+0000
TZNAME:UTC
DTSTART:20250101T000000
END:STANDARD
END:VTIMEZONE
BEGIN:VEVENT
DTSTART;TZID=UTC:20260218T090000
DTEND;TZID=UTC:20260218T160000
DTSTAMP:20260425T132247
CREATED:20260118T181717Z
LAST-MODIFIED:20260128T234322Z
UID:2199-1771405200-1771430400@thesensoryvillage.com
SUMMARY:Open Play 9:00 am - 4:00 pm
DESCRIPTION:All ticket sales are handled on-site. Stop by The Sensory Village to purchase your play session passes and join in the fun!
URL:https://thesensoryvillage.com/event/open-play-900-am-800-pm-17/
END:VEVENT
BEGIN:VEVENT
DTSTART;TZID=UTC:20260217T110000
DTEND;TZID=UTC:20260217T120000
DTSTAMP:20260425T132247
CREATED:20260205T194001Z
LAST-MODIFIED:20260205T194001Z
UID:2398-1771326000-1771329600@thesensoryvillage.com
SUMMARY:Therapy Dog Visit 11:00 AM - 12:00 PM
DESCRIPTION:Spend an hour with one of our furry friends who loves to cuddle!
URL:https://thesensoryvillage.com/event/therapy-dog-visit-1100-am-1200-pm-11/
END:VEVENT
BEGIN:VEVENT
DTSTART;TZID=UTC:20260217T090000
DTEND;TZID=UTC:20260217T160000
DTSTAMP:20260425T132247
CREATED:20260118T181628Z
LAST-MODIFIED:20260118T181628Z
UID:2197-1771318800-1771344000@thesensoryvillage.com
SUMMARY:Open Play 9:00 am - 4:00 pm
DESCRIPTION:All ticket sales are handled on-site. Stop by The Sensory Village to purchase your play session passes and join in the fun!
URL:https://thesensoryvillage.com/event/open-play-900-am-400-pm-24/
END:VEVENT
BEGIN:VEVENT
DTSTART;TZID=UTC:20260216T183000
DTEND;TZID=UTC:20260216T193000
DTSTAMP:20260425T132247
CREATED:20260205T194516Z
LAST-MODIFIED:20260205T194516Z
UID:2402-1771266600-1771270200@thesensoryvillage.com
SUMMARY:Sound Bath 6:30 - 7:30 PM
DESCRIPTION:Experience deep restoration and energetic balance in this 1 hour Sound Bath as layers of soothing sounds from crystal quartz singing bowls\, chimes and other healing instruments gently wash over you. The vibrations help quiet the mind\, release tension\, and invite the body into a state of profound relaxation. \nThe experience begins with centering\, diaphragmatic breathing and concludes with grounding frequencies and a quiet integration time. \nThe class is $30 with limited spots available. \nReserve yours today by emailing us at thesensoryvillage@gmail.com or visiting https://thesensoryvillage.com/class-booking-form/ \nPlease note: The reservation window closes at 8:00 AM on January 19th. Be sure to secure your spot early to guarantee availability!
URL:https://thesensoryvillage.com/event/sound-bath-630-730-pm/
END:VEVENT
BEGIN:VEVENT
DTSTART;TZID=UTC:20260216T170000
DTEND;TZID=UTC:20260216T180000
DTSTAMP:20260425T132247
CREATED:20260205T194247Z
LAST-MODIFIED:20260205T194247Z
UID:2400-1771261200-1771264800@thesensoryvillage.com
SUMMARY:Pilates 5:00 - 6:00 PM
DESCRIPTION:Christine Betances is a comprehensively trained classical Pilates instructor and the founder of CMB Pilates. She specializes in helping caregivers reconnect with their bodies\, regulate their nervous systems\, and cultivate pockets of calm through mindful\, breath-led Pilates. \nDriven by the belief that caregivers deserve the same care they give others\, Christine creates grounding movement experiences that restore connection\, strength\, and self-trust. As a neurodivergent mom herself\, she deeply understands the physical and emotional load caregivers carry. \nHer warm\, supportive teaching style blends classical precision\, functional strength\, and compassionate guidance — helping caregivers feel grounded\, empowered\, and more at home in their bodies. \n\nThe class is $25 with limited spots available. \nReserve yours today by emailing us at thesensoryvillage@gmail.com or visiting https://thesensoryvillage.com/class-booking-form/ \nThe instructor also asks that you fill out an intake form at cmbpilates.com/svclass so that the experience can be customized to meet your needs. \nPlease note: The reservation window closes at 8:00 AM on January 19th. Be sure to secure your spot early to guarantee availability!
URL:https://thesensoryvillage.com/event/pilates-500-600-pm-2/
END:VEVENT
BEGIN:VEVENT
DTSTART;TZID=UTC:20260216T090000
DTEND;TZID=UTC:20260216T160000
DTSTAMP:20260425T132247
CREATED:20260118T181502Z
LAST-MODIFIED:20260118T181502Z
UID:2195-1771232400-1771257600@thesensoryvillage.com
SUMMARY:Open Play 9:00 am - 4:00 pm
DESCRIPTION:All ticket sales are handled on-site. Stop by The Sensory Village to purchase your play session passes and join in the fun!
URL:https://thesensoryvillage.com/event/open-play-900-am-400-pm-23/
END:VEVENT
BEGIN:VEVENT
DTSTART;TZID=UTC:20260215T120000
DTEND;TZID=UTC:20260215T170000
DTSTAMP:20260425T132247
CREATED:20260118T161457Z
LAST-MODIFIED:20260118T181254Z
UID:2174-1771156800-1771174800@thesensoryvillage.com
SUMMARY:Open Play 12:00 - 5:00 pm
DESCRIPTION:All ticket sales are handled on-site. Stop by The Sensory Village to purchase your play session passes and join in the fun!
URL:https://thesensoryvillage.com/event/open-play-54/
END:VEVENT
BEGIN:VEVENT
DTSTART;TZID=UTC:20260215T100000
DTEND;TZID=UTC:20260215T120000
DTSTAMP:20260425T132247
CREATED:20260115T230957Z
LAST-MODIFIED:20260211T200140Z
UID:2130-1771149600-1771156800@thesensoryvillage.com
SUMMARY:Anthony's Birthday Party 10:00 am - 12:00 pm
DESCRIPTION:Happy 2nd Birthday Anthony! Please note the play area will be closed during this time for Anthony and his group to celebrate!
URL:https://thesensoryvillage.com/event/happy-birthday-anthony/
END:VEVENT
BEGIN:VEVENT
DTSTART;TZID=UTC:20260214T100000
DTEND;TZID=UTC:20260214T170000
DTSTAMP:20260425T132247
CREATED:20260118T161406Z
LAST-MODIFIED:20260118T180916Z
UID:2172-1771063200-1771088400@thesensoryvillage.com
SUMMARY:Open Play 10:00 am - 5:00 pm
DESCRIPTION:All ticket sales are handled on-site. Stop by The Sensory Village to purchase your play session passes and join in the fun!
URL:https://thesensoryvillage.com/event/open-play-53/
END:VEVENT
BEGIN:VEVENT
DTSTART;TZID=UTC:20260213T090000
DTEND;TZID=UTC:20260213T160000
DTSTAMP:20260425T132247
CREATED:20260118T161332Z
LAST-MODIFIED:20260118T180653Z
UID:2170-1770973200-1770998400@thesensoryvillage.com
SUMMARY:Open Play 9:00 am - 4:00 pm
DESCRIPTION:All ticket sales are handled on-site. Stop by The Sensory Village to purchase your play session passes and join in the fun!
URL:https://thesensoryvillage.com/event/open-play-52/
END:VEVENT
BEGIN:VEVENT
DTSTART;TZID=UTC:20260212T180000
DTEND;TZID=UTC:20260212T190000
DTSTAMP:20260425T132247
CREATED:20260119T183559Z
LAST-MODIFIED:20260121T154930Z
UID:2242-1770919200-1770922800@thesensoryvillage.com
SUMMARY:Parent Round Table 6:00 - 7:00 pm
DESCRIPTION:Led by a variety of experienced professionals in related fields. Connect with other parents in a supportive\, welcoming environment and discuss topics such as potty training\, sleep routines\, daily schedules\, youth sports\, behavior management\, and more. While parents participate\, children can enjoy supervised sensory play in the Village. \nReserve your spot today by emailing us at thesensoryvillage@gmail.com or visiting https://thesensoryvillage.com/class-booking-form/
URL:https://thesensoryvillage.com/event/parent-round-table-600-700-pm/
END:VEVENT
BEGIN:VEVENT
DTSTART;TZID=UTC:20260212T090000
DTEND;TZID=UTC:20260212T200000
DTSTAMP:20260425T132247
CREATED:20260118T161242Z
LAST-MODIFIED:20260118T180616Z
UID:2168-1770886800-1770926400@thesensoryvillage.com
SUMMARY:Open Play 9:00 am - 8:00 pm
DESCRIPTION:All ticket sales are handled on-site. Stop by The Sensory Village to purchase your play session passes and join in the fun!
URL:https://thesensoryvillage.com/event/open-play-51/
END:VEVENT
BEGIN:VEVENT
DTSTART;TZID=UTC:20260211T090000
DTEND;TZID=UTC:20260211T160000
DTSTAMP:20260425T132247
CREATED:20260118T161152Z
LAST-MODIFIED:20260128T234220Z
UID:2166-1770800400-1770825600@thesensoryvillage.com
SUMMARY:Open Play 9:00 am - 4:00 pm
DESCRIPTION:All ticket sales are handled on-site. Stop by The Sensory Village to purchase your play session passes and join in the fun!
URL:https://thesensoryvillage.com/event/open-play-50/
END:VEVENT
BEGIN:VEVENT
DTSTART;TZID=UTC:20260210T180000
DTEND;TZID=UTC:20260210T193000
DTSTAMP:20260425T132247
CREATED:20260205T195417Z
LAST-MODIFIED:20260205T195417Z
UID:2404-1770746400-1770751800@thesensoryvillage.com
SUMMARY:Parent Education Series at The Hillside School: Feel\, Play\, & Grow Sensory Night 6:00 - 7:30 PM
DESCRIPTION:Join us for the Parent Education Series: Feel\, Play\, & Grow Sensory Night at The Hillside School! This special event is designed to empower families with sensory knowledge\, practical tips\, and hands-on activities that support children’s growth and development. Discover new strategies\, connect with other parents\, and experience the benefits of sensory play in a welcoming\, interactive environment.
URL:https://thesensoryvillage.com/event/parent-education-series-at-the-hillside-school-feel-play-grow-sensory-night-600-730-pm/
END:VEVENT
BEGIN:VEVENT
DTSTART;TZID=UTC:20260210T110000
DTEND;TZID=UTC:20260210T120000
DTSTAMP:20260425T132247
CREATED:20260205T193848Z
LAST-MODIFIED:20260205T193848Z
UID:2396-1770721200-1770724800@thesensoryvillage.com
SUMMARY:Therapy Dog Visit 11:00 AM - 12:00 PM
DESCRIPTION:Spend an hour with one of our furry friends who loves to cuddle!
URL:https://thesensoryvillage.com/event/therapy-dog-visit-1100-am-1200-pm-10/
END:VEVENT
BEGIN:VEVENT
DTSTART;TZID=UTC:20260210T090000
DTEND;TZID=UTC:20260210T160000
DTSTAMP:20260425T132247
CREATED:20260118T161054Z
LAST-MODIFIED:20260118T180353Z
UID:2164-1770714000-1770739200@thesensoryvillage.com
SUMMARY:Open Play 9:00 am - 4:00 pm
DESCRIPTION:All ticket sales are handled on-site. Stop by The Sensory Village to purchase your play session passes and join in the fun!
URL:https://thesensoryvillage.com/event/open-play-49/
END:VEVENT
BEGIN:VEVENT
DTSTART;TZID=UTC:20260209T090000
DTEND;TZID=UTC:20260209T160000
DTSTAMP:20260425T132247
CREATED:20260118T161011Z
LAST-MODIFIED:20260118T180310Z
UID:2162-1770627600-1770652800@thesensoryvillage.com
SUMMARY:Open Play 9:00 am - 4:00 pm
DESCRIPTION:All ticket sales are handled on-site. Stop by The Sensory Village to purchase your play session passes and join in the fun!
URL:https://thesensoryvillage.com/event/open-play-48/
END:VEVENT
BEGIN:VEVENT
DTSTART;TZID=UTC:20260208T153000
DTEND;TZID=UTC:20260208T170000
DTSTAMP:20260425T132247
CREATED:20260104T190013Z
LAST-MODIFIED:20260118T160900Z
UID:2087-1770564600-1770570000@thesensoryvillage.com
SUMMARY:Georgie's Birthday Party 3:30 - 5:00 pm
DESCRIPTION:Happy Birthday Georgie! Please note the play area will be closed during this time for Georgie and his group to celebrate!
URL:https://thesensoryvillage.com/event/happy-birthday-georgie/
END:VEVENT
BEGIN:VEVENT
DTSTART;TZID=UTC:20260208T123000
DTEND;TZID=UTC:20260208T153000
DTSTAMP:20260425T132247
CREATED:20260118T160810Z
LAST-MODIFIED:20260118T180231Z
UID:2159-1770553800-1770564600@thesensoryvillage.com
SUMMARY:Open Play 12:30 - 3:30 pm
DESCRIPTION:All ticket sales are handled on-site. Stop by The Sensory Village to purchase your play session passes and join in the fun!
URL:https://thesensoryvillage.com/event/open-play-47/
END:VEVENT
BEGIN:VEVENT
DTSTART;TZID=UTC:20260208T110000
DTEND;TZID=UTC:20260208T123000
DTSTAMP:20260425T132247
CREATED:20251210T164921Z
LAST-MODIFIED:20251210T164921Z
UID:1900-1770548400-1770553800@thesensoryvillage.com
SUMMARY:Owen's Birthday 11:00 AM - 12:30 PM
DESCRIPTION:Happy Birthday Owen! Please note the play area will be closed during this time for Owen and his group to celebrate!
URL:https://thesensoryvillage.com/event/owens-birthday-1100-am-1230-pm/
END:VEVENT
BEGIN:VEVENT
DTSTART;TZID=UTC:20260207T153000
DTEND;TZID=UTC:20260207T170000
DTSTAMP:20260425T132247
CREATED:20260118T171518Z
LAST-MODIFIED:20260118T171518Z
UID:2177-1770478200-1770483600@thesensoryvillage.com
SUMMARY:Lincoln's Birthday Party 3:30 - 5:00 pm
DESCRIPTION:Happy 6th Birthday Lincoln! Please note the play area will be closed during this time for Lincoln and his group to celebrate!
URL:https://thesensoryvillage.com/event/lincolns-birthday-party-330-500-pm/
END:VEVENT
BEGIN:VEVENT
DTSTART;TZID=UTC:20260207T100000
DTEND;TZID=UTC:20260207T153000
DTSTAMP:20260425T132247
CREATED:20260118T160710Z
LAST-MODIFIED:20260118T171709Z
UID:2157-1770458400-1770478200@thesensoryvillage.com
SUMMARY:Open Play 10:00 am - 3:30 pm
DESCRIPTION:All ticket sales are handled on-site. Stop by The Sensory Village to purchase your play session passes and join in the fun!
URL:https://thesensoryvillage.com/event/open-play-46/
END:VEVENT
BEGIN:VEVENT
DTSTART;TZID=UTC:20260206T113000
DTEND;TZID=UTC:20260206T160000
DTSTAMP:20260425T132247
CREATED:20260118T160631Z
LAST-MODIFIED:20260128T233912Z
UID:2155-1770377400-1770393600@thesensoryvillage.com
SUMMARY:Open Play 11:30 am - 4:00 pm
DESCRIPTION:All ticket sales are handled on-site. Stop by The Sensory Village to purchase your play session passes and join in the fun!
URL:https://thesensoryvillage.com/event/open-play-45/
END:VEVENT
BEGIN:VEVENT
DTSTART;TZID=UTC:20260206T093000
DTEND;TZID=UTC:20260206T113000
DTSTAMP:20260425T132247
CREATED:20251212T203111Z
LAST-MODIFIED:20260128T233813Z
UID:1981-1770370200-1770377400@thesensoryvillage.com
SUMMARY:Field Trip 9:30 - 11:30 am
DESCRIPTION:Field Trip Scheduled: The building will be reserved exclusively for this group during their visit.
URL:https://thesensoryvillage.com/event/field-trip-930-1130-am/
END:VEVENT
BEGIN:VEVENT
DTSTART;TZID=UTC:20260205T180000
DTEND;TZID=UTC:20260205T190000
DTSTAMP:20260425T132247
CREATED:20260119T180934Z
LAST-MODIFIED:20260119T180934Z
UID:2235-1770314400-1770318000@thesensoryvillage.com
SUMMARY:Understanding & Uplifting: Empowering Parents of Neurodiverse Children 6:00 – 7:00 PM
DESCRIPTION:We’re excited to announce our new support group for parents of neurodivergent children\, led by Colleen Mest—a LCSW and parent of a child with autism. This group offers a welcoming and understanding space to share experiences\, exchange resources\, and find encouragement from others who truly understand the journey. While parents participate in the support group\, their children can enjoy supervised sensory play in the Village\, giving everyone the opportunity for support\, connection\, and fun. With Colleen’s professional expertise and personal insight\, parents can feel supported\, empowered\, and connected as they navigate the joys and challenges of raising neurodivergent kids. \nReserve your spot today by emailing us at thesensoryvillage@gmail.com or visiting https://thesensoryvillage.com/class-booking-form/
URL:https://thesensoryvillage.com/event/understanding-uplifting-empowering-parents-of-neurodiverse-children-600-700-pm/
END:VEVENT
BEGIN:VEVENT
DTSTART;TZID=UTC:20260205T090000
DTEND;TZID=UTC:20260205T200000
DTSTAMP:20260425T132247
CREATED:20260118T160547Z
LAST-MODIFIED:20260118T175333Z
UID:2153-1770282000-1770321600@thesensoryvillage.com
SUMMARY:Open Play 9:00 am - 8:00 pm
DESCRIPTION:All ticket sales are handled on-site. Stop by The Sensory Village to purchase your play session passes and join in the fun!
URL:https://thesensoryvillage.com/event/open-play-44/
END:VEVENT
BEGIN:VEVENT
DTSTART;TZID=UTC:20260204T090000
DTEND;TZID=UTC:20260204T160000
DTSTAMP:20260425T132247
CREATED:20260118T160459Z
LAST-MODIFIED:20260128T234129Z
UID:2151-1770195600-1770220800@thesensoryvillage.com
SUMMARY:Open Play 9:00 am - 4:00 pm
DESCRIPTION:
URL:https://thesensoryvillage.com/event/open-play-43/
END:VEVENT
BEGIN:VEVENT
DTSTART;TZID=UTC:20260203T090000
DTEND;TZID=UTC:20260203T160000
DTSTAMP:20260425T132247
CREATED:20260118T160406Z
LAST-MODIFIED:20260118T172055Z
UID:2149-1770109200-1770134400@thesensoryvillage.com
SUMMARY:Open Play 9:00 am - 4:00 pm
DESCRIPTION:All ticket sales are handled on-site. Stop by The Sensory Village to purchase your play session passes and join in the fun!
URL:https://thesensoryvillage.com/event/open-play-42/
END:VEVENT
BEGIN:VEVENT
DTSTART;TZID=UTC:20260202T180000
DTEND;TZID=UTC:20260202T190000
DTSTAMP:20260425T132247
CREATED:20260119T164234Z
LAST-MODIFIED:20260119T164234Z
UID:2233-1770055200-1770058800@thesensoryvillage.com
SUMMARY:Adult Meditation 6:00 - 7:00 pm
DESCRIPTION:Join us for a “Mindful Monday” of meditation led by Amy Musto — a mom\, nurse\, and holistic wellness guide with over 30 years of experience helping others find balance and calm in the midst of busy lives. As a Registered Nurse (MSN\, RN) and Hatha Yoga teacher trained by the Himalayan Institute\, Amy blends her background with the power of yoga and mindfulness. She brings a grounded\, compassionate approach to wellness that supports parents in nurturing both themselves and their families. Her mission is to help everyone reconnect to peace\, presence\, and vitality—so they can show up fully for the little ones who need them most. \nThis 60-minute meditation class begins with gentle movement\, breath-work\, and grounding exercises to prepare the body and quiet the mind. From there\, we move into deep relaxation and conclude with a guided meditation designed to restore balance and inner calm. The class is $25 with limited spots available. \nReserve yours today by emailing us at thesensoryvillage@gmail.com or visiting https://thesensoryvillage.com/class-booking-form/
URL:https://thesensoryvillage.com/event/adult-meditation-600-700-pm-2/
END:VEVENT
BEGIN:VEVENT
DTSTART;TZID=UTC:20260202T090000
DTEND;TZID=UTC:20260202T160000
DTSTAMP:20260425T132247
CREATED:20260118T160259Z
LAST-MODIFIED:20260118T172009Z
UID:2147-1770022800-1770048000@thesensoryvillage.com
SUMMARY:Open Play 9:00 am - 4:00 pm
DESCRIPTION:
URL:https://thesensoryvillage.com/event/open-play-41/
END:VEVENT
END:VCALENDAR