BEGIN:VCALENDAR
VERSION:2.0
PRODID:-//The Sensory Village - ECPv6.15.11//NONSGML v1.0//EN
CALSCALE:GREGORIAN
METHOD:PUBLISH
X-ORIGINAL-URL:https://thesensoryvillage.com
X-WR-CALDESC:Events for The Sensory Village
REFRESH-INTERVAL;VALUE=DURATION:PT1H
X-Robots-Tag:noindex
X-PUBLISHED-TTL:PT1H
BEGIN:VTIMEZONE
TZID:UTC
BEGIN:STANDARD
TZOFFSETFROM:+0000
TZOFFSETTO:+0000
TZNAME:UTC
DTSTART:20240101T000000
END:STANDARD
END:VTIMEZONE
BEGIN:VEVENT
DTSTART;TZID=UTC:20251222T090000
DTEND;TZID=UTC:20251222T160000
DTSTAMP:20260425T131045
CREATED:20251128T152114Z
LAST-MODIFIED:20251128T152114Z
UID:1811-1766394000-1766419200@thesensoryvillage.com
SUMMARY:Open Play 9:00 am - 4:00 pm
DESCRIPTION:All ticket sales are handled on-site. Stop by The Sensory Village to purchase your play session passes and join in the fun!
URL:https://thesensoryvillage.com/event/open-play-900-am-400-pm-6/
END:VEVENT
BEGIN:VEVENT
DTSTART;TZID=UTC:20251223T090000
DTEND;TZID=UTC:20251223T160000
DTSTAMP:20260425T131045
CREATED:20251128T152157Z
LAST-MODIFIED:20251128T152157Z
UID:1813-1766480400-1766505600@thesensoryvillage.com
SUMMARY:Open Play 9:00 am - 4:00 pm
DESCRIPTION:All ticket sales are handled on-site. Stop by The Sensory Village to purchase your play session passes and join in the fun!
URL:https://thesensoryvillage.com/event/open-play-900-am-400-pm-7/
END:VEVENT
BEGIN:VEVENT
DTSTART;TZID=UTC:20251223T110000
DTEND;TZID=UTC:20251223T120000
DTSTAMP:20260425T131045
CREATED:20251128T152527Z
LAST-MODIFIED:20251128T152527Z
UID:1815-1766487600-1766491200@thesensoryvillage.com
SUMMARY:Therapy Dog Visit 11:00 am - 12:00 pm
DESCRIPTION:Spend an hour with one of our furry friends who loves to cuddle!
URL:https://thesensoryvillage.com/event/therapy-dog-visit-1100-am-1200-pm-5/
END:VEVENT
BEGIN:VEVENT
DTSTART;VALUE=DATE:20251224
DTEND;VALUE=DATE:20251225
DTSTAMP:20260425T131045
CREATED:20251128T153155Z
LAST-MODIFIED:20251128T153155Z
UID:1818-1766534400-1766620799@thesensoryvillage.com
SUMMARY:Closed
DESCRIPTION:We will be closed on Christmas Eve and Christmas Day. Wishing you a joyful holiday season!
URL:https://thesensoryvillage.com/event/closed-2/
END:VEVENT
BEGIN:VEVENT
DTSTART;VALUE=DATE:20251225
DTEND;VALUE=DATE:20251226
DTSTAMP:20260425T131045
CREATED:20251128T153242Z
LAST-MODIFIED:20251128T153242Z
UID:1820-1766620800-1766707199@thesensoryvillage.com
SUMMARY:Closed
DESCRIPTION:We will be closed on Christmas Eve and Christmas Day. Wishing you a joyful holiday season!
URL:https://thesensoryvillage.com/event/closed-3/
END:VEVENT
BEGIN:VEVENT
DTSTART;TZID=UTC:20251226T090000
DTEND;TZID=UTC:20251226T160000
DTSTAMP:20260425T131045
CREATED:20251128T153408Z
LAST-MODIFIED:20251128T153408Z
UID:1822-1766739600-1766764800@thesensoryvillage.com
SUMMARY:Open Play 9:00 am - 4:00 pm
DESCRIPTION:All ticket sales are handled on-site. Stop by The Sensory Village to purchase your play session passes and join in the fun!
URL:https://thesensoryvillage.com/event/open-play-900-am-400-pm-8/
END:VEVENT
BEGIN:VEVENT
DTSTART;TZID=UTC:20251227T100000
DTEND;TZID=UTC:20251227T170000
DTSTAMP:20260425T131045
CREATED:20251128T153449Z
LAST-MODIFIED:20251128T153449Z
UID:1824-1766829600-1766854800@thesensoryvillage.com
SUMMARY:Open Play 10:00 am - 5:00 pm
DESCRIPTION:All ticket sales are handled on-site. Stop by The Sensory Village to purchase your play session passes and join in the fun!
URL:https://thesensoryvillage.com/event/open-play-1000-am-500-pm-2/
END:VEVENT
BEGIN:VEVENT
DTSTART;TZID=UTC:20251228T120000
DTEND;TZID=UTC:20251228T150000
DTSTAMP:20260425T131045
CREATED:20251128T153537Z
LAST-MODIFIED:20251128T153537Z
UID:1826-1766923200-1766934000@thesensoryvillage.com
SUMMARY:Open Play 12:00 - 3:00 pm
DESCRIPTION:All ticket sales are handled on-site. Stop by The Sensory Village to purchase your play session passes and join in the fun!
URL:https://thesensoryvillage.com/event/open-play-1200-300-pm/
END:VEVENT
BEGIN:VEVENT
DTSTART;TZID=UTC:20251228T150000
DTEND;TZID=UTC:20251228T170000
DTSTAMP:20260425T131045
CREATED:20251125T162812Z
LAST-MODIFIED:20251125T162812Z
UID:1744-1766934000-1766941200@thesensoryvillage.com
SUMMARY:Happy Birthday Deacon 3:00 - 5:00 pm
DESCRIPTION:Happy 4th Birthday Deacon! Please note the play area will be closed during this time for Deacon and his group to celebrate!
URL:https://thesensoryvillage.com/event/happy-birthday-deacon-300-500-pm/
END:VEVENT
BEGIN:VEVENT
DTSTART;TZID=UTC:20251229T090000
DTEND;TZID=UTC:20251229T160000
DTSTAMP:20260425T131045
CREATED:20251128T153618Z
LAST-MODIFIED:20251128T153618Z
UID:1828-1766998800-1767024000@thesensoryvillage.com
SUMMARY:Open Play 9:00 am - 4:00 pm
DESCRIPTION:All ticket sales are handled on-site. Stop by The Sensory Village to purchase your play session passes and join in the fun!
URL:https://thesensoryvillage.com/event/open-play-900-am-400-pm-9/
END:VEVENT
BEGIN:VEVENT
DTSTART;TZID=UTC:20251230T090000
DTEND;TZID=UTC:20251230T160000
DTSTAMP:20260425T131045
CREATED:20251128T153717Z
LAST-MODIFIED:20251128T153717Z
UID:1830-1767085200-1767110400@thesensoryvillage.com
SUMMARY:Open Play 9:00 am - 4:00 pm
DESCRIPTION:All ticket sales are handled on-site. Stop by The Sensory Village to purchase your play session passes and join in the fun!
URL:https://thesensoryvillage.com/event/open-play-900-am-400-pm-10/
END:VEVENT
BEGIN:VEVENT
DTSTART;TZID=UTC:20251230T110000
DTEND;TZID=UTC:20251230T120000
DTSTAMP:20260425T131045
CREATED:20251128T154345Z
LAST-MODIFIED:20251128T154345Z
UID:1834-1767092400-1767096000@thesensoryvillage.com
SUMMARY:Therapy Dog Visit 11:00 am - 12:00 pm
DESCRIPTION:Spend an hour with one of our furry friends who loves to cuddle!
URL:https://thesensoryvillage.com/event/therapy-dog-visit-1100-am-1200-pm-6/
END:VEVENT
BEGIN:VEVENT
DTSTART;TZID=UTC:20251231T090000
DTEND;TZID=UTC:20251231T143000
DTSTAMP:20260425T131045
CREATED:20251128T153803Z
LAST-MODIFIED:20251128T153803Z
UID:1832-1767171600-1767191400@thesensoryvillage.com
SUMMARY:Open Play 9:00 am - 2:30 pm
DESCRIPTION:All ticket sales are handled on-site. Stop by The Sensory Village to purchase your play session passes and join in the fun!
URL:https://thesensoryvillage.com/event/open-play-900-am-230-pm/
END:VEVENT
BEGIN:VEVENT
DTSTART;TZID=UTC:20251231T143000
DTEND;TZID=UTC:20251231T160000
DTSTAMP:20260425T131045
CREATED:20251009T182039Z
LAST-MODIFIED:20251009T182039Z
UID:1268-1767191400-1767196800@thesensoryvillage.com
SUMMARY:Birthday Party 2:30 - 4:00 pm
DESCRIPTION:Happy Birthday! Please note the play area will be closed during this time for the group to celebrate!
URL:https://thesensoryvillage.com/event/birthday-party-230-400-pm/
END:VEVENT
BEGIN:VEVENT
DTSTART;VALUE=DATE:20260101
DTEND;VALUE=DATE:20260102
DTSTAMP:20260425T131045
CREATED:20251128T155141Z
LAST-MODIFIED:20251128T155141Z
UID:1838-1767225600-1767311999@thesensoryvillage.com
SUMMARY:Closed
DESCRIPTION:We will be closed on New Year’s Day. Wishing you a safe and happy New Year!
URL:https://thesensoryvillage.com/event/closed-4/
END:VEVENT
BEGIN:VEVENT
DTSTART;TZID=UTC:20260102T090000
DTEND;TZID=UTC:20260102T160000
DTSTAMP:20260425T131045
CREATED:20251212T194038Z
LAST-MODIFIED:20251212T194038Z
UID:1915-1767344400-1767369600@thesensoryvillage.com
SUMMARY:Open Play 9:00 am - 4:00 pm
DESCRIPTION:All ticket sales are handled on-site. Stop by The Sensory Village to purchase your play session passes and join in the fun!
URL:https://thesensoryvillage.com/event/open-play-900-am-400-pm-11/
END:VEVENT
BEGIN:VEVENT
DTSTART;TZID=UTC:20260103T100000
DTEND;TZID=UTC:20260103T170000
DTSTAMP:20260425T131045
CREATED:20251212T194120Z
LAST-MODIFIED:20251212T194120Z
UID:1917-1767434400-1767459600@thesensoryvillage.com
SUMMARY:Open Play 10:00 am - 5:00 pm
DESCRIPTION:All ticket sales are handled on-site. Stop by The Sensory Village to purchase your play session passes and join in the fun!
URL:https://thesensoryvillage.com/event/open-play-1000-am-500-pm-3/
END:VEVENT
BEGIN:VEVENT
DTSTART;TZID=UTC:20260104T120000
DTEND;TZID=UTC:20260104T153000
DTSTAMP:20260425T131045
CREATED:20251212T194257Z
LAST-MODIFIED:20251212T194257Z
UID:1919-1767528000-1767540600@thesensoryvillage.com
SUMMARY:Open Play 12:00 pm - 3:30 pm
DESCRIPTION:All ticket sales are handled on-site. Stop by The Sensory Village to purchase your play session passes and join in the fun!
URL:https://thesensoryvillage.com/event/open-play-1200-pm-330-pm/
END:VEVENT
BEGIN:VEVENT
DTSTART;TZID=UTC:20260104T153000
DTEND;TZID=UTC:20260104T170000
DTSTAMP:20260425T131045
CREATED:20251031T174215Z
LAST-MODIFIED:20251031T174215Z
UID:1516-1767540600-1767546000@thesensoryvillage.com
SUMMARY:Birthday Party 3:30 - 5:00 pm
DESCRIPTION:Happy Birthday! Please note the play area will be closed during this time for the group to celebrate!
URL:https://thesensoryvillage.com/event/birthday-party-330-500-pm/
END:VEVENT
BEGIN:VEVENT
DTSTART;TZID=UTC:20260105T090000
DTEND;TZID=UTC:20260105T160000
DTSTAMP:20260425T131045
CREATED:20251212T194508Z
LAST-MODIFIED:20251212T194508Z
UID:1922-1767603600-1767628800@thesensoryvillage.com
SUMMARY:Open Play 9:00 am - 4:00 pm
DESCRIPTION:All ticket sales are handled on-site. Stop by The Sensory Village to purchase your play session passes and join in the fun!
URL:https://thesensoryvillage.com/event/open-play-900-am-400-pm-12/
END:VEVENT
BEGIN:VEVENT
DTSTART;TZID=UTC:20260105T180000
DTEND;TZID=UTC:20260105T190000
DTSTAMP:20260425T131045
CREATED:20251204T182954Z
LAST-MODIFIED:20251217T153917Z
UID:1882-1767636000-1767639600@thesensoryvillage.com
SUMMARY:Adult Meditation - 6:00 - 7:00 pm
DESCRIPTION:Join us for a “Mindful Monday” of meditation led by Amy Musto — a mom\, nurse\, and holistic wellness guide with over 30 years of experience helping others find balance and calm in the midst of busy lives. As a Registered Nurse (MSN\, RN) and Hatha Yoga teacher trained by the Himalayan Institute\, Amy blends her background with the power of yoga and mindfulness. She brings a grounded\, compassionate approach to wellness that supports parents in nurturing both themselves and their families. Her mission is to help everyone reconnect to peace\, presence\, and vitality—so they can show up fully for the little ones who need them most. \nThis 60-minute meditation class begins with gentle movement\, breath-work\, and grounding exercises to prepare the body and quiet the mind. From there\, we move into deep relaxation and conclude with a guided meditation designed to restore balance and inner calm. The class is $25 with limited spots available. \nReserve yours today by emailing us at thesensoryvillage@gmail.com or visiting https://thesensoryvillage.com/class-booking-form/
URL:https://thesensoryvillage.com/event/adult-meditation-600-700-pm/
END:VEVENT
BEGIN:VEVENT
DTSTART;TZID=UTC:20260105T191500
DTEND;TZID=UTC:20260105T201500
DTSTAMP:20260425T131045
CREATED:20251204T184636Z
LAST-MODIFIED:20251217T154100Z
UID:1885-1767640500-1767644100@thesensoryvillage.com
SUMMARY:Adult Sensory & Sip - 7:15 - 8:15 pm
DESCRIPTION:Unwind and have fun at our Adult Sensory & Sip night at The Sensory Village! Bring your own beverage and enjoy an evening of sensory play\, relaxation\, and laughter with friends in our unique\, welcoming space. Cost is $15 per person—come experience playful stress relief and connection for grown-ups! \nReserve your spot today by emailing us at thesensoryvillage@gmail.com or visiting https://thesensoryvillage.com/class-booking-form/
URL:https://thesensoryvillage.com/event/adult-sensory-sip-715-815-pm/
END:VEVENT
BEGIN:VEVENT
DTSTART;TZID=UTC:20260106T090000
DTEND;TZID=UTC:20260106T160000
DTSTAMP:20260425T131045
CREATED:20251212T194554Z
LAST-MODIFIED:20251212T194554Z
UID:1924-1767690000-1767715200@thesensoryvillage.com
SUMMARY:Open Play 9:00 am - 4:00 pm
DESCRIPTION:All ticket sales are handled on-site. Stop by The Sensory Village to purchase your play session passes and join in the fun!
URL:https://thesensoryvillage.com/event/open-play-900-am-400-pm-13/
END:VEVENT
BEGIN:VEVENT
DTSTART;VALUE=DATE:20260107
DTEND;VALUE=DATE:20260108
DTSTAMP:20260425T131045
CREATED:20251214T195150Z
LAST-MODIFIED:20251214T195335Z
UID:2006-1767744000-1767830399@thesensoryvillage.com
SUMMARY:Warm-Up Wednesdays
DESCRIPTION:Join us for a play session and enjoy a FREE hot chocolate packet—the perfect cozy treat for chilly January days! ☕❄️
URL:https://thesensoryvillage.com/event/warm-up-wednesdays/
END:VEVENT
BEGIN:VEVENT
DTSTART;TZID=UTC:20260107T090000
DTEND;TZID=UTC:20260107T200000
DTSTAMP:20260425T131045
CREATED:20251212T194640Z
LAST-MODIFIED:20251212T194640Z
UID:1926-1767776400-1767816000@thesensoryvillage.com
SUMMARY:Open Play 9:00 am - 8:00 pm
DESCRIPTION:All ticket sales are handled on-site. Stop by The Sensory Village to purchase your play session passes and join in the fun!
URL:https://thesensoryvillage.com/event/open-play-900-am-800-pm-9/
END:VEVENT
BEGIN:VEVENT
DTSTART;TZID=UTC:20260108T090000
DTEND;TZID=UTC:20260108T200000
DTSTAMP:20260425T131045
CREATED:20251212T194722Z
LAST-MODIFIED:20251212T194722Z
UID:1928-1767862800-1767902400@thesensoryvillage.com
SUMMARY:Open Play 9:00 am - 8:00 pm
DESCRIPTION:All ticket sales are handled on-site. Stop by The Sensory Village to purchase your play session passes and join in the fun!
URL:https://thesensoryvillage.com/event/open-play-900-am-800-pm-10/
END:VEVENT
BEGIN:VEVENT
DTSTART;TZID=UTC:20260108T180000
DTEND;TZID=UTC:20260108T190000
DTSTAMP:20260425T131045
CREATED:20251204T182020Z
LAST-MODIFIED:20251217T154334Z
UID:1877-1767895200-1767898800@thesensoryvillage.com
SUMMARY:Understanding & Uplifting: Empowering Parents of Neurodiverse Children 6:00 - 7:00 PM
DESCRIPTION:We’re excited to announce our new support group for parents of neurodivergent children\, led by Colleen Mest—a LCSW and parent of a child with autism. This group offers a welcoming and understanding space to share experiences\, exchange resources\, and find encouragement from others who truly understand the journey. While parents participate in the support group\, their children can enjoy supervised sensory play in the Village\, giving everyone the opportunity for support\, connection\, and fun. With Colleen’s professional expertise and personal insight\, parents can feel supported\, empowered\, and connected as they navigate the joys and challenges of raising neurodivergent kids. \nReserve your spot today by emailing us at thesensoryvillage@gmail.com or visiting https://thesensoryvillage.com/class-booking-form/
URL:https://thesensoryvillage.com/event/understanding-uplifting-empowering-parents-of-neurodiverse-children/
END:VEVENT
BEGIN:VEVENT
DTSTART;TZID=UTC:20260109T090000
DTEND;TZID=UTC:20260109T160000
DTSTAMP:20260425T131045
CREATED:20251212T194808Z
LAST-MODIFIED:20251212T194808Z
UID:1930-1767949200-1767974400@thesensoryvillage.com
SUMMARY:Open Play 9:00 am - 4:00 pm
DESCRIPTION:All ticket sales are handled on-site. Stop by The Sensory Village to purchase your play session passes and join in the fun!
URL:https://thesensoryvillage.com/event/open-play-900-am-400-pm-14/
END:VEVENT
BEGIN:VEVENT
DTSTART;TZID=UTC:20260110T100000
DTEND;TZID=UTC:20260110T153000
DTSTAMP:20260425T131045
CREATED:20251212T194850Z
LAST-MODIFIED:20251212T194850Z
UID:1932-1768039200-1768059000@thesensoryvillage.com
SUMMARY:Open Play 10:00 am - 3:30 pm
DESCRIPTION:All ticket sales are handled on-site. Stop by The Sensory Village to purchase your play session passes and join in the fun!
URL:https://thesensoryvillage.com/event/open-play-1000-am-330-pm/
END:VEVENT
BEGIN:VEVENT
DTSTART;TZID=UTC:20260110T153000
DTEND;TZID=UTC:20260110T170000
DTSTAMP:20260425T131045
CREATED:20251125T162709Z
LAST-MODIFIED:20251125T162709Z
UID:1741-1768059000-1768064400@thesensoryvillage.com
SUMMARY:Happy Birthday Oakley 3:30 - 5:00 pm
DESCRIPTION:Happy 3rd Birthday Oakley! Please note the play area will be closed during this time for Oakley and his group to celebrate!
URL:https://thesensoryvillage.com/event/happy-birthday-oakley-330-500-pm/
END:VEVENT
END:VCALENDAR