BEGIN:VCALENDAR
VERSION:2.0
PRODID:-//The Sensory Village - ECPv6.15.11//NONSGML v1.0//EN
CALSCALE:GREGORIAN
METHOD:PUBLISH
X-ORIGINAL-URL:https://thesensoryvillage.com
X-WR-CALDESC:Events for The Sensory Village
REFRESH-INTERVAL;VALUE=DURATION:PT1H
X-Robots-Tag:noindex
X-PUBLISHED-TTL:PT1H
BEGIN:VTIMEZONE
TZID:UTC
BEGIN:STANDARD
TZOFFSETFROM:+0000
TZOFFSETTO:+0000
TZNAME:UTC
DTSTART:20240101T000000
END:STANDARD
END:VTIMEZONE
BEGIN:VEVENT
DTSTART;VALUE=DATE:20251119
DTEND;VALUE=DATE:20251120
DTSTAMP:20260425T165018
CREATED:20251021T211907Z
LAST-MODIFIED:20251101T182425Z
UID:1362-1763510400-1763596799@thesensoryvillage.com
SUMMARY:Food Donation Day
DESCRIPTION:Receive $5 off your total play session with a perishable food donation! \n 
URL:https://thesensoryvillage.com/event/food-donation-day/
END:VEVENT
BEGIN:VEVENT
DTSTART;TZID=UTC:20251119T090000
DTEND;TZID=UTC:20251119T160000
DTSTAMP:20260425T165018
CREATED:20251021T224234Z
LAST-MODIFIED:20251101T182153Z
UID:1392-1763542800-1763568000@thesensoryvillage.com
SUMMARY:Open Play 9:00 am - 4:00 pm
DESCRIPTION:All ticket sales are handled on-site. Stop by The Sensory Village to purchase your play session passes and join in the fun!
URL:https://thesensoryvillage.com/event/open-play-38/
END:VEVENT
BEGIN:VEVENT
DTSTART;TZID=UTC:20251120T090000
DTEND;TZID=UTC:20251120T160000
DTSTAMP:20260425T165018
CREATED:20251021T205314Z
LAST-MODIFIED:20251101T182706Z
UID:1348-1763629200-1763654400@thesensoryvillage.com
SUMMARY:Open Play 9:00 am - 4:00 pm
DESCRIPTION:All ticket sales are handled on-site. Stop by The Sensory Village to purchase your play session passes and join in the fun!
URL:https://thesensoryvillage.com/event/open-play-27/
END:VEVENT
BEGIN:VEVENT
DTSTART;TZID=UTC:20251121T090000
DTEND;TZID=UTC:20251121T160000
DTSTAMP:20260425T165018
CREATED:20251021T205405Z
LAST-MODIFIED:20251101T182741Z
UID:1350-1763715600-1763740800@thesensoryvillage.com
SUMMARY:Open Play 9:00 am - 4:00 pm
DESCRIPTION:All ticket sales are handled on-site. Stop by The Sensory Village to purchase your play session passes and join in the fun!
URL:https://thesensoryvillage.com/event/open-play-28/
END:VEVENT
BEGIN:VEVENT
DTSTART;TZID=UTC:20251122T100000
DTEND;TZID=UTC:20251122T130000
DTSTAMP:20260425T165018
CREATED:20251021T205454Z
LAST-MODIFIED:20251111T142954Z
UID:1352-1763805600-1763816400@thesensoryvillage.com
SUMMARY:Open Play 10:00 am - 1:00 pm
DESCRIPTION:All ticket sales are handled on-site. Stop by The Sensory Village to purchase your play session passes and join in the fun!
URL:https://thesensoryvillage.com/event/open-play-29/
END:VEVENT
BEGIN:VEVENT
DTSTART;TZID=UTC:20251122T130000
DTEND;TZID=UTC:20251122T150000
DTSTAMP:20260425T165018
CREATED:20251111T142739Z
LAST-MODIFIED:20251111T142739Z
UID:1653-1763816400-1763823600@thesensoryvillage.com
SUMMARY:Birthday Party 1:00 - 3:00 pm
DESCRIPTION:Happy Birthday! Please note the play area will be closed during this time for the group to celebrate!
URL:https://thesensoryvillage.com/event/birthday-party-100-300-pm/
END:VEVENT
BEGIN:VEVENT
DTSTART;TZID=UTC:20251123T120000
DTEND;TZID=UTC:20251123T153000
DTSTAMP:20260425T165018
CREATED:20251021T205540Z
LAST-MODIFIED:20251109T191553Z
UID:1354-1763899200-1763911800@thesensoryvillage.com
SUMMARY:Open Play 12:00 - 3:30 pm
DESCRIPTION:All ticket sales are handled on-site. Stop by The Sensory Village to purchase your play session passes and join in the fun!
URL:https://thesensoryvillage.com/event/open-play-30/
END:VEVENT
BEGIN:VEVENT
DTSTART;TZID=UTC:20251123T153000
DTEND;TZID=UTC:20251123T170000
DTSTAMP:20260425T165018
CREATED:20251109T191511Z
LAST-MODIFIED:20251109T191511Z
UID:1647-1763911800-1763917200@thesensoryvillage.com
SUMMARY:Sophia's 3rd Birthday 3:30 - 5:00 pm
DESCRIPTION:Happy 3rd Birthday Sophia! Please note the play area will be closed during this time for Sophia and her group to celebrate!
URL:https://thesensoryvillage.com/event/sophias-3rd-birthday-330-500-pm/
END:VEVENT
BEGIN:VEVENT
DTSTART;VALUE=DATE:20251124
DTEND;VALUE=DATE:20251125
DTSTAMP:20260425T165018
CREATED:20251101T183535Z
LAST-MODIFIED:20251101T195922Z
UID:1572-1763942400-1764028799@thesensoryvillage.com
SUMMARY:Gratitude Giveaway
DESCRIPTION:Tell us what you’re most grateful for today and you’ll be entered to win a FREE hour of sensory play. Connect with us on social media\, send us an email\, or stop by in person to enter.
URL:https://thesensoryvillage.com/event/gratitude-giveaway/
END:VEVENT
BEGIN:VEVENT
DTSTART;TZID=UTC:20251124T090000
DTEND;TZID=UTC:20251124T160000
DTSTAMP:20260425T165018
CREATED:20251021T212250Z
LAST-MODIFIED:20251101T182916Z
UID:1369-1763974800-1764000000@thesensoryvillage.com
SUMMARY:Open Play 9:00 am - 4:00 pm
DESCRIPTION:All ticket sales are handled on-site. Stop by The Sensory Village to purchase your play session passes and join in the fun!
URL:https://thesensoryvillage.com/event/open-play-33/
END:VEVENT
BEGIN:VEVENT
DTSTART;TZID=UTC:20251125T090000
DTEND;TZID=UTC:20251125T200000
DTSTAMP:20260425T165018
CREATED:20251021T212218Z
LAST-MODIFIED:20251101T183002Z
UID:1367-1764061200-1764100800@thesensoryvillage.com
SUMMARY:Open Play 9:00 am - 8:00 pm
DESCRIPTION:All ticket sales are handled on-site. Stop by The Sensory Village to purchase your play session passes and join in the fun!
URL:https://thesensoryvillage.com/event/open-play-32/
END:VEVENT
BEGIN:VEVENT
DTSTART;TZID=UTC:20251126T090000
DTEND;TZID=UTC:20251126T160000
DTSTAMP:20260425T165018
CREATED:20251021T212324Z
LAST-MODIFIED:20251101T183034Z
UID:1371-1764147600-1764172800@thesensoryvillage.com
SUMMARY:Open Play 9:00 am - 4:00 pm
DESCRIPTION:All ticket sales are handled on-site. Stop by The Sensory Village to purchase your play session passes and join in the fun!
URL:https://thesensoryvillage.com/event/open-play-34/
END:VEVENT
BEGIN:VEVENT
DTSTART;VALUE=DATE:20251127
DTEND;VALUE=DATE:20251128
DTSTAMP:20260425T165018
CREATED:20251021T215830Z
LAST-MODIFIED:20251021T224506Z
UID:1380-1764201600-1764287999@thesensoryvillage.com
SUMMARY:Thanksgiving - CLOSED
DESCRIPTION:We will be closed for Thanksgiving to spend time with our loved ones. We’re so thankful for our amazing village of families and friends who make what we do so special. 💛
URL:https://thesensoryvillage.com/event/thanksgiving-closed/
END:VEVENT
BEGIN:VEVENT
DTSTART;VALUE=DATE:20251128
DTEND;VALUE=DATE:20251129
DTSTAMP:20260425T165018
CREATED:20251128T161147Z
LAST-MODIFIED:20251128T161147Z
UID:1842-1764288000-1764374399@thesensoryvillage.com
SUMMARY:Winterfest Event 1:00 - 3:00 pm
DESCRIPTION:We are excited to participate in our first-ever Alburtis Holiday Festival! During this time\, we will be offering free admission for all adults!
URL:https://thesensoryvillage.com/event/winterfest-event-100-300-pm/
END:VEVENT
BEGIN:VEVENT
DTSTART;TZID=UTC:20251128T090000
DTEND;TZID=UTC:20251128T143000
DTSTAMP:20260425T165018
CREATED:20251021T212355Z
LAST-MODIFIED:20251031T173736Z
UID:1373-1764320400-1764340200@thesensoryvillage.com
SUMMARY:Open Play 9:00 am - 2:30 pm
DESCRIPTION:
URL:https://thesensoryvillage.com/event/open-play-35/
END:VEVENT
BEGIN:VEVENT
DTSTART;TZID=UTC:20251128T143000
DTEND;TZID=UTC:20251128T160000
DTSTAMP:20260425T165018
CREATED:20251031T173901Z
LAST-MODIFIED:20251031T173901Z
UID:1512-1764340200-1764345600@thesensoryvillage.com
SUMMARY:Birthday Party 2:30 - 4:00 pm
DESCRIPTION:Happy Birthday! Please note the play area will be closed during this time for the group to celebrate!
URL:https://thesensoryvillage.com/event/birthday-party-230-400-pm-2/
END:VEVENT
BEGIN:VEVENT
DTSTART;TZID=UTC:20251129T100000
DTEND;TZID=UTC:20251129T170000
DTSTAMP:20260425T165018
CREATED:20251021T212425Z
LAST-MODIFIED:20251101T183141Z
UID:1375-1764410400-1764435600@thesensoryvillage.com
SUMMARY:Open Play 10:00 am - 5:00 pm
DESCRIPTION:All ticket sales are handled on-site. Stop by The Sensory Village to purchase your play session passes and join in the fun!
URL:https://thesensoryvillage.com/event/open-play-36/
END:VEVENT
BEGIN:VEVENT
DTSTART;TZID=UTC:20251130T120000
DTEND;TZID=UTC:20251130T153000
DTSTAMP:20260425T165018
CREATED:20251021T212505Z
LAST-MODIFIED:20251101T183216Z
UID:1377-1764504000-1764516600@thesensoryvillage.com
SUMMARY:Open Play 12:00 - 3:30 pm
DESCRIPTION:All ticket sales are handled on-site. Stop by The Sensory Village to purchase your play session passes and join in the fun!
URL:https://thesensoryvillage.com/event/open-play-37/
END:VEVENT
BEGIN:VEVENT
DTSTART;TZID=UTC:20251130T153000
DTEND;TZID=UTC:20251130T170000
DTSTAMP:20260425T165018
CREATED:20251006T123305Z
LAST-MODIFIED:20251129T155153Z
UID:1237-1764516600-1764522000@thesensoryvillage.com
SUMMARY:Drew's 2nd Birthday 3:30 - 5:00 pm
DESCRIPTION:Happy 2nd Birthday Drew! Please note the play area will be closed during this time for Drew and his group to celebrate!
URL:https://thesensoryvillage.com/event/drews-2nd-birthday-330-500-pm/
END:VEVENT
BEGIN:VEVENT
DTSTART;TZID=UTC:20251201T090000
DTEND;TZID=UTC:20251201T160000
DTSTAMP:20260425T165018
CREATED:20251125T163920Z
LAST-MODIFIED:20251128T155434Z
UID:1748-1764579600-1764604800@thesensoryvillage.com
SUMMARY:Open Play 9:00 am - 4:00 pm
DESCRIPTION:All ticket sales are handled on-site. Stop by The Sensory Village to purchase your play session passes and join in the fun!
URL:https://thesensoryvillage.com/event/open-play-900-am-500-pm/
END:VEVENT
BEGIN:VEVENT
DTSTART;TZID=UTC:20251201T180000
DTEND;TZID=UTC:20251201T190000
DTSTAMP:20260425T165018
CREATED:20251114T173457Z
LAST-MODIFIED:20251217T153755Z
UID:1694-1764612000-1764615600@thesensoryvillage.com
SUMMARY:Adult Meditation - 6:00 pm - 7:00 pm
DESCRIPTION:Join us for a “Mindful Monday” of meditation led by Amy Musto — a mom\, nurse\, and holistic wellness guide with over 30 years of experience helping others find balance and calm in the midst of busy lives. As a Registered Nurse (MSN\, RN) and Hatha Yoga teacher trained by the Himalayan Institute\, Amy blends her background with the power of yoga and mindfulness. She brings a grounded\, compassionate approach to wellness that supports parents in nurturing both themselves and their families. Her mission is to help everyone reconnect to peace\, presence\, and vitality—so they can show up fully for the little ones who need them most. \nThis 60-minute meditation class begins with gentle movement\, breath-work\, and grounding exercises to prepare the body and quiet the mind. From there\, we move into deep relaxation and conclude with a guided meditation designed to restore balance and inner calm. The class is $25 with limited spots available. \nReserve yours today by emailing us at thesensoryvillage@gmail.com or visiting https://thesensoryvillage.com/class-booking-form/ \n 
URL:https://thesensoryvillage.com/event/adult-meditation-600-pm-700-pm/
END:VEVENT
BEGIN:VEVENT
DTSTART;TZID=UTC:20251201T191500
DTEND;TZID=UTC:20251201T201500
DTSTAMP:20260425T165018
CREATED:20251114T174211Z
LAST-MODIFIED:20251201T155736Z
UID:1698-1764616500-1764620100@thesensoryvillage.com
SUMMARY:Adult Meditation - 7:15 pm - 8:15 pm
DESCRIPTION:Join us for a “Mindful Monday” of meditation led by Amy Musto — a mom\, nurse\, and holistic wellness guide with over 30 years of experience helping others find balance and calm in the midst of busy lives. As a Registered Nurse (MSN\, RN) and Hatha Yoga teacher trained by the Himalayan Institute\, Amy blends her background with the power of yoga and mindfulness. She brings a grounded\, compassionate approach to wellness that supports parents in nurturing both themselves and their families. Her mission is to help everyone reconnect to peace\, presence\, and vitality—so they can show up fully for the little ones who need them most. \nThis 60-minute meditation class begins with gentle movement\, breath-work\, and grounding exercises to prepare the body and quiet the mind. From there\, we move into deep relaxation and conclude with a guided meditation designed to restore balance and inner calm. \nReserve yours today by emailing us at thesensoryvillage@gmail.com or visiting https://thesensoryvillage.com/class-booking-form/
URL:https://thesensoryvillage.com/event/adult-meditation-715-pm-815-pm/
END:VEVENT
BEGIN:VEVENT
DTSTART;TZID=UTC:20251202T090000
DTEND;TZID=UTC:20251202T160000
DTSTAMP:20260425T165018
CREATED:20251115T142831Z
LAST-MODIFIED:20251118T205221Z
UID:1710-1764666000-1764691200@thesensoryvillage.com
SUMMARY:CLOSED
DESCRIPTION:The Sensory Village will be CLOSED today as we refresh our sensory materials\, update equipment\, and complete a deep clean to keep our facility safe\, clean\, and fun for everyone!
URL:https://thesensoryvillage.com/event/closed/
END:VEVENT
BEGIN:VEVENT
DTSTART;TZID=UTC:20251203T090000
DTEND;TZID=UTC:20251203T200000
DTSTAMP:20260425T165018
CREATED:20251125T164220Z
LAST-MODIFIED:20251125T164220Z
UID:1751-1764752400-1764792000@thesensoryvillage.com
SUMMARY:Open Play 9:00 am - 8:00 pm
DESCRIPTION:All ticket sales are handled on-site. Stop by The Sensory Village to purchase your play session passes and join in the fun!
URL:https://thesensoryvillage.com/event/open-play-900-am-800-pm-2/
END:VEVENT
BEGIN:VEVENT
DTSTART;TZID=UTC:20251203T110000
DTEND;TZID=UTC:20251203T120000
DTSTAMP:20260425T165018
CREATED:20251115T142303Z
LAST-MODIFIED:20251125T164116Z
UID:1706-1764759600-1764763200@thesensoryvillage.com
SUMMARY:Therapy Dog Visit - 11:00 am - 12:00 pm
DESCRIPTION:Spend an hour with Cosmo\, our sweet and friendly furry friend who loves cuddles\, smiles\, and making new friends during your visit!
URL:https://thesensoryvillage.com/event/therapy-dog-visit-1100-am-1200-pm-2/
END:VEVENT
BEGIN:VEVENT
DTSTART;TZID=UTC:20251203T180000
DTEND;TZID=UTC:20251203T190000
DTSTAMP:20260425T165018
CREATED:20251111T165138Z
LAST-MODIFIED:20251111T165235Z
UID:1661-1764784800-1764788400@thesensoryvillage.com
SUMMARY:Fire Safety & Awareness Program 6:00 - 7:00 pm
DESCRIPTION:Join us for a special Fire Safety & Awareness Program designed in collaboration with the Lower Macungie Fire Department\, created especially for families with neurodivergent children. \nThis event will give families the chance to:\n Meet local firefighters in a calm\, welcoming environment\n Explore fire equipment and trucks at their own pace\n Ask questions about emergency response\, safety protocols\, and preparedness\n Learn practical strategies to help children feel more comfortable and confident in emergency situations \nOur goal is to help families build familiarity\, reduce fear\, and create positive connections with our local first responders. \n  \nNo registration required!Play session tickets also grant access to the Fire Safety Program — enjoy both with one admission!
URL:https://thesensoryvillage.com/event/fire-safety-awareness-program/
END:VEVENT
BEGIN:VEVENT
DTSTART;TZID=UTC:20251204T090000
DTEND;TZID=UTC:20251204T200000
DTSTAMP:20260425T165018
CREATED:20251125T164400Z
LAST-MODIFIED:20251125T164400Z
UID:1753-1764838800-1764878400@thesensoryvillage.com
SUMMARY:Open Play 9:00 am - 8:00 pm
DESCRIPTION:All ticket sales are handled on-site. Stop by The Sensory Village to purchase your play session passes and join in the fun!
URL:https://thesensoryvillage.com/event/open-play-900-am-800-pm-3/
END:VEVENT
BEGIN:VEVENT
DTSTART;TZID=UTC:20251205T090000
DTEND;TZID=UTC:20251205T160000
DTSTAMP:20260425T165018
CREATED:20251125T164655Z
LAST-MODIFIED:20251125T164655Z
UID:1757-1764925200-1764950400@thesensoryvillage.com
SUMMARY:Open Play 9:00 am - 4:00 pm
DESCRIPTION:All ticket sales are handled on-site. Stop by The Sensory Village to purchase your play session passes and join in the fun!
URL:https://thesensoryvillage.com/event/open-play-900-am-400-pm/
END:VEVENT
BEGIN:VEVENT
DTSTART;TZID=UTC:20251206T100000
DTEND;TZID=UTC:20251206T113000
DTSTAMP:20260425T165018
CREATED:20250911T180323Z
LAST-MODIFIED:20251129T160227Z
UID:1106-1765015200-1765020600@thesensoryvillage.com
SUMMARY:Stella's Birthday 10:00 - 11:30 am
DESCRIPTION:Happy 4th Birthday Stella! Please note the play area will be closed during this time for Stella and her group to celebrate!
URL:https://thesensoryvillage.com/event/stellas-birthday-1000-1130-am/
END:VEVENT
BEGIN:VEVENT
DTSTART;TZID=UTC:20251206T113000
DTEND;TZID=UTC:20251206T153000
DTSTAMP:20260425T165018
CREATED:20251125T164520Z
LAST-MODIFIED:20251125T164520Z
UID:1755-1765020600-1765035000@thesensoryvillage.com
SUMMARY:Open Play 11:30 am - 3:30 pm
DESCRIPTION:All ticket sales are handled on-site. Stop by The Sensory Village to purchase your play session passes and join in the fun!
URL:https://thesensoryvillage.com/event/open-play-1130-am-330-pm/
END:VEVENT
END:VCALENDAR