BEGIN:VCALENDAR
VERSION:2.0
PRODID:-//The Sensory Village - ECPv6.15.11//NONSGML v1.0//EN
CALSCALE:GREGORIAN
METHOD:PUBLISH
X-WR-CALNAME:The Sensory Village
X-ORIGINAL-URL:https://thesensoryvillage.com
X-WR-CALDESC:Events for The Sensory Village
REFRESH-INTERVAL;VALUE=DURATION:PT1H
X-Robots-Tag:noindex
X-PUBLISHED-TTL:PT1H
BEGIN:VTIMEZONE
TZID:UTC
BEGIN:STANDARD
TZOFFSETFROM:+0000
TZOFFSETTO:+0000
TZNAME:UTC
DTSTART:20240101T000000
END:STANDARD
END:VTIMEZONE
BEGIN:VEVENT
DTSTART;TZID=UTC:20251210T090000
DTEND;TZID=UTC:20251210T200000
DTSTAMP:20260425T130617
CREATED:20251125T183940Z
LAST-MODIFIED:20251125T183940Z
UID:1763-1765357200-1765396800@thesensoryvillage.com
SUMMARY:Open Play 9:00 am - 8:00 pm
DESCRIPTION:All ticket sales are handled on-site. Stop by The Sensory Village to purchase your play session passes and join in the fun!
URL:https://thesensoryvillage.com/event/open-play-900-am-800-pm-4/
END:VEVENT
BEGIN:VEVENT
DTSTART;TZID=UTC:20251211T090000
DTEND;TZID=UTC:20251211T200000
DTSTAMP:20260425T130617
CREATED:20251125T184603Z
LAST-MODIFIED:20251125T184603Z
UID:1767-1765443600-1765483200@thesensoryvillage.com
SUMMARY:Open Play 9:00 am - 8:00 pm
DESCRIPTION:All ticket sales are handled on-site. Stop by The Sensory Village to purchase your play session passes and join in the fun!
URL:https://thesensoryvillage.com/event/open-play-900-am-800-pm-5/
END:VEVENT
BEGIN:VEVENT
DTSTART;TZID=UTC:20251212T090000
DTEND;TZID=UTC:20251212T160000
DTSTAMP:20260425T130617
CREATED:20251125T184654Z
LAST-MODIFIED:20251125T184654Z
UID:1769-1765530000-1765555200@thesensoryvillage.com
SUMMARY:Open Play 9:00 am - 4:00 pm
DESCRIPTION:All ticket sales are handled on-site. Stop by The Sensory Village to purchase your play session passes and join in the fun!
URL:https://thesensoryvillage.com/event/open-play-900-am-400-pm-4/
END:VEVENT
BEGIN:VEVENT
DTSTART;TZID=UTC:20251213T100000
DTEND;TZID=UTC:20251213T120000
DTSTAMP:20260425T130617
CREATED:20251031T174106Z
LAST-MODIFIED:20251031T174106Z
UID:1514-1765620000-1765627200@thesensoryvillage.com
SUMMARY:Birthday Party 10:00 am - 12:00 pm
DESCRIPTION:Happy Birthday! Please note the play area will be closed during this time for the group to celebrate!
URL:https://thesensoryvillage.com/event/birthday-party-1000-am-1200-pm/
END:VEVENT
BEGIN:VEVENT
DTSTART;TZID=UTC:20251213T120000
DTEND;TZID=UTC:20251213T153000
DTSTAMP:20260425T130617
CREATED:20251125T191223Z
LAST-MODIFIED:20251125T191223Z
UID:1775-1765627200-1765639800@thesensoryvillage.com
SUMMARY:Open Play 12:00 - 3:30 pm
DESCRIPTION:All ticket sales are handled on-site. Stop by The Sensory Village to purchase your play session passes and join in the fun!
URL:https://thesensoryvillage.com/event/open-play-1200-330-pm/
END:VEVENT
BEGIN:VEVENT
DTSTART;TZID=UTC:20251213T153000
DTEND;TZID=UTC:20251213T170000
DTSTAMP:20260425T130617
CREATED:20251125T191039Z
LAST-MODIFIED:20251125T191039Z
UID:1772-1765639800-1765645200@thesensoryvillage.com
SUMMARY:Reid's Birthday Party 3:30 - 5:00 pm
DESCRIPTION:Happy Birthday Reid! Please note the play area will be closed during this time for Reid and his group to celebrate!
URL:https://thesensoryvillage.com/event/reids-birthday-party-330-500-pm/
END:VEVENT
BEGIN:VEVENT
DTSTART;TZID=UTC:20251214T120000
DTEND;TZID=UTC:20251214T153000
DTSTAMP:20260425T130617
CREATED:20251125T191827Z
LAST-MODIFIED:20251125T191827Z
UID:1780-1765713600-1765726200@thesensoryvillage.com
SUMMARY:Open Play 12:00 - 3:30 pm
DESCRIPTION:All ticket sales are handled on-site. Stop by The Sensory Village to purchase your play session passes and join in the fun!
URL:https://thesensoryvillage.com/event/open-play-1200-330-pm-2/
END:VEVENT
BEGIN:VEVENT
DTSTART;TZID=UTC:20251214T153000
DTEND;TZID=UTC:20251214T170000
DTSTAMP:20260425T130617
CREATED:20251116T170903Z
LAST-MODIFIED:20251116T170903Z
UID:1717-1765726200-1765731600@thesensoryvillage.com
SUMMARY:Tvisha's Birthday 3:30 - 5:00 pm
DESCRIPTION:Happy 2nd Birthday Tvisha! Please note the play area will be closed during this time for Tvisha and the group to celebrate!
URL:https://thesensoryvillage.com/event/tvishas-birthday-330-500-pm/
END:VEVENT
BEGIN:VEVENT
DTSTART;TZID=UTC:20251215T090000
DTEND;TZID=UTC:20251215T160000
DTSTAMP:20260425T130617
CREATED:20251125T191953Z
LAST-MODIFIED:20251125T191953Z
UID:1782-1765789200-1765814400@thesensoryvillage.com
SUMMARY:Open Play 9:00 am - 4:00 pm
DESCRIPTION:All ticket sales are handled on-site. Stop by The Sensory Village to purchase your play session passes and join in the fun!
URL:https://thesensoryvillage.com/event/open-play-900-am-400-pm-5/
END:VEVENT
BEGIN:VEVENT
DTSTART;TZID=UTC:20251215T190000
DTEND;TZID=UTC:20251215T200000
DTSTAMP:20260425T130617
CREATED:20251114T174422Z
LAST-MODIFIED:20251129T210748Z
UID:1701-1765825200-1765828800@thesensoryvillage.com
SUMMARY:Adult Sound Bath - 7:00 pm - 8:00 pm
DESCRIPTION:Experience deep restoration and energetic balance in this 1 hour Sound Bath as layers of soothing sounds from crystal quartz singing bowls\, chimes and other healing instruments gently wash over you. The vibrations help quiet the mind\, release tension\, and invite the body into a state of profound relaxation. \nThe experience begins with centering\, diaphragmatic breathing and concludes with grounding frequencies and a quiet integration time. \nThe class is $25 with limited spots available. \nReserve yours today by emailing us at thesensoryvillage@gmail.com or visiting https://thesensoryvillage.com/class-booking-form/ \nPlease note: The reservation window closes at 8:00 AM on December 15th. Be sure to secure your spot early to guarantee availability!
URL:https://thesensoryvillage.com/event/adult-sound-bath-700-pm-800-pm/
END:VEVENT
BEGIN:VEVENT
DTSTART;VALUE=DATE:20251216
DTEND;VALUE=DATE:20251217
DTSTAMP:20260425T130617
CREATED:20251214T193357Z
LAST-MODIFIED:20251214T193357Z
UID:2003-1765843200-1765929599@thesensoryvillage.com
SUMMARY:Takeaway Tuesday: Reward Charts
DESCRIPTION:Stop in today for a play session and receive your FREE reward charts
URL:https://thesensoryvillage.com/event/takeaway-tuesday-reward-charts/
END:VEVENT
BEGIN:VEVENT
DTSTART;TZID=UTC:20251216T090000
DTEND;TZID=UTC:20251216T100000
DTSTAMP:20260425T130617
CREATED:20251125T192204Z
LAST-MODIFIED:20251125T192204Z
UID:1784-1765875600-1765879200@thesensoryvillage.com
SUMMARY:Open Play 9:00 - 10:00 am
DESCRIPTION:All ticket sales are handled on-site. Stop by The Sensory Village to purchase your play session passes and join in the fun!
URL:https://thesensoryvillage.com/event/open-play-900-1000-am/
END:VEVENT
BEGIN:VEVENT
DTSTART;TZID=UTC:20251216T100000
DTEND;TZID=UTC:20251216T110000
DTSTAMP:20260425T130617
CREATED:20251125T193359Z
LAST-MODIFIED:20251125T193529Z
UID:1790-1765879200-1765882800@thesensoryvillage.com
SUMMARY:Field Trip 10:00 - 11:00 am
DESCRIPTION:Field Trip Scheduled: The building will be reserved exclusively for this group during their visit.
URL:https://thesensoryvillage.com/event/field-trip-1000-1100-am/
END:VEVENT
BEGIN:VEVENT
DTSTART;TZID=UTC:20251216T110000
DTEND;TZID=UTC:20251216T120000
DTSTAMP:20260425T130617
CREATED:20251125T192430Z
LAST-MODIFIED:20251125T192430Z
UID:1788-1765882800-1765886400@thesensoryvillage.com
SUMMARY:Therapy Dog Visit 11:00 am - 12:00 pm
DESCRIPTION:Spend an hour with one of our furry friends who loves to cuddle!
URL:https://thesensoryvillage.com/event/therapy-dog-visit-1100-am-1200-pm-4/
END:VEVENT
BEGIN:VEVENT
DTSTART;TZID=UTC:20251216T110000
DTEND;TZID=UTC:20251216T160000
DTSTAMP:20260425T130617
CREATED:20251125T192312Z
LAST-MODIFIED:20251125T192312Z
UID:1786-1765882800-1765900800@thesensoryvillage.com
SUMMARY:Open Play 11:00 am - 4:00 pm
DESCRIPTION:All ticket sales are handled on-site. Stop by The Sensory Village to purchase your play session passes and join in the fun!
URL:https://thesensoryvillage.com/event/open-play-1100-am-400-pm/
END:VEVENT
BEGIN:VEVENT
DTSTART;TZID=UTC:20251217T090000
DTEND;TZID=UTC:20251217T200000
DTSTAMP:20260425T130617
CREATED:20251128T150043Z
LAST-MODIFIED:20251128T150043Z
UID:1800-1765962000-1766001600@thesensoryvillage.com
SUMMARY:Open Play 9:00 am - 8:00 pm
DESCRIPTION:All ticket sales are handled on-site. Stop by The Sensory Village to purchase your play session passes and join in the fun!
URL:https://thesensoryvillage.com/event/open-play-900-am-800-pm-6/
END:VEVENT
BEGIN:VEVENT
DTSTART;TZID=UTC:20251218T090000
DTEND;TZID=UTC:20251218T200000
DTSTAMP:20260425T130617
CREATED:20251128T150305Z
LAST-MODIFIED:20251128T151857Z
UID:1805-1766048400-1766088000@thesensoryvillage.com
SUMMARY:Open Play 9:00 am - 8:00 pm
DESCRIPTION:All ticket sales are handled on-site. Stop by The Sensory Village to purchase your play session passes and join in the fun!
URL:https://thesensoryvillage.com/event/open-play-900-am-800-pm-8/
END:VEVENT
BEGIN:VEVENT
DTSTART;TZID=UTC:20251219T090000
DTEND;TZID=UTC:20251219T160000
DTSTAMP:20260425T130617
CREATED:20251128T150141Z
LAST-MODIFIED:20251128T150222Z
UID:1802-1766134800-1766160000@thesensoryvillage.com
SUMMARY:Open Play 9:00 am - 4:00 pm
DESCRIPTION:All ticket sales are handled on-site. Stop by The Sensory Village to purchase your play session passes and join in the fun!
URL:https://thesensoryvillage.com/event/open-play-900-am-800-pm-7/
END:VEVENT
BEGIN:VEVENT
DTSTART;TZID=UTC:20251220T100000
DTEND;TZID=UTC:20251220T120000
DTSTAMP:20260425T130617
CREATED:20251128T150348Z
LAST-MODIFIED:20251128T150348Z
UID:1807-1766224800-1766232000@thesensoryvillage.com
SUMMARY:Open Play 10:00 am - 5:00 pm
DESCRIPTION:All ticket sales are handled on-site. Stop by The Sensory Village to purchase your play session passes and join in the fun!
URL:https://thesensoryvillage.com/event/open-play-1000-am-500-pm/
END:VEVENT
BEGIN:VEVENT
DTSTART;TZID=UTC:20251221T120000
DTEND;TZID=UTC:20251221T140000
DTSTAMP:20260425T130617
CREATED:20251116T171038Z
LAST-MODIFIED:20251116T171038Z
UID:1719-1766318400-1766325600@thesensoryvillage.com
SUMMARY:Everett's Birthday 12:00 - 2:00 pm
DESCRIPTION:Happy 5th Birthday Everett! Please note the play area will be closed during this time for Everett and his group to celebrate!
URL:https://thesensoryvillage.com/event/everetts-birthday-1200-200-pm/
END:VEVENT
BEGIN:VEVENT
DTSTART;TZID=UTC:20251221T140000
DTEND;TZID=UTC:20251221T153000
DTSTAMP:20260425T130617
CREATED:20251128T150434Z
LAST-MODIFIED:20251219T191541Z
UID:1809-1766325600-1766331000@thesensoryvillage.com
SUMMARY:Open Play 2:00 - 3:30 pm
DESCRIPTION:All ticket sales are handled on-site. Stop by The Sensory Village to purchase your play session passes and join in the fun!
URL:https://thesensoryvillage.com/event/open-play-200-500-pm/
END:VEVENT
BEGIN:VEVENT
DTSTART;TZID=UTC:20251221T153000
DTEND;TZID=UTC:20251221T170000
DTSTAMP:20260425T130617
CREATED:20251210T165026Z
LAST-MODIFIED:20251210T165026Z
UID:1902-1766331000-1766336400@thesensoryvillage.com
SUMMARY:Happy Birthday Kailani
DESCRIPTION:Happy Birthday Kailani! Please note the play area will be closed during this time for Kailani and her group to celebrate!
URL:https://thesensoryvillage.com/event/happy-birthday-kailani/
END:VEVENT
BEGIN:VEVENT
DTSTART;TZID=UTC:20251222T090000
DTEND;TZID=UTC:20251222T160000
DTSTAMP:20260425T130617
CREATED:20251128T152114Z
LAST-MODIFIED:20251128T152114Z
UID:1811-1766394000-1766419200@thesensoryvillage.com
SUMMARY:Open Play 9:00 am - 4:00 pm
DESCRIPTION:All ticket sales are handled on-site. Stop by The Sensory Village to purchase your play session passes and join in the fun!
URL:https://thesensoryvillage.com/event/open-play-900-am-400-pm-6/
END:VEVENT
BEGIN:VEVENT
DTSTART;TZID=UTC:20251223T090000
DTEND;TZID=UTC:20251223T160000
DTSTAMP:20260425T130617
CREATED:20251128T152157Z
LAST-MODIFIED:20251128T152157Z
UID:1813-1766480400-1766505600@thesensoryvillage.com
SUMMARY:Open Play 9:00 am - 4:00 pm
DESCRIPTION:All ticket sales are handled on-site. Stop by The Sensory Village to purchase your play session passes and join in the fun!
URL:https://thesensoryvillage.com/event/open-play-900-am-400-pm-7/
END:VEVENT
BEGIN:VEVENT
DTSTART;TZID=UTC:20251223T110000
DTEND;TZID=UTC:20251223T120000
DTSTAMP:20260425T130617
CREATED:20251128T152527Z
LAST-MODIFIED:20251128T152527Z
UID:1815-1766487600-1766491200@thesensoryvillage.com
SUMMARY:Therapy Dog Visit 11:00 am - 12:00 pm
DESCRIPTION:Spend an hour with one of our furry friends who loves to cuddle!
URL:https://thesensoryvillage.com/event/therapy-dog-visit-1100-am-1200-pm-5/
END:VEVENT
BEGIN:VEVENT
DTSTART;VALUE=DATE:20251224
DTEND;VALUE=DATE:20251225
DTSTAMP:20260425T130617
CREATED:20251128T153155Z
LAST-MODIFIED:20251128T153155Z
UID:1818-1766534400-1766620799@thesensoryvillage.com
SUMMARY:Closed
DESCRIPTION:We will be closed on Christmas Eve and Christmas Day. Wishing you a joyful holiday season!
URL:https://thesensoryvillage.com/event/closed-2/
END:VEVENT
BEGIN:VEVENT
DTSTART;VALUE=DATE:20251225
DTEND;VALUE=DATE:20251226
DTSTAMP:20260425T130617
CREATED:20251128T153242Z
LAST-MODIFIED:20251128T153242Z
UID:1820-1766620800-1766707199@thesensoryvillage.com
SUMMARY:Closed
DESCRIPTION:We will be closed on Christmas Eve and Christmas Day. Wishing you a joyful holiday season!
URL:https://thesensoryvillage.com/event/closed-3/
END:VEVENT
BEGIN:VEVENT
DTSTART;TZID=UTC:20251226T090000
DTEND;TZID=UTC:20251226T160000
DTSTAMP:20260425T130617
CREATED:20251128T153408Z
LAST-MODIFIED:20251128T153408Z
UID:1822-1766739600-1766764800@thesensoryvillage.com
SUMMARY:Open Play 9:00 am - 4:00 pm
DESCRIPTION:All ticket sales are handled on-site. Stop by The Sensory Village to purchase your play session passes and join in the fun!
URL:https://thesensoryvillage.com/event/open-play-900-am-400-pm-8/
END:VEVENT
BEGIN:VEVENT
DTSTART;TZID=UTC:20251227T100000
DTEND;TZID=UTC:20251227T170000
DTSTAMP:20260425T130617
CREATED:20251128T153449Z
LAST-MODIFIED:20251128T153449Z
UID:1824-1766829600-1766854800@thesensoryvillage.com
SUMMARY:Open Play 10:00 am - 5:00 pm
DESCRIPTION:All ticket sales are handled on-site. Stop by The Sensory Village to purchase your play session passes and join in the fun!
URL:https://thesensoryvillage.com/event/open-play-1000-am-500-pm-2/
END:VEVENT
BEGIN:VEVENT
DTSTART;TZID=UTC:20251228T120000
DTEND;TZID=UTC:20251228T150000
DTSTAMP:20260425T130617
CREATED:20251128T153537Z
LAST-MODIFIED:20251128T153537Z
UID:1826-1766923200-1766934000@thesensoryvillage.com
SUMMARY:Open Play 12:00 - 3:00 pm
DESCRIPTION:All ticket sales are handled on-site. Stop by The Sensory Village to purchase your play session passes and join in the fun!
URL:https://thesensoryvillage.com/event/open-play-1200-300-pm/
END:VEVENT
END:VCALENDAR