BEGIN:VCALENDAR
VERSION:2.0
PRODID:-//The Sensory Village - ECPv6.15.11//NONSGML v1.0//EN
CALSCALE:GREGORIAN
METHOD:PUBLISH
X-WR-CALNAME:The Sensory Village
X-ORIGINAL-URL:https://thesensoryvillage.com
X-WR-CALDESC:Events for The Sensory Village
REFRESH-INTERVAL;VALUE=DURATION:PT1H
X-Robots-Tag:noindex
X-PUBLISHED-TTL:PT1H
BEGIN:VTIMEZONE
TZID:UTC
BEGIN:STANDARD
TZOFFSETFROM:+0000
TZOFFSETTO:+0000
TZNAME:UTC
DTSTART:20250101T000000
END:STANDARD
END:VTIMEZONE
BEGIN:VEVENT
DTSTART;TZID=UTC:20260502T090000
DTEND;TZID=UTC:20260502T130000
DTSTAMP:20260425T042529
CREATED:20260422T135713Z
LAST-MODIFIED:20260422T135713Z
UID:2907-1777712400-1777726800@thesensoryvillage.com
SUMMARY:Open Play - 9 AM to 1 PM
DESCRIPTION:All ticket sales are handled on-site. Stop by The Sensory Village to purchase your play session passes and join in the fun!
URL:https://thesensoryvillage.com/event/open-play-9-am-to-1-pm-2/
END:VEVENT
BEGIN:VEVENT
DTSTART;TZID=UTC:20260502T130000
DTEND;TZID=UTC:20260502T150000
DTSTAMP:20260425T042529
CREATED:20260321T131642Z
LAST-MODIFIED:20260422T135236Z
UID:2708-1777726800-1777734000@thesensoryvillage.com
SUMMARY:Birthday Party 1:00 - 3:00 pm
DESCRIPTION:Happy Birthday! Please note the play area will be closed during this time for the group to celebrate!
URL:https://thesensoryvillage.com/event/birthday-party-100-230-pm-3/
END:VEVENT
BEGIN:VEVENT
DTSTART;TZID=UTC:20260502T153000
DTEND;TZID=UTC:20260502T170000
DTSTAMP:20260425T042529
CREATED:20260414T143951Z
LAST-MODIFIED:20260414T143951Z
UID:2873-1777735800-1777741200@thesensoryvillage.com
SUMMARY:Birthday Party 3:30 - 5:00 pm
DESCRIPTION:Happy Birthday! Please note the play area will be closed during this time for the group to celebrate!
URL:https://thesensoryvillage.com/event/birthday-party-330-500-pm-5/
END:VEVENT
END:VCALENDAR