BEGIN:VCALENDAR
VERSION:2.0
PRODID:-//The Sensory Village - ECPv6.15.11//NONSGML v1.0//EN
CALSCALE:GREGORIAN
METHOD:PUBLISH
X-WR-CALNAME:The Sensory Village
X-ORIGINAL-URL:https://thesensoryvillage.com
X-WR-CALDESC:Events for The Sensory Village
REFRESH-INTERVAL;VALUE=DURATION:PT1H
X-Robots-Tag:noindex
X-PUBLISHED-TTL:PT1H
BEGIN:VTIMEZONE
TZID:UTC
BEGIN:STANDARD
TZOFFSETFROM:+0000
TZOFFSETTO:+0000
TZNAME:UTC
DTSTART:20250101T000000
END:STANDARD
END:VTIMEZONE
BEGIN:VEVENT
DTSTART;TZID=UTC:20260427T090000
DTEND;TZID=UTC:20260427T150000
DTSTAMP:20260425T042530
CREATED:20260401T135354Z
LAST-MODIFIED:20260401T135354Z
UID:2820-1777280400-1777302000@thesensoryvillage.com
SUMMARY:Open Play - 9 AM to 3 PM
DESCRIPTION:All ticket sales are handled on-site. Stop by The Sensory Village to purchase your play session passes and join in the fun!
URL:https://thesensoryvillage.com/event/open-play-9-am-to-3-pm-14/
END:VEVENT
BEGIN:VEVENT
DTSTART;TZID=UTC:20260427T100000
DTEND;TZID=UTC:20260427T110000
DTSTAMP:20260425T042530
CREATED:20260316T180927Z
LAST-MODIFIED:20260316T181051Z
UID:2679-1777284000-1777287600@thesensoryvillage.com
SUMMARY:Ms Rachel's Sensory Hour - 10 AM to 11 AM
DESCRIPTION:Experience bubbles\, giggles\, sensory play\, and endless fun during Sensory Hour with Ms. Rachel at The Sensory Village—all included with your sensory play purchase!
URL:https://thesensoryvillage.com/event/ms-raches-sensory-hour-10-am-to-11-am/
END:VEVENT
END:VCALENDAR