BEGIN:VCALENDAR
VERSION:2.0
PRODID:-//The Sensory Village - ECPv6.15.11//NONSGML v1.0//EN
CALSCALE:GREGORIAN
METHOD:PUBLISH
X-WR-CALNAME:The Sensory Village
X-ORIGINAL-URL:https://thesensoryvillage.com
X-WR-CALDESC:Events for The Sensory Village
REFRESH-INTERVAL;VALUE=DURATION:PT1H
X-Robots-Tag:noindex
X-PUBLISHED-TTL:PT1H
BEGIN:VTIMEZONE
TZID:UTC
BEGIN:STANDARD
TZOFFSETFROM:+0000
TZOFFSETTO:+0000
TZNAME:UTC
DTSTART:20250101T000000
END:STANDARD
END:VTIMEZONE
BEGIN:VEVENT
DTSTART;TZID=UTC:20260416T090000
DTEND;TZID=UTC:20260416T200000
DTSTAMP:20260425T042531
CREATED:20260401T134504Z
LAST-MODIFIED:20260401T134504Z
UID:2798-1776330000-1776369600@thesensoryvillage.com
SUMMARY:Open Play - 9 AM to 8 PM
DESCRIPTION:All ticket sales are handled on-site. Stop by The Sensory Village to purchase your play session passes and join in the fun!
URL:https://thesensoryvillage.com/event/open-play-9-am-to-8-pm-4/
END:VEVENT
BEGIN:VEVENT
DTSTART;TZID=UTC:20260416T100000
DTEND;TZID=UTC:20260416T120000
DTSTAMP:20260425T042531
CREATED:20260316T183044Z
LAST-MODIFIED:20260316T183044Z
UID:2689-1776333600-1776340800@thesensoryvillage.com
SUMMARY:Glow Party - 10 AM to 12 PM
DESCRIPTION:Enjoy two hours of glow party sensory play—with the main lights off\, special glow lighting on\, and upbeat music—all included with your regular sensory play pass!
URL:https://thesensoryvillage.com/event/glow-party-10-am-to-12-pm-3/
END:VEVENT
BEGIN:VEVENT
DTSTART;TZID=UTC:20260416T180000
DTEND;TZID=UTC:20260416T190000
DTSTAMP:20260425T042531
CREATED:20260401T140101Z
LAST-MODIFIED:20260401T140101Z
UID:2828-1776362400-1776366000@thesensoryvillage.com
SUMMARY:Table Talk: Feeding Support Group - 6 PM to 7 PM
DESCRIPTION:Join us for Table Talk: Support for Feeding Challenges\, a parent support group led by the founder of Play to Plate. This welcoming group provides a space for parents to share experiences\, gain expert advice\, and connect with others facing similar challenges around feeding. While parents participate in the group\, children can enjoy supervised sensory play in the Village\, giving everyone the chance to learn\, connect\, and grow together. \nReserve your spot today by emailing us at thesensoryvillage@gmail.com or visiting https://thesensoryvillage.com/class-booking-form/
URL:https://thesensoryvillage.com/event/table-talk-feeding-support-group-6-pm-to-7-pm/
END:VEVENT
END:VCALENDAR