BEGIN:VCALENDAR
VERSION:2.0
PRODID:-//The Sensory Village - ECPv6.15.11//NONSGML v1.0//EN
CALSCALE:GREGORIAN
METHOD:PUBLISH
X-WR-CALNAME:The Sensory Village
X-ORIGINAL-URL:https://thesensoryvillage.com
X-WR-CALDESC:Events for The Sensory Village
REFRESH-INTERVAL;VALUE=DURATION:PT1H
X-Robots-Tag:noindex
X-PUBLISHED-TTL:PT1H
BEGIN:VTIMEZONE
TZID:UTC
BEGIN:STANDARD
TZOFFSETFROM:+0000
TZOFFSETTO:+0000
TZNAME:UTC
DTSTART:20240101T000000
END:STANDARD
END:VTIMEZONE
BEGIN:VEVENT
DTSTART;TZID=UTC:20251206T100000
DTEND;TZID=UTC:20251206T113000
DTSTAMP:20260425T111321
CREATED:20250911T180323Z
LAST-MODIFIED:20251129T160227Z
UID:1106-1765015200-1765020600@thesensoryvillage.com
SUMMARY:Stella's Birthday 10:00 - 11:30 am
DESCRIPTION:Happy 4th Birthday Stella! Please note the play area will be closed during this time for Stella and her group to celebrate!
URL:https://thesensoryvillage.com/event/stellas-birthday-1000-1130-am/
END:VEVENT
BEGIN:VEVENT
DTSTART;TZID=UTC:20251206T113000
DTEND;TZID=UTC:20251206T153000
DTSTAMP:20260425T111321
CREATED:20251125T164520Z
LAST-MODIFIED:20251125T164520Z
UID:1755-1765020600-1765035000@thesensoryvillage.com
SUMMARY:Open Play 11:30 am - 3:30 pm
DESCRIPTION:All ticket sales are handled on-site. Stop by The Sensory Village to purchase your play session passes and join in the fun!
URL:https://thesensoryvillage.com/event/open-play-1130-am-330-pm/
END:VEVENT
BEGIN:VEVENT
DTSTART;TZID=UTC:20251206T153000
DTEND;TZID=UTC:20251206T170000
DTSTAMP:20260425T111321
CREATED:20250927T181102Z
LAST-MODIFIED:20251204T234439Z
UID:1222-1765035000-1765040400@thesensoryvillage.com
SUMMARY:JJ's Birthday 3:30 - 5:00 pm
DESCRIPTION:Happy Birthday JJ! Please note the play area will be closed during this time for JJ and his group to celebrate!
URL:https://thesensoryvillage.com/event/jjs-birthday/
END:VEVENT
END:VCALENDAR