BEGIN:VCALENDAR
VERSION:2.0
PRODID:-//The Sensory Village - ECPv6.15.11//NONSGML v1.0//EN
CALSCALE:GREGORIAN
METHOD:PUBLISH
X-WR-CALNAME:The Sensory Village
X-ORIGINAL-URL:https://thesensoryvillage.com
X-WR-CALDESC:Events for The Sensory Village
REFRESH-INTERVAL;VALUE=DURATION:PT1H
X-Robots-Tag:noindex
X-PUBLISHED-TTL:PT1H
BEGIN:VTIMEZONE
TZID:UTC
BEGIN:STANDARD
TZOFFSETFROM:+0000
TZOFFSETTO:+0000
TZNAME:UTC
DTSTART:20240101T000000
END:STANDARD
END:VTIMEZONE
BEGIN:VEVENT
DTSTART;TZID=UTC:20251110T090000
DTEND;TZID=UTC:20251110T160000
DTSTAMP:20260425T145348
CREATED:20251101T173448Z
LAST-MODIFIED:20251108T152036Z
UID:1548-1762765200-1762790400@thesensoryvillage.com
SUMMARY:Open Play 9:00 am - 4:00 pm
DESCRIPTION:All ticket sales are handled on-site. Stop by The Sensory Village to purchase your play session passes and join in the fun!
URL:https://thesensoryvillage.com/event/open-play-900-am-600-pm/
END:VEVENT
BEGIN:VEVENT
DTSTART;TZID=UTC:20251110T190000
DTEND;TZID=UTC:20251110T200000
DTSTAMP:20260425T145348
CREATED:20251026T184049Z
LAST-MODIFIED:20251109T180452Z
UID:1436-1762801200-1762804800@thesensoryvillage.com
SUMMARY:Meditation for Adults (Sold out)
DESCRIPTION:Hi\, I’m Amy Musto — a mom\, nurse\, and holistic wellness guide with over 30 years of experience helping others find balance and calm in the midst of busy lives. As a Registered Nurse (MSN\, RN) and Hatha Yoga teacher trained by the Himalayan Institute\, I blend my background with the power of yoga and mindfulness. I bring a grounded\, compassionate approach to wellness that supports parents in nurturing both themselves and their families. My mission is to help everyone reconnect to peace\, presence\, and vitality—so they can show up fully for the little ones who need them most. \nA 60-minute meditation class begins with gentle movement\, breath-work\, and grounding exercises to prepare the body and quiet the mind. From there\, we move into deep relaxation and conclude with a guided meditation designed to restore balance and inner calm. \nTickets: This event is SOLD OUT
URL:https://thesensoryvillage.com/event/meditation-for-adults-700-800-pm/
END:VEVENT
END:VCALENDAR