BEGIN:VCALENDAR
VERSION:2.0
PRODID:-//The Sensory Village - ECPv6.15.11//NONSGML v1.0//EN
CALSCALE:GREGORIAN
METHOD:PUBLISH
X-WR-CALNAME:The Sensory Village
X-ORIGINAL-URL:https://thesensoryvillage.com
X-WR-CALDESC:Events for The Sensory Village
REFRESH-INTERVAL;VALUE=DURATION:PT1H
X-Robots-Tag:noindex
X-PUBLISHED-TTL:PT1H
BEGIN:VTIMEZONE
TZID:UTC
BEGIN:STANDARD
TZOFFSETFROM:+0000
TZOFFSETTO:+0000
TZNAME:UTC
DTSTART:20240101T000000
END:STANDARD
END:VTIMEZONE
BEGIN:VEVENT
DTSTART;TZID=UTC:20251106T090000
DTEND;TZID=UTC:20251106T180000
DTSTAMP:20260425T130428
CREATED:20251021T225116Z
LAST-MODIFIED:20251101T160905Z
UID:1398-1762419600-1762452000@thesensoryvillage.com
SUMMARY:Open Play 9:00 am - 6:00 pm
DESCRIPTION:All ticket sales are handled on-site. Stop by The Sensory Village to purchase your play session passes and join in the fun!
URL:https://thesensoryvillage.com/event/open-play-39/
END:VEVENT
BEGIN:VEVENT
DTSTART;TZID=UTC:20251106T180000
DTEND;TZID=UTC:20251106T190000
DTSTAMP:20260425T130428
CREATED:20251031T182827Z
LAST-MODIFIED:20251101T155403Z
UID:1526-1762452000-1762455600@thesensoryvillage.com
SUMMARY:Ivy Rehab Q & A 6:00 - 7:00 pm
DESCRIPTION:Join the team from Ivy Rehab for Kids for an open Q&A session designed to support families and caregivers. Learn more about how physical\, occupational\, and speech therapy can help children play\, feel great\, and reach their full potential. Ivy Rehab for Kids provides individualized\, compassionate care — and their experienced team will be here to answer your questions and share helpful insights for families navigating therapy services. \nTickets are $30 and include access to the play area for an accompanying child. \nReserve your spot here: https://thesensoryvillage.com/class-booking-form/ \nPlease note: The reservation window closes at 8:00 AM on November 6th. Be sure to secure your spot early to guarantee availability!
URL:https://thesensoryvillage.com/event/ivy-rehab-q-a-600-700-pm/
END:VEVENT
END:VCALENDAR