BEGIN:VCALENDAR
VERSION:2.0
PRODID:-//The Sensory Village - ECPv6.15.11//NONSGML v1.0//EN
CALSCALE:GREGORIAN
METHOD:PUBLISH
X-ORIGINAL-URL:https://thesensoryvillage.com
X-WR-CALDESC:Events for The Sensory Village
REFRESH-INTERVAL;VALUE=DURATION:PT1H
X-Robots-Tag:noindex
X-PUBLISHED-TTL:PT1H
BEGIN:VTIMEZONE
TZID:UTC
BEGIN:STANDARD
TZOFFSETFROM:+0000
TZOFFSETTO:+0000
TZNAME:UTC
DTSTART:20240101T000000
END:STANDARD
END:VTIMEZONE
BEGIN:VEVENT
DTSTART;TZID=UTC:20250925T180000
DTEND;TZID=UTC:20250925T190000
DTSTAMP:20260425T182556
CREATED:20250813T130959Z
LAST-MODIFIED:20250912T180312Z
UID:607-1758823200-1758826800@thesensoryvillage.com
SUMMARY:Q & A with Child Play 6:00 - 7:00 pm
DESCRIPTION:Sit down with the owners for an open conversation—ask questions\, share thoughts\, and learn more about The Sensory Village\nWhile you chat\, kiddos can enjoy the sensory play area with supervised care provided. Tickets: $25
URL:https://thesensoryvillage.com/event/q-a-with-child-play/
END:VEVENT
BEGIN:VEVENT
DTSTART;TZID=UTC:20250925T190000
DTEND;TZID=UTC:20250925T200000
DTSTAMP:20260425T182556
CREATED:20250813T131033Z
LAST-MODIFIED:20250912T180630Z
UID:609-1758826800-1758830400@thesensoryvillage.com
SUMMARY:Sensory & Sip Adult Night 7:00 - 8:00 pm
DESCRIPTION:A special evening just for grown-ups to relax\, unwind\, and enjoy the sensory fun. Bring your favorite drink and let yourself play—yes\, even dip your toes in the sand! Tickets: $25
URL:https://thesensoryvillage.com/event/sensory-sip-adult-night/
END:VEVENT
END:VCALENDAR