BEGIN:VCALENDAR
VERSION:2.0
PRODID:-//The Sensory Village - ECPv6.15.11//NONSGML v1.0//EN
CALSCALE:GREGORIAN
METHOD:PUBLISH
X-ORIGINAL-URL:https://thesensoryvillage.com
X-WR-CALDESC:Events for The Sensory Village
REFRESH-INTERVAL;VALUE=DURATION:PT1H
X-Robots-Tag:noindex
X-PUBLISHED-TTL:PT1H
BEGIN:VTIMEZONE
TZID:UTC
BEGIN:STANDARD
TZOFFSETFROM:+0000
TZOFFSETTO:+0000
TZNAME:UTC
DTSTART:20240101T000000
END:STANDARD
END:VTIMEZONE
BEGIN:VEVENT
DTSTART;TZID=UTC:20250920T140000
DTEND;TZID=UTC:20250920T153000
DTSTAMP:20260425T182556
CREATED:20250813T130903Z
LAST-MODIFIED:20250912T180119Z
UID:605-1758376800-1758382200@thesensoryvillage.com
SUMMARY:Hunter's Birthday 2:00 - 3:30 pm
DESCRIPTION:Happy 2nd Birthday Hunter! Please note the play area will be closed during this time for Hunter and his group to celebrate!
URL:https://thesensoryvillage.com/event/hunters-birthday/
END:VEVENT
END:VCALENDAR