BEGIN:VCALENDAR
VERSION:2.0
PRODID:-//The Sensory Village - ECPv6.15.11//NONSGML v1.0//EN
CALSCALE:GREGORIAN
METHOD:PUBLISH
X-WR-CALNAME:The Sensory Village
X-ORIGINAL-URL:https://thesensoryvillage.com
X-WR-CALDESC:Events for The Sensory Village
REFRESH-INTERVAL;VALUE=DURATION:PT1H
X-Robots-Tag:noindex
X-PUBLISHED-TTL:PT1H
BEGIN:VTIMEZONE
TZID:UTC
BEGIN:STANDARD
TZOFFSETFROM:+0000
TZOFFSETTO:+0000
TZNAME:UTC
DTSTART:20240101T000000
END:STANDARD
END:VTIMEZONE
BEGIN:VEVENT
DTSTART;TZID=UTC:20250915T180000
DTEND;TZID=UTC:20250915T190000
DTSTAMP:20260425T182524
CREATED:20250813T130737Z
LAST-MODIFIED:20250912T160914Z
UID:603-1757959200-1757962800@thesensoryvillage.com
SUMMARY:Art with Julianne 6:00 - 7:00 pm
DESCRIPTION:Kids will have a blast creating their very own slime—stretch it\, squish it\, and take it home to enjoy! \nClass fee: $25\nMaterial fee: $5
URL:https://thesensoryvillage.com/event/art-with-julianne/
END:VEVENT
BEGIN:VEVENT
DTSTART;TZID=UTC:20250915T190000
DTEND;TZID=UTC:20250915T200000
DTSTAMP:20260425T182524
CREATED:20250825T184250Z
LAST-MODIFIED:20250912T175423Z
UID:796-1757962800-1757966400@thesensoryvillage.com
SUMMARY:Teen Time 7:00 - 8:00 pm
DESCRIPTION:A designated time just for the older kiddos!\nAges 12 – 18 \nTickets: $25 per child
URL:https://thesensoryvillage.com/event/teen-night/
END:VEVENT
END:VCALENDAR