BEGIN:VCALENDAR
VERSION:2.0
PRODID:-//The Sensory Village - ECPv6.15.11//NONSGML v1.0//EN
CALSCALE:GREGORIAN
METHOD:PUBLISH
X-ORIGINAL-URL:https://thesensoryvillage.com
X-WR-CALDESC:Events for The Sensory Village
REFRESH-INTERVAL;VALUE=DURATION:PT1H
X-Robots-Tag:noindex
X-PUBLISHED-TTL:PT1H
BEGIN:VTIMEZONE
TZID:UTC
BEGIN:STANDARD
TZOFFSETFROM:+0000
TZOFFSETTO:+0000
TZNAME:UTC
DTSTART:20240101T000000
END:STANDARD
END:VTIMEZONE
BEGIN:VEVENT
DTSTART;TZID=UTC:20250906T094500
DTEND;TZID=UTC:20250906T100000
DTSTAMP:20260425T182556
CREATED:20250813T130017Z
LAST-MODIFIED:20250830T203916Z
UID:599-1757151900-1757152800@thesensoryvillage.com
SUMMARY:Ribbon Cutting Ceremony 9:45 am
DESCRIPTION:Join us on Opening Day! Be part of our official ribbon cutting ceremony. Please note: tickets are required to enjoy the play space starting at 10:00 am.
URL:https://thesensoryvillage.com/event/ribbon-cutting-ceremony/
END:VEVENT
END:VCALENDAR